BEGIN:VCALENDAR
VERSION:2.0
PRODID:-//Swing Dance Events Switzerland - ECPv6.15.20//NONSGML v1.0//EN
CALSCALE:GREGORIAN
METHOD:PUBLISH
X-WR-CALNAME:Swing Dance Events Switzerland
X-ORIGINAL-URL:https://swingdanceevents.ch
X-WR-CALDESC:Veranstaltungen für Swing Dance Events Switzerland
REFRESH-INTERVAL;VALUE=DURATION:PT1H
X-Robots-Tag:noindex
X-PUBLISHED-TTL:PT1H
BEGIN:VTIMEZONE
TZID:Europe/Zurich
BEGIN:DAYLIGHT
TZOFFSETFROM:+0100
TZOFFSETTO:+0200
TZNAME:CEST
DTSTART:20240331T010000
END:DAYLIGHT
BEGIN:STANDARD
TZOFFSETFROM:+0200
TZOFFSETTO:+0100
TZNAME:CET
DTSTART:20241027T010000
END:STANDARD
BEGIN:DAYLIGHT
TZOFFSETFROM:+0100
TZOFFSETTO:+0200
TZNAME:CEST
DTSTART:20250330T010000
END:DAYLIGHT
BEGIN:STANDARD
TZOFFSETFROM:+0200
TZOFFSETTO:+0100
TZNAME:CET
DTSTART:20251026T010000
END:STANDARD
BEGIN:DAYLIGHT
TZOFFSETFROM:+0100
TZOFFSETTO:+0200
TZNAME:CEST
DTSTART:20260329T010000
END:DAYLIGHT
BEGIN:STANDARD
TZOFFSETFROM:+0200
TZOFFSETTO:+0100
TZNAME:CET
DTSTART:20261025T010000
END:STANDARD
END:VTIMEZONE
BEGIN:VEVENT
DTSTART;TZID=Europe/Zurich:20250509T201500
DTEND;TZID=Europe/Zurich:20250509T201500
DTSTAMP:20260425T044628
CREATED:20241219T134741Z
LAST-MODIFIED:20241220T024703Z
UID:10002390-1746821700-1746821700@swingdanceevents.ch
SUMMARY:Social Dance – Live Band – Free Crash Course – 9.5
DESCRIPTION:Social Dance with a live band and a free crash course by Ella’s Fellas \nIt doesn’t matter if you’ve been dancing for a month or have never tried Lindy Hop before – everyone is welcome! Social dance is a space where you can try new things\, meet people\, dance comfortably or wildly\, watch\, listen\, or simply spend time with your friends. We’re excited to have you with us! \nEvent Details \n\nFree Crash Course: 20:15 – 20:45\nDoors Open: 20:45\nEntrance with Live Band: 20.- / 10.- (reduced)\n\nImportant \n\nIf it’s your first time with us\, please register as an association member. Registration is one-time\, free of charge\, and without obligations.\nTo ensure everyone feels comfortable\, please follow our Code of Conduct\, which can be found on our website.\n\nWe look forward to dancing with you!
URL:https://swingdanceevents.ch/event/social-dance-live-band-free-crash-course-9-5/
LOCATION:Ella’s Fellas Dance School\, Militärstrasse 84\, Zürich\, ZH\, 8004\, Switzerland
ATTACH;FMTTYPE=image/jpeg:https://swingdanceevents.ch/wp-content/uploads/2024/12/8.jpg
ORGANIZER;CN="Ella's Fellas%2C Milit%C3%A4rstrasse 84%2C 8004 Z%C3%BCrich":MAILTO:info@ellasfellas.ch
END:VEVENT
END:VCALENDAR