BEGIN:VCALENDAR
VERSION:2.0
PRODID:-//Swing Dance Events Switzerland - ECPv6.15.20//NONSGML v1.0//EN
CALSCALE:GREGORIAN
METHOD:PUBLISH
X-WR-CALNAME:Swing Dance Events Switzerland
X-ORIGINAL-URL:https://swingdanceevents.ch
X-WR-CALDESC:Veranstaltungen für Swing Dance Events Switzerland
REFRESH-INTERVAL;VALUE=DURATION:PT1H
X-Robots-Tag:noindex
X-PUBLISHED-TTL:PT1H
BEGIN:VTIMEZONE
TZID:Europe/Zurich
BEGIN:DAYLIGHT
TZOFFSETFROM:+0100
TZOFFSETTO:+0200
TZNAME:CEST
DTSTART:20240331T010000
END:DAYLIGHT
BEGIN:STANDARD
TZOFFSETFROM:+0200
TZOFFSETTO:+0100
TZNAME:CET
DTSTART:20241027T010000
END:STANDARD
BEGIN:DAYLIGHT
TZOFFSETFROM:+0100
TZOFFSETTO:+0200
TZNAME:CEST
DTSTART:20250330T010000
END:DAYLIGHT
BEGIN:STANDARD
TZOFFSETFROM:+0200
TZOFFSETTO:+0100
TZNAME:CET
DTSTART:20251026T010000
END:STANDARD
BEGIN:DAYLIGHT
TZOFFSETFROM:+0100
TZOFFSETTO:+0200
TZNAME:CEST
DTSTART:20260329T010000
END:DAYLIGHT
BEGIN:STANDARD
TZOFFSETFROM:+0200
TZOFFSETTO:+0100
TZNAME:CET
DTSTART:20261025T010000
END:STANDARD
END:VTIMEZONE
BEGIN:VEVENT
DTSTART;TZID=Europe/Zurich:20250512T193000
DTEND;TZID=Europe/Zurich:20250512T230000
DTSTAMP:20260425T140547
CREATED:20250309T220828Z
LAST-MODIFIED:20250512T181941Z
UID:10002611-1747078200-1747090800@swingdanceevents.ch
SUMMARY:CANCELED Hafen Enge Beiz THE MONDAY SWING feat Valerio Live Jazz für Swingtänzer
DESCRIPTION:Monday Swing NEW LOCATION on the 12th of May: Hafen Enge Beiz\, CANCELED for 12. May in reason of weather\, we dance at 14. may at Hafen Enge Beiz\, don’t miss it!\n(The Rank Club not available due to lack of staff)\n\n\n\n\n\n\n\n  \n 
URL:https://swingdanceevents.ch/event/speakeasy-the-monday-swing-feat-valerio-live-jazz-fuer-swingtaenzer-im-rank-2/
LOCATION:Hafen Enge Beiz\, Mythenquai 21\, Zürich\, 8002\, Switzerland
CATEGORIES:LiveBand,Party,Socialdance
ATTACH;FMTTYPE=image/png:https://swingdanceevents.ch/wp-content/uploads/2025/03/MondaySwingHafenEnge2-1.png
END:VEVENT
END:VCALENDAR