BEGIN:VCALENDAR
VERSION:2.0
PRODID:-//Swing Dance Events Switzerland - ECPv6.15.20//NONSGML v1.0//EN
CALSCALE:GREGORIAN
METHOD:PUBLISH
X-ORIGINAL-URL:https://swingdanceevents.ch
X-WR-CALDESC:Veranstaltungen für Swing Dance Events Switzerland
REFRESH-INTERVAL;VALUE=DURATION:PT1H
X-Robots-Tag:noindex
X-PUBLISHED-TTL:PT1H
BEGIN:VTIMEZONE
TZID:Europe/Zurich
BEGIN:DAYLIGHT
TZOFFSETFROM:+0100
TZOFFSETTO:+0200
TZNAME:CEST
DTSTART:20240331T010000
END:DAYLIGHT
BEGIN:STANDARD
TZOFFSETFROM:+0200
TZOFFSETTO:+0100
TZNAME:CET
DTSTART:20241027T010000
END:STANDARD
BEGIN:DAYLIGHT
TZOFFSETFROM:+0100
TZOFFSETTO:+0200
TZNAME:CEST
DTSTART:20250330T010000
END:DAYLIGHT
BEGIN:STANDARD
TZOFFSETFROM:+0200
TZOFFSETTO:+0100
TZNAME:CET
DTSTART:20251026T010000
END:STANDARD
BEGIN:DAYLIGHT
TZOFFSETFROM:+0100
TZOFFSETTO:+0200
TZNAME:CEST
DTSTART:20260329T010000
END:DAYLIGHT
BEGIN:STANDARD
TZOFFSETFROM:+0200
TZOFFSETTO:+0100
TZNAME:CET
DTSTART:20261025T010000
END:STANDARD
END:VTIMEZONE
BEGIN:VEVENT
DTSTART;TZID=Europe/Zurich:20250513T193000
DTEND;TZID=Europe/Zurich:20250513T233000
DTSTAMP:20260425T061213
CREATED:20250429T152953Z
LAST-MODIFIED:20250513T112121Z
UID:10002630-1747164600-1747179000@swingdanceevents.ch
SUMMARY:El Boge Swing LIVE THE SHEIKS Social Dance & Class
DESCRIPTION:The Tuesday El Boge Swing Social this week with a live band. THE SHEIKS be back at El Boge to rock the party8:15 p.m. – 11:30 p.m. Social dance with THE SHEIKS & DJ7:30 p.m. – 8:15 p.m. Lindy 1 walk in class with Julio (just walk in\, no partner necessary)Sorry\, no free Lindy Crash Course\, we start at 7:30  with class\nParty CHF 25.- \, CHF20.- legi and class participantsClass CHF 20.-
URL:https://swingdanceevents.ch/event/el-boge-swing-live-the-sheiks-social-dance-class/
LOCATION:El Social\, Viaduktstrasse 64\, Zürich\, ZH\, 8005\, Switzerland
CATEGORIES:Class,Crashcourse,DJ,LiveBand,Party,Socialdance
ATTACH;FMTTYPE=image/jpeg:https://swingdanceevents.ch/wp-content/uploads/2024/02/Sheiks-am-Buskers1-scaled.jpg
END:VEVENT
END:VCALENDAR