BEGIN:VCALENDAR
VERSION:2.0
PRODID:-//Swing Dance Events Switzerland - ECPv6.15.20//NONSGML v1.0//EN
CALSCALE:GREGORIAN
METHOD:PUBLISH
X-WR-CALNAME:Swing Dance Events Switzerland
X-ORIGINAL-URL:https://swingdanceevents.ch
X-WR-CALDESC:Veranstaltungen für Swing Dance Events Switzerland
REFRESH-INTERVAL;VALUE=DURATION:PT1H
X-Robots-Tag:noindex
X-PUBLISHED-TTL:PT1H
BEGIN:VTIMEZONE
TZID:Europe/Zurich
BEGIN:DAYLIGHT
TZOFFSETFROM:+0100
TZOFFSETTO:+0200
TZNAME:CEST
DTSTART:20240331T010000
END:DAYLIGHT
BEGIN:STANDARD
TZOFFSETFROM:+0200
TZOFFSETTO:+0100
TZNAME:CET
DTSTART:20241027T010000
END:STANDARD
BEGIN:DAYLIGHT
TZOFFSETFROM:+0100
TZOFFSETTO:+0200
TZNAME:CEST
DTSTART:20250330T010000
END:DAYLIGHT
BEGIN:STANDARD
TZOFFSETFROM:+0200
TZOFFSETTO:+0100
TZNAME:CET
DTSTART:20251026T010000
END:STANDARD
BEGIN:DAYLIGHT
TZOFFSETFROM:+0100
TZOFFSETTO:+0200
TZNAME:CEST
DTSTART:20260329T010000
END:DAYLIGHT
BEGIN:STANDARD
TZOFFSETFROM:+0200
TZOFFSETTO:+0100
TZNAME:CET
DTSTART:20261025T010000
END:STANDARD
END:VTIMEZONE
BEGIN:VEVENT
DTSTART;TZID=Europe/Zurich:20250516T190000
DTEND;TZID=Europe/Zurich:20250517T010000
DTSTAMP:20260425T013933
CREATED:20250322T185035Z
LAST-MODIFIED:20250322T185035Z
UID:10002616-1747422000-1747443600@swingdanceevents.ch
SUMMARY:Swing Soirée am Tanzfest
DESCRIPTION:19 Uhr: Türöffnung \n19:30 – 20:30 Uhr: Lindy Hop Crashkurs mit Harry und Partner \nAb 20:30 Uhr: Livekonzert mit Coniglio Connection und Performance von den Showbugs. Dazwischen legt DJ Harry Tanzmusik mit tollen Swing Tunes auf. \nEintritt: Der Besuch der Swing Soirée kostet CHF 15 (Abendkasse). \nDer schweizweite Tanzfestpass von CHF 25 erlaubt den Zugang zu allen Kursen und Veranstaltungen der Beteiligten in der ganzen Schweiz. Das Tanzfest St.Gallen ist für alle unter 16 Jahren gratis zugänglich.
URL:https://swingdanceevents.ch/event/swing-soiree-am-tanzfest/
LOCATION:Offene Kirche\, Böcklinstrasse 2\, St. Gallen\, 9000\, Switzerland
CATEGORIES:Crashcourse,DJ,LiveBand,Party,Show,Socialdance,Teaster
ATTACH;FMTTYPE=image/png:https://swingdanceevents.ch/wp-content/uploads/2025/03/SwingSoiree-11.png
END:VEVENT
BEGIN:VEVENT
DTSTART;TZID=Europe/Zurich:20250516T193000
DTEND;TZID=Europe/Zurich:20250517T020000
DTSTAMP:20260425T013933
CREATED:20250106T200153Z
LAST-MODIFIED:20250305T202547Z
UID:10002430-1747423800-1747447200@swingdanceevents.ch
SUMMARY:Altstadt Swing
DESCRIPTION:Die Linda Kyei Swing Combo aus Stuttgart vereint hochkarätige Musiker der jungen Swingszene und begeistert mit ihrem charmanten\, nostalgischen Jazz-Sound. In variierenden Formationen rund um die Sängerin Linda Kyei zelebrieren sie den warmen\, lockeren Klang der Swing-Ära und stehen für genussvolle\, elegante Abende voller musikalischer Nostalgie.\nWir freuen uns sehr\, die Combo zum allerersten Mal bei uns am Altstadt-Swing erleben zu dürfen – ihrem Sound lauschen und\ndazu tanzen!
URL:https://swingdanceevents.ch/event/altstadt-swing-9/
LOCATION:Alte Kaserne Winterthur\, Technikumstrasse 8\, Winterthur\, Switzerland
CATEGORIES:Crashcourse,DJ,LiveBand,Party
ATTACH;FMTTYPE=image/png:https://swingdanceevents.ch/wp-content/uploads/2025/01/250516_AltstadtSwing_1080x1350px.png
ORGANIZER;CN="Swingscouts%2C Winterthur":MAILTO:info@swingscouts.ch
END:VEVENT
END:VCALENDAR