BEGIN:VCALENDAR
VERSION:2.0
PRODID:-//Swing Dance Events Switzerland - ECPv6.15.20//NONSGML v1.0//EN
CALSCALE:GREGORIAN
METHOD:PUBLISH
X-ORIGINAL-URL:https://swingdanceevents.ch
X-WR-CALDESC:Veranstaltungen für Swing Dance Events Switzerland
REFRESH-INTERVAL;VALUE=DURATION:PT1H
X-Robots-Tag:noindex
X-PUBLISHED-TTL:PT1H
BEGIN:VTIMEZONE
TZID:Europe/Zurich
BEGIN:DAYLIGHT
TZOFFSETFROM:+0100
TZOFFSETTO:+0200
TZNAME:CEST
DTSTART:20240331T010000
END:DAYLIGHT
BEGIN:STANDARD
TZOFFSETFROM:+0200
TZOFFSETTO:+0100
TZNAME:CET
DTSTART:20241027T010000
END:STANDARD
BEGIN:DAYLIGHT
TZOFFSETFROM:+0100
TZOFFSETTO:+0200
TZNAME:CEST
DTSTART:20250330T010000
END:DAYLIGHT
BEGIN:STANDARD
TZOFFSETFROM:+0200
TZOFFSETTO:+0100
TZNAME:CET
DTSTART:20251026T010000
END:STANDARD
BEGIN:DAYLIGHT
TZOFFSETFROM:+0100
TZOFFSETTO:+0200
TZNAME:CEST
DTSTART:20260329T010000
END:DAYLIGHT
BEGIN:STANDARD
TZOFFSETFROM:+0200
TZOFFSETTO:+0100
TZNAME:CET
DTSTART:20261025T010000
END:STANDARD
END:VTIMEZONE
BEGIN:VEVENT
DTSTART;TZID=Europe/Zurich:20250517T193000
DTEND;TZID=Europe/Zurich:20250518T010000
DTSTAMP:20260425T032059
CREATED:20250415T231029Z
LAST-MODIFIED:20250512T131055Z
UID:10002627-1747510200-1747530000@swingdanceevents.ch
SUMMARY:DOWN TOWN SOCIAL – ZÜRICH TANZT SPECIAL
DESCRIPTION:✨ Geniess die Vibes mit anderen Swing Tänzer*innen! 💃🕺\n\n\n\nFeile an deinen neuesten Moves\, entspann dich zu swingender Tanzmusik 🎶\, lern neue Leute kennen oder gönn dir einen kühlen Drink 🍹 oder quatsch mit deinen Friends. 😎 \n19:30 kostenloser Collegiate Shag Taster\n→ weitere Infos & Anmeldung \n20:30 – 01:00 Social Dancing \nEgal\, ob du gerade erst anfängst oder schon ein*e Profi bist – alle sind herzlich willkommen\, die Freude am Swing Dance zu teilen! 💖 \n🎟️ Eintritt\nCHF 15.00 Regulär\nCHF 10.00 mit Legi\nCHF 5.00 mit ZÜRICH TANZT 2025 Armband \n🙌 Helfer*innen gesucht! \nKomm mit ins Team und hilf beim Aufbau\, der Eintrittskontrolle oder beim Abbau! 🙏 Als Dankeschön gibt’s freien Eintritt und 1 Getränk 🍻 – merci vielmals für deinen Support! 💖 \nHelfer*innen für Down Town Social \n⏰ 1x Kasse/Eintrittskontrolle 1 (20:30–21:30)\n⏰ 1x Kasse/Eintrittskontrolle 2 (21:30–22:30)\n⏰ 1x Kasse/Eintrittskontrolle 3 (22:30–23:30)\n⏰ 1x Kasse/Eintrittskontrolle 4 (23:30–00:30)\n⏰ 3x Abbau (01:00-01:30) \n💥 Link zu den Helfereinsätzen \nVielen Dank für deinen Support! 🙌❤️
URL:https://swingdanceevents.ch/event/down-town-social-zuerich-tanzt-special/
LOCATION:Tanzstudio DOWNTOWNSWING\, Hohlstrasse 86a\, Zürich\, ZH\, 8004\, Switzerland
CATEGORIES:Crashcourse,DJ,Party,Socialdance
ATTACH;FMTTYPE=image/jpeg:https://swingdanceevents.ch/wp-content/uploads/2025/04/20250517-DOWNT-TOWN-SOCIAL-Flyer-A4.jpg
ORGANIZER;CN="Downtownswing":MAILTO:info@downtownswing.ch
END:VEVENT
END:VCALENDAR