BEGIN:VCALENDAR
VERSION:2.0
PRODID:-//Swing Dance Events Switzerland - ECPv6.15.20//NONSGML v1.0//EN
CALSCALE:GREGORIAN
METHOD:PUBLISH
X-WR-CALNAME:Swing Dance Events Switzerland
X-ORIGINAL-URL:https://swingdanceevents.ch
X-WR-CALDESC:Veranstaltungen für Swing Dance Events Switzerland
REFRESH-INTERVAL;VALUE=DURATION:PT1H
X-Robots-Tag:noindex
X-PUBLISHED-TTL:PT1H
BEGIN:VTIMEZONE
TZID:Europe/Zurich
BEGIN:DAYLIGHT
TZOFFSETFROM:+0100
TZOFFSETTO:+0200
TZNAME:CEST
DTSTART:20240331T010000
END:DAYLIGHT
BEGIN:STANDARD
TZOFFSETFROM:+0200
TZOFFSETTO:+0100
TZNAME:CET
DTSTART:20241027T010000
END:STANDARD
BEGIN:DAYLIGHT
TZOFFSETFROM:+0100
TZOFFSETTO:+0200
TZNAME:CEST
DTSTART:20250330T010000
END:DAYLIGHT
BEGIN:STANDARD
TZOFFSETFROM:+0200
TZOFFSETTO:+0100
TZNAME:CET
DTSTART:20251026T010000
END:STANDARD
BEGIN:DAYLIGHT
TZOFFSETFROM:+0100
TZOFFSETTO:+0200
TZNAME:CEST
DTSTART:20260329T010000
END:DAYLIGHT
BEGIN:STANDARD
TZOFFSETFROM:+0200
TZOFFSETTO:+0100
TZNAME:CET
DTSTART:20261025T010000
END:STANDARD
END:VTIMEZONE
BEGIN:VEVENT
DTSTART;VALUE=DATE:20250530
DTEND;VALUE=DATE:20250609
DTSTAMP:20260422T062925
CREATED:20250225T110127Z
LAST-MODIFIED:20250225T110650Z
UID:10002573-1748581200-1749358799@swingdanceevents.ch
SUMMARY:Balboa Week with Bobby & Ursula
DESCRIPTION:Join us for an unforgettable week of Balboa\, Music\, and Connection in the charming city of Bern with Ursula Hicks & Bobby White!  \nEnjoy a full weekend of workshops and parties\, plus evening classes from Monday to Thursday. There is an intermediate and an advanced track on Saturday and Sunday. Each evening class will be dedicated to one level and will be followed by a short training session.\nIt is up to you to decide how many classes you want to take.
URL:https://swingdanceevents.ch/event/balboa-week-with-bobby-ursula/
LOCATION:Bern\, Bern\, Bern\, Switzerland
CATEGORIES:Class,DJ,Festival,Party,Socialdance,Workshop
ATTACH;FMTTYPE=image/jpeg:https://swingdanceevents.ch/wp-content/uploads/2025/02/BAL_Boalboa_WS_Juni_2025_Web.jpg
END:VEVENT
BEGIN:VEVENT
DTSTART;TZID=Europe/Zurich:20250530T110000
DTEND;TZID=Europe/Zurich:20250602T230000
DTSTAMP:20260422T062925
CREATED:20250416T144312Z
LAST-MODIFIED:20250527T144901Z
UID:10002628-1748602800-1748905200@swingdanceevents.ch
SUMMARY:Masters of Swing Dance\, the Chester Edition
DESCRIPTION:www.mastersofswingdance.ch \nGet ready for an unforgettable weekends of rhythm\, energy\, and inspiration! Masters of Swing Dance is more than just a workshop—it’s a movement to bring the true masters and keepers of Swing dance and Jazz movement to Zürich and Switzerland. \nWe believe in learning from the source\, and this event is your opportunity to train directly with the legends who have shaped the art of Lindy Hop\, Solo Jazz aka Vernacular Jazz\, Jazz Roots and Swing Culture. \nOur first edition proudly presents Chester Whitmore\, the Lord of Swing\, a direct link to the golden era of Jazz dance\, offering classes in Lindy Hop and Solo Jazz for dancers of all levels. \nFriday: Teachers Track\, Routine/Choreo Class\, Talk & Party \nSaturday: Lindy ADV\, Solo ADV\, Lindy INT\, Solo INT\, Talk & Party \nSunday: Lindy INT\, Solo INT\, Lindy ADV\, Solo ADV\, Clip-Talk & Party \nMonday evening: Clip-Talk & Social \nRegistration: https://mastersofswingdance.ch/request_for_masters_of_swing_dance/ \nDetails \nThe Evenings: Talk & Party\nFriday\, May 30th @ el Social/el Boge (Max. 80 people): \n\n19:30: Talk with Chester: “Roots of Swing\,” hosted by MC Patrick & Muetze\n20:30: Party with live music and shows\nTonight’s Featured Local Musicians (curated by Michel): Michel Muinch (Bass & Vocals)\, Dave Hasler (Guitar)\, Ueli Spoerri (Drums)\, Markus Tinner (Clarinet)\, Elena “Jazzsaxy” Pavlova (Tenor Sax)\n\nSaturday\, May 31st @ Ella’s Fellas Dance School (Max. 80 people): \n\n19:30: Talk with Chester: “Roots of a Dancer\,” hosted by MC Patrick & Muetze\n20:30: Party:\n\nFloor 1: Live music and shows\nFloor 2: No fast music\n\n\nTonight’s Featured Local Musicians (curated by Rico & Marco): Andy Dehner (Bass)\, Rico Fischbacher (Drums)\, Fulvio Granata (Piano)\, Beni Frei (Trumpet)\, Neal Sugarman (Tenor Sax)\n\nSunday\, June 1st @ el Social/el Boge (Max. 80 people): \n\n19:00: Talk & Clips with Chester: “Dancers in Clips and Movies\,” hosted by Muetze\n20:30: Party with DJs in battle mode\n\nMonday\, June 2nd @ Circus Robinson (Max. 30-50 people): \n\n19:00: Talk & Clips with Chester: “Chester’s World\, Chester’s Favorites”\n21:00 – 23:00: Social Dance (Organizers on the decks – DJs Muetze & bohéme)\n\nClasses:\nChoreo Class (Friday 16:15-17:30) \nLearn a Dynamic Routine with the Legendary Chester Whitemore – ‘The Lord of Swing’ and Hollywood’s Go-to Choreographer! \nOpen Level\, focus is on learning a choreographie. \n  \nTeachers Track (Friday 11:00 – 16:00) Elevate Your Teaching with Chester Whitemore\, partnered with Malou Meyenhofer! Partnering with his long-term mentee\, dedicated dancer and choreographer Malou Meyenhofer\, join the legendary Chester Whitemore for an intensive 4-hour track designed for Afro-American Swing Dance instructors. Dive deep into routines\, steps\, and the history transmition from his ‘Teach the Teachers Teacher’ insights\, drawing on his 55+ years of expertise. \nOpen to advanced swing dancers and current Lindy Hop/Solo Jazz teachers. \n  \nLindy Hop INT (Saturday 14:45\, Sunday 11:00) Elevate Your Swing with Chester Whitemore\, partnered with Malou Meyenhofer! \nPartnering with his long-term mentee\, dedicated dancer and choreographer Malou Meyenhofer\, join the incomparable Chester Whitemore\, the ‘Lord of Swing\,’ and tap into his vast knowledge accumulated over a lifetime of dancing. This class will introduce intermediate Lindy Hop concepts\, focusing on new moves and styling\, all while benefiting from Chester’s unparalleled insights. \nOpen to Beginner to Intermediate levels. \n  \nLindy Hop ADV (Saturday 11:00\, Sunday 14:45) Push Your Boundaries with Chester Whitemore\, partnered with Malou Meyenhofer! Partnering with his long-term mentee\, dedicated dancer and choreographer Malou Meyenhofer\, join the incomparable Chester Whitemore\, the ‘Lord of Swing\,’ and tap into his vast knowledge accumulated over a lifetime of dancing. This class will delve into advanced Lindy Hop concepts\, focusing on complex rhythms\, intricate styling\, and dynamic partner connection\, all while benefiting from Chester’s unparalleled insights. \nOpen to dancers from Intermediate-Advanced up to Advanced+ levels. \n  \n  \nSoloJazz INT (Saturday 16:15\, Sunday 12:30) Foundations & Grooves (Beginner/Intermediate) \nGet your solo groove on! This fun and energetic class will introduce you to the fundamental steps and rhythms of Solo Jazz. Learn classic moves and work on your basics direct with a master and legend of the art \, and explore foundational styling and improvisation. Perfect for those new to Solo Jazz or looking to solidify their basics. \nOpen to all levels\, from beginner to intermediate. \n  \n  \nSoloJazz ADV (Saturday 12:30\, Sunday 16:15) Explorations & Flow (Intermediate/Advanced) \nReady to expand your solo vocabulary and find your flow? This class will delve into more complex steps\, syncopations\, and stylistic variations within the Solo Jazz tradition. Explore musicality\, improvisation techniques\, and dynamic movement to elevate your solo dancing. Open to dancers with some Solo Jazz experience\, from intermediate to advanced levels. \n  \nFriday Talk & Party: more Infos https://swingdanceevents.ch/event/friday-night-at-masters-of-swing-dance-an-evening-with-a-legend/
URL:https://swingdanceevents.ch/event/masters-of-swing-dance-the-chester-edition/
CATEGORIES:Choreo,Class,DJ,Festival,LiveBand,Party,Show,Socialdance,Workshop
ATTACH;FMTTYPE=image/png:https://swingdanceevents.ch/wp-content/uploads/2025/04/flyerMoSDChester2025.png
ORGANIZER;CN="Muetze Swings":MAILTO:muetze@muetzeswings.com
END:VEVENT
BEGIN:VEVENT
DTSTART;TZID=Europe/Zurich:20250530T190000
DTEND;TZID=Europe/Zurich:20250531T010000
DTSTAMP:20260422T062925
CREATED:20250501T124820Z
LAST-MODIFIED:20250510T105813Z
UID:10002633-1748631600-1748653200@swingdanceevents.ch
SUMMARY:Shake that Thing!
DESCRIPTION:Der Grossevent im Talhof mit Livemusik von THE JIVERS (Argentinien) \n20-21 Uhr: Crashkurs\n21:30 Uhr: Konzert mit THE JIVERS (Argentinien)
URL:https://swingdanceevents.ch/event/shake-that-thing/
LOCATION:Jugendbeiz Talhof\, Torstrasse 14\, St. Gallen\, 9000\, Switzerland
CATEGORIES:Crashcourse,LiveBand,Party,Socialdance,Teaster
ATTACH;FMTTYPE=image/jpeg:https://swingdanceevents.ch/wp-content/uploads/2025/05/20250530_shake-that-thing_02Q1_01.jpg
END:VEVENT
BEGIN:VEVENT
DTSTART;TZID=Europe/Zurich:20250530T191500
DTEND;TZID=Europe/Zurich:20250531T013000
DTSTAMP:20260422T062925
CREATED:20250527T143038Z
LAST-MODIFIED:20250527T143343Z
UID:10002669-1748632500-1748655000@swingdanceevents.ch
SUMMARY:Friday Night at Masters of Swing Dance: An Evening with a Legend!
DESCRIPTION:Friday Night at Masters of Swing Dance: An Evening with a Legend! \nget your tickets here https://mastersofswingdance.ch/request_for_masters_of_swing_dance/\n\nJoin us for an extraordinary opening night at Masters of Swing Dance\, featuring captivating insights\, fantastic live music\, and dazzling performances! Get ready for a deep dive into the roots of swing and an unforgettable party experience.\nDate: Friday\, May 30\, 2025Location: El Social\, Viadukt 10\, 8005 Zürich\nProgram Highlights\n\n7:15 PM: Doors Open – Arrive\, settle in\, and feel the anticipation build!\n\n7:30 PM – 8:30 PM: Talk with Chester Whitmore – “Roots of Swing”Dive deep into the origins and evolution of swing with the legendary Mr. Chester Whitmore himself! This insightful talk will be hosted by our charismatic MCs\, Patrick and Muetze\, offering a rare opportunity to learn directly from a living master.\n\n8:30 PM – 1:30 AM: Party with Live Music and Showcases\n\nParty Details:\n\nDJs:\n\nDJ Muetze: Get into the groove with DJ Muetze setting the perfect mood and keeping the energy high on the dance floor.\nDJ MATH-ias: Dance the night away with DJ MATH-ias bringing you the best tunes until late!\n\n\nShows (Starting around 9:45 PM):\nPrepare to be amazed by a lineup of incredible performances showcasing various swing dance art forms\, featuring a mix of local\, national\, and international legends!\nMuetze Swings: From Lindy Hop to Solo Jazz to vernacular Tap Dancing\, improvisation and on-the-spot creation of flashy rhythm steps are Muetze’s signature. Best seen in his tap improv!\n\nJulio Mendez: An international maestro of Tango and social dance activist\, Julio will demonstrate how a Tango master adapts to Blues and Swing dancing in his captivating performance.\nBertille & Aurélien: This Lindy Hop power couple from Western Switzerland\, and international competitors\, will transport the vibrant\, unique “Lindy Hop vibe” onto the stage with their dynamic couple routines.\nSophisticated Rascals: Enjoy the art of chorus line and professional vintage jazz entertainment. Founded by choreographer Malou Meyenhofer\, a trained dancer who studied Jazz and Swing with the Rhythm / Harlem Hot Shots\, Mr. Chester Whitmore\, and jazz legends of the 30s and 40s like Mr. Frank Manning\, Mr. Chazz Young\, and the “Queen of Swing” Miss Norma Miller.\nMr. Chester Whitmore: There’s simply too much to say about him! You’ll need to be there to experience the unique “Chester experience” for yourself – no words can truly describe it.\n\nLIVE MUSICLive Music starts around 20:45The Friday Selection by Michel\, experience an exceptional live performance from an ensemble specially assembled for this night!Michel Münch (Bass & Vocals)Dave Hasler (Guitar)Ueli Spoerri (Drums)Markus Tinner (Clarinet)Elena “Jazzsaxy” Pavlova (Tenor Sax)\n\nDetails about this amazing musicians:\n\nMichel Münch (Bass & Vocals): The assembler of this evening’s musical journey\, Michel holds down the rhythm section with his bass and adds his voice to the mix. He is an active musician\, playing in multiple bands and projects across Switzerland and French. His selections promise a memorable night.\nDave Hasler (Guitar): Dave is a highly versatile guitarist who brings a blend of melody and harmony to the ensemble. He attended jazz school in Lucerne and has played countless gigs in various bands\, including the “New Hot Club of Zurich\,” “À la Django\,” “Swissband\,” and “ClinTonics.” His experience ranges from interpreting tunes from the Great American Songbook to Jazz Manouche à la Django Reinhardt\, and even pop and rock hits. He has also released music\, such as the digital album “Jazzgrass.”\nUeli Spoerri (Drums): As the backbone of the group\, Ueli’s drumming provides the essential pulse and dynamic energy. He is a local drummer known for his dynamic playing and has been an active part of the music scene\, performing in multiple bands in and around Zurich.\nMarkus Tinner (Clarinet): Markus adds a unique and expressive voice with his clarinet. He is an active musician in Switzerland\, frequently performing with bands such as “The New Hot Club of Zurich\,” “Billie’s Buddies\,” “Alexanders Ragtime Band\,” and “The Pavilion Dance Orchestra.” His website also features some of his original music.\nElena “Jazzsaxy” Pavlova (Tenor Sax): Known as “Jazzsaxy\,” Elena brings the soulful and powerful sound of the tenor saxophone. Elena is a highly accomplished musician who started learning piano at the age of three. A true prodigy\, she won various music scholarships and awards\, giving live piano concerts on TV at the young age of 11. She continued her musical education\, mastering both piano and later\, saxophone. Her rich experience includes working in numerous bands and orchestras\, including jazz and retro jazz big bands\, before embarking on international tours and performances in places like Seoul\, Kiev\, Malaysia\, and France.
URL:https://swingdanceevents.ch/event/friday-night-at-masters-of-swing-dance-an-evening-with-a-legend/
LOCATION:El Social\, Viaduktstrasse 64\, Zürich\, ZH\, 8005\, Switzerland
CATEGORIES:DJ,Festival,LiveBand,Party,Show,Socialdance,Workshop
ATTACH;FMTTYPE=image/png:https://swingdanceevents.ch/wp-content/uploads/2025/05/MoSD_FridayNight.png
ORGANIZER;CN="Muetze Swings":MAILTO:muetze@muetzeswings.com
END:VEVENT
END:VCALENDAR