BEGIN:VCALENDAR
VERSION:2.0
PRODID:-//Swing Dance Events Switzerland - ECPv6.15.20//NONSGML v1.0//EN
CALSCALE:GREGORIAN
METHOD:PUBLISH
X-ORIGINAL-URL:https://swingdanceevents.ch
X-WR-CALDESC:Veranstaltungen für Swing Dance Events Switzerland
REFRESH-INTERVAL;VALUE=DURATION:PT1H
X-Robots-Tag:noindex
X-PUBLISHED-TTL:PT1H
BEGIN:VTIMEZONE
TZID:Europe/Zurich
BEGIN:DAYLIGHT
TZOFFSETFROM:+0100
TZOFFSETTO:+0200
TZNAME:CEST
DTSTART:20240331T010000
END:DAYLIGHT
BEGIN:STANDARD
TZOFFSETFROM:+0200
TZOFFSETTO:+0100
TZNAME:CET
DTSTART:20241027T010000
END:STANDARD
BEGIN:DAYLIGHT
TZOFFSETFROM:+0100
TZOFFSETTO:+0200
TZNAME:CEST
DTSTART:20250330T010000
END:DAYLIGHT
BEGIN:STANDARD
TZOFFSETFROM:+0200
TZOFFSETTO:+0100
TZNAME:CET
DTSTART:20251026T010000
END:STANDARD
BEGIN:DAYLIGHT
TZOFFSETFROM:+0100
TZOFFSETTO:+0200
TZNAME:CEST
DTSTART:20260329T010000
END:DAYLIGHT
BEGIN:STANDARD
TZOFFSETFROM:+0200
TZOFFSETTO:+0100
TZNAME:CET
DTSTART:20261025T010000
END:STANDARD
END:VTIMEZONE
BEGIN:VEVENT
DTSTART;TZID=Europe/Zurich:20250614T100000
DTEND;TZID=Europe/Zurich:20250614T170000
DTSTAMP:20260424T163708
CREATED:20250505T110434Z
LAST-MODIFIED:20250505T110434Z
UID:10002639-1749895200-1749920400@swingdanceevents.ch
SUMMARY:Collegiate Shag Workshop
DESCRIPTION:Join us for a weekend of high-energy\, swing dancing in our exclusive Collegiate Shag Workshop!\n\nStep back in time to the swingin’ days of the 1920s and 30s\, where the dance floor was electric and the moves were fast and full of flair. Whether you’re just starting your journey into the world of Collegiate Shag or looking to refine your skills\, we’ve got something for every dancer.\n\n#####\n\nSHAG EXPLORERS\nAre you ready to discover the thrill of this iconic swing dance? In these sessions\, we’ll dive into the basics of Collegiate Shag\, teaching you how to master the rhythm\, footwork\, main figures and connection that make this dance so addictive. Perfect for those who are new to the dance floor or just looking to get a solid foundation of the basics.\n\nSamstag & Sonntag\, 14.6. – 15.6.2025 (2x) | 10:00 – 12:45 \n→ Info & Anmeldung \n\nRequirements\nYou are new to Collegiate Shag or have attended one or a few taster classes\n\nSchedule\nSaturday\, June 14\, 2025\n10:00-12:45 (2.5h with15 min break) \nSocial Dancing\nShag’n’Shuffle Special @ ~20.30 (Social Dance included in Workshop ticket) \nSunday\, June 15\, 2025\n10:00-12:45 (2.5h with15 min break)\n\nWith the completion of this introductory workshop\, you’d be able to directly join the ongoing Thursday Collegiate Shag Basic 1 series (21:00-22:10) that starts on May 15\, 2025\n\nCollegiate Shag Basic 1 für Einsteiger*innen\nDonnerstag\, 15.5. – 10.7.2025 (8x) | 21:00 – 22:10\n→ Info & Anmeldung \n##### \nSHAG ENTHUSIASTS\nReady to take your Collegiate Shag game to the next level? This session is for dancers who have already caught the rhythm and want to refine their technique\, learn exciting variations\, and unlock new ways to shine on the dance floor. Bring your energy\, passion\, and groove\, and let’s kick it up a notch!\n*The content of this workshop will be adapted according to the level of the participants between Intermediate and Intermediate/Advanced.\n\nSamstag & Sonntag\, 14.6. – 15.6.2025 (2x) | 14:00 – 16:45 \n→ Info & Anmeldung \n\nRequirements\nYou have been dancing collegiate Shag for 1-2 (or more) years – either taking weekly classes or attending festivals. You are familiar with the basic figures and footwork variations.\n\nSchedule\nSaturday\, June 14\, 2025\n14:00-16:45 2.5h with15 min break) \nSaturday\, June 14\, 2025\nShag’n’Shuffle Special @ ~20.30 \nSunday\, June 15\, 2025\n14:00-16:45 (2.5h with15 min break)\n\nWith the completion of this workshop\, you will also get an assessment of your level and the ongoing Collegiate Shag course you could potentially join at Downtownswing.
URL:https://swingdanceevents.ch/event/collegiate-shag-workshop/2025-06-14/
LOCATION:Tanzstudio DOWNTOWNSWING\, Hohlstrasse 86a\, Zürich\, ZH\, 8004\, Switzerland
CATEGORIES:Class,DJ,Socialdance,Workshop
ATTACH;FMTTYPE=image/jpeg:https://swingdanceevents.ch/wp-content/uploads/2025/05/20250614_15-Collegiate-Shag-Workshop-Story.jpg
ORGANIZER;CN="Downtownswing":MAILTO:info@downtownswing.ch
END:VEVENT
BEGIN:VEVENT
DTSTART;TZID=Europe/Zurich:20250614T190000
DTEND;TZID=Europe/Zurich:20250614T233000
DTSTAMP:20260424T163708
CREATED:20250501T125528Z
LAST-MODIFIED:20250501T125528Z
UID:10002635-1749927600-1749943800@swingdanceevents.ch
SUMMARY:Swing Express
DESCRIPTION:Wir tanzen wieder in der Lokremise in St.Gallen! \nWir starten mit einem Balboa Crashkurs. Balboa ist ein Paartanz\, welcher mehrheitlich in der geschlossenen Tanzposition getanzt wird. Der Tanzstil eignet sich besonders gut für schnellere Musik! \nIm Anschluss gibt es einen Social Dance mit DJ Musik. Es gibt Musik für Lindy Hop\, Balboa\, Charleston… für Alle ist also etwas dabei! \n19:00-20:30 Balboa Crashkurs\nab 20:30 Social Dance mit DJ
URL:https://swingdanceevents.ch/event/swing-express-4/
LOCATION:Lokremise St.Gallen\, Grünbergstrasse 7\, St.Gallen\, SG\, 9000\, Switzerland
CATEGORIES:Crashcourse,DJ,Party,Socialdance
ATTACH;FMTTYPE=image/jpeg:https://swingdanceevents.ch/wp-content/uploads/2025/05/4336c7_10d2cc4de5314ef08a738ff6c5c0e61dmv2-1.jpeg
END:VEVENT
BEGIN:VEVENT
DTSTART;TZID=Europe/Zurich:20250614T203000
DTEND;TZID=Europe/Zurich:20250615T010000
DTSTAMP:20260424T163708
CREATED:20250602T074430Z
LAST-MODIFIED:20250602T074430Z
UID:10002671-1749933000-1749949200@swingdanceevents.ch
SUMMARY:Shag'n'Shuffle LIVE Special
DESCRIPTION:Are you ready to make your fast feet happy? Put on your Collegiate Shag or Balboa dancing shoes and join us at this SHAG’N’SHUFFLE LIVE SPECIAL!\nHalf-time at our Collegiate Shag Weekend Workshop – practice and apply all new steps\, moves and techniques – or simply have fun social dancing and share a good time with friends. \n🎷 Enjoy the energetic sounds by the The Pavilion Dance Quartet with Elena Pavlova (ts)\, Michel Münch (b/voc)\, Ueli Spoerri (dr) featuring Zarek Silberschmidt (g) and supported by DJ Karl.\n📍 Location: Downtownswing Studio\, Hohlstrasse 86a\, 8004 Zürich\n🎟️ Entry fee: CHF 25.–\nStudents: CHF 20.– \nWant to lend a helping hand 💪? Check out the available volunteer shifts here:\nhttps://portal.helfereinsatz.ch/downtownswing\nVolunteers get free entry + 1 drink! 🥤 THANK YOU for your support! 🌟
URL:https://swingdanceevents.ch/event/shagnshuffle-live-special/
LOCATION:Tanzstudio DOWNTOWNSWING\, Hohlstrasse 86a\, Zürich\, ZH\, 8004\, Switzerland
CATEGORIES:DJ,LiveBand,Party,Socialdance
ATTACH;FMTTYPE=image/jpeg:https://swingdanceevents.ch/wp-content/uploads/2025/06/20250614-ShagnShuffle-Special-A4-.jpg
ORGANIZER;CN="Downtownswing":MAILTO:info@downtownswing.ch
END:VEVENT
END:VCALENDAR