BEGIN:VCALENDAR
VERSION:2.0
PRODID:-//Swing Dance Events Switzerland - ECPv6.15.20//NONSGML v1.0//EN
CALSCALE:GREGORIAN
METHOD:PUBLISH
X-WR-CALNAME:Swing Dance Events Switzerland
X-ORIGINAL-URL:https://swingdanceevents.ch
X-WR-CALDESC:Veranstaltungen für Swing Dance Events Switzerland
REFRESH-INTERVAL;VALUE=DURATION:PT1H
X-Robots-Tag:noindex
X-PUBLISHED-TTL:PT1H
BEGIN:VTIMEZONE
TZID:Europe/Zurich
BEGIN:DAYLIGHT
TZOFFSETFROM:+0100
TZOFFSETTO:+0200
TZNAME:CEST
DTSTART:20240331T010000
END:DAYLIGHT
BEGIN:STANDARD
TZOFFSETFROM:+0200
TZOFFSETTO:+0100
TZNAME:CET
DTSTART:20241027T010000
END:STANDARD
BEGIN:DAYLIGHT
TZOFFSETFROM:+0100
TZOFFSETTO:+0200
TZNAME:CEST
DTSTART:20250330T010000
END:DAYLIGHT
BEGIN:STANDARD
TZOFFSETFROM:+0200
TZOFFSETTO:+0100
TZNAME:CET
DTSTART:20251026T010000
END:STANDARD
BEGIN:DAYLIGHT
TZOFFSETFROM:+0100
TZOFFSETTO:+0200
TZNAME:CEST
DTSTART:20260329T010000
END:DAYLIGHT
BEGIN:STANDARD
TZOFFSETFROM:+0200
TZOFFSETTO:+0100
TZNAME:CET
DTSTART:20261025T010000
END:STANDARD
END:VTIMEZONE
BEGIN:VEVENT
DTSTART;TZID=Europe/Zurich:20250620T201500
DTEND;TZID=Europe/Zurich:20250620T201500
DTSTAMP:20260424T131803
CREATED:20241219T135223Z
LAST-MODIFIED:20241220T024324Z
UID:10002392-1750450500-1750450500@swingdanceevents.ch
SUMMARY:Social Dance – Free Crash Course – 20.6
DESCRIPTION:Whether you’ve been dancing for a month or have never tried Lindy Hop before\, everyone is welcome! Social dance is a space to explore\, connect\, and enjoy. Dance comfortably or wildly\, watch\, listen\, or just spend time with friends—we’re thrilled to have you join us! \nEvent Details \n\nFree Crash Course: 20:15 – 20:45\nDoors Open: 20:45\nEntrance Fee (without band): 10.- / 5.- (reduced)\nReminder: Always check our website for updates or changes before attending the event.\n\n\nImportant Information \n\nIf it’s your first time\, you’ll need to register as an association member. This is a one-time process\, free of charge\, and carries no obligations.\nTo ensure everyone feels comfortable\, please review our Code of Conduct on our website.\n\nWe can’t wait to dance with you!
URL:https://swingdanceevents.ch/event/social-dance-free-crash-course-20-6/
LOCATION:Ella’s Fellas Dance School\, Militärstrasse 84\, Zürich\, ZH\, 8004\, Switzerland
ATTACH;FMTTYPE=image/jpeg:https://swingdanceevents.ch/wp-content/uploads/2024/12/10.jpg
ORGANIZER;CN="Ella's Fellas%2C Milit%C3%A4rstrasse 84%2C 8004 Z%C3%BCrich":MAILTO:info@ellasfellas.ch
END:VEVENT
END:VCALENDAR