BEGIN:VCALENDAR
VERSION:2.0
PRODID:-//Swing Dance Events Switzerland - ECPv6.15.20//NONSGML v1.0//EN
CALSCALE:GREGORIAN
METHOD:PUBLISH
X-ORIGINAL-URL:https://swingdanceevents.ch
X-WR-CALDESC:Veranstaltungen für Swing Dance Events Switzerland
REFRESH-INTERVAL;VALUE=DURATION:PT1H
X-Robots-Tag:noindex
X-PUBLISHED-TTL:PT1H
BEGIN:VTIMEZONE
TZID:Europe/Zurich
BEGIN:DAYLIGHT
TZOFFSETFROM:+0100
TZOFFSETTO:+0200
TZNAME:CEST
DTSTART:20240331T010000
END:DAYLIGHT
BEGIN:STANDARD
TZOFFSETFROM:+0200
TZOFFSETTO:+0100
TZNAME:CET
DTSTART:20241027T010000
END:STANDARD
BEGIN:DAYLIGHT
TZOFFSETFROM:+0100
TZOFFSETTO:+0200
TZNAME:CEST
DTSTART:20250330T010000
END:DAYLIGHT
BEGIN:STANDARD
TZOFFSETFROM:+0200
TZOFFSETTO:+0100
TZNAME:CET
DTSTART:20251026T010000
END:STANDARD
BEGIN:DAYLIGHT
TZOFFSETFROM:+0100
TZOFFSETTO:+0200
TZNAME:CEST
DTSTART:20260329T010000
END:DAYLIGHT
BEGIN:STANDARD
TZOFFSETFROM:+0200
TZOFFSETTO:+0100
TZNAME:CET
DTSTART:20261025T010000
END:STANDARD
END:VTIMEZONE
BEGIN:VEVENT
DTSTART;TZID=Europe/Zurich:20250711T190000
DTEND;TZID=Europe/Zurich:20250712T010000
DTSTAMP:20260425T051133
CREATED:20250328T154530Z
LAST-MODIFIED:20250428T185918Z
UID:10002619-1752260400-1752282000@swingdanceevents.ch
SUMMARY:Swing im Park
DESCRIPTION:Die Big Band des Konservatoriums Winterthur unter der Leitung von Roman Bieri lässt die Herzen von Musikfans und Lindy-Hop-Tanzenden gleichermassen höher schlagen. \nDie einmalige Atmosphäre des Serenadenplatzes im Rychenbergpark lädt zum Zuhören\, Zuschauen und Tanzen ein. Bei schönem Wetter findet der lauschige Anlass draussen statt und bietet sowohl Tanzboden als auch zahlreiche Sitzgelegenheiten. Bei Nachtruhe\, wenn es langsam dunkel ist\, verlagert sich die Tanzparty mit DJ-Musik nach drinnen in die Räumlichkeiten des Konservatoriums. \nFür das leibliche Wohl zwischendurch gibt es ein Buffet für ein herzhaftes Nachtessen\, selbstgebackene Kuchen und verschiedene Getränke. \n19:00 Lindy-Hop-Crashkurs\nab 20:15 bis 01:00 Openair-Konzert und Tanz\, ab 23:00 im Saal\nEintritt frei\, mit Kollekte
URL:https://swingdanceevents.ch/event/swing-im-park-4/
LOCATION:Konservatorium Winterthur\, Tössertobelstrasse 1\, Winterthur\, Zürich\, 8400\, Switzerland
CATEGORIES:LiveBand,Party
ATTACH;FMTTYPE=image/jpeg:https://swingdanceevents.ch/wp-content/uploads/2025/03/SwingImPark-2025-Flyer_recto.jpg
ORGANIZER;CN="Swingscouts%2C Winterthur":MAILTO:info@swingscouts.ch
END:VEVENT
END:VCALENDAR