BEGIN:VCALENDAR
VERSION:2.0
PRODID:-//Swing Dance Events Switzerland - ECPv6.15.20//NONSGML v1.0//EN
CALSCALE:GREGORIAN
METHOD:PUBLISH
X-WR-CALNAME:Swing Dance Events Switzerland
X-ORIGINAL-URL:https://swingdanceevents.ch
X-WR-CALDESC:Veranstaltungen für Swing Dance Events Switzerland
REFRESH-INTERVAL;VALUE=DURATION:PT1H
X-Robots-Tag:noindex
X-PUBLISHED-TTL:PT1H
BEGIN:VTIMEZONE
TZID:Europe/Zurich
BEGIN:DAYLIGHT
TZOFFSETFROM:+0100
TZOFFSETTO:+0200
TZNAME:CEST
DTSTART:20240331T010000
END:DAYLIGHT
BEGIN:STANDARD
TZOFFSETFROM:+0200
TZOFFSETTO:+0100
TZNAME:CET
DTSTART:20241027T010000
END:STANDARD
BEGIN:DAYLIGHT
TZOFFSETFROM:+0100
TZOFFSETTO:+0200
TZNAME:CEST
DTSTART:20250330T010000
END:DAYLIGHT
BEGIN:STANDARD
TZOFFSETFROM:+0200
TZOFFSETTO:+0100
TZNAME:CET
DTSTART:20251026T010000
END:STANDARD
BEGIN:DAYLIGHT
TZOFFSETFROM:+0100
TZOFFSETTO:+0200
TZNAME:CEST
DTSTART:20260329T010000
END:DAYLIGHT
BEGIN:STANDARD
TZOFFSETFROM:+0200
TZOFFSETTO:+0100
TZNAME:CET
DTSTART:20261025T010000
END:STANDARD
END:VTIMEZONE
BEGIN:VEVENT
DTSTART;TZID=Europe/Zurich:20250714T183000
DTEND;TZID=Europe/Zurich:20250718T220000
DTSTAMP:20260426T012748
CREATED:20250623T200113Z
LAST-MODIFIED:20250623T200113Z
UID:10002688-1752517800-1752876000@swingdanceevents.ch
SUMMARY:Triplestep Sommerwoche
DESCRIPTION:Triplestep Sommerkurse\n14. – 18. Juli & 4. – 8. August 2025 \nIn diesem Sommer bieten wir während zwei Wochen ein ganz gemischtes Programm an Sommerworkshops an. Das ist eine super Gelegenheit neue Tänze\, Teachers und Techniken kennenzulernen!\nIm Angebot sind bewährte Klassiker und auch (für Triplestep) neuere Tänze:\nWest Coast Swing\, Lindy Hop\, Soft Shoe Tap\, Spiraldynamik & Tanz\, Slow Bal & Laminu\nDie Kurse füllen sich\, also go go go… \nDie beiden Kurswochen schliessen wir ab mit einem Kieselsteinswing am Freitag\, 18.7. und Freitag\, 8.8.2025\nSchönwetter: 19.30 – 22.00 Helvetiaplatz\, Luzern\nSchlechtewetter: 20.15 – 24.00 Sousol\, Luzern \nwww.triplestep.ch \nStundenplan:\nhttps://www.triplestep.ch/angebot-1/sommerkurse-stundenplan/
URL:https://swingdanceevents.ch/event/triplestep-sommerwoche-2/
LOCATION:Sousol Luzern\, Baselstrasse 13\, Luzern\, Luzern\, 6003
CATEGORIES:Class,DJ,Party,Socialdance,Workshop
ATTACH;FMTTYPE=image/jpeg:https://swingdanceevents.ch/wp-content/uploads/2025/06/SK25-titel.jpg
ORGANIZER;CN="Triplestep":MAILTO:kontakt@triplestep.ch
END:VEVENT
END:VCALENDAR