BEGIN:VCALENDAR
VERSION:2.0
PRODID:-//Swing Dance Events Switzerland - ECPv6.15.20//NONSGML v1.0//EN
CALSCALE:GREGORIAN
METHOD:PUBLISH
X-ORIGINAL-URL:https://swingdanceevents.ch
X-WR-CALDESC:Veranstaltungen für Swing Dance Events Switzerland
REFRESH-INTERVAL;VALUE=DURATION:PT1H
X-Robots-Tag:noindex
X-PUBLISHED-TTL:PT1H
BEGIN:VTIMEZONE
TZID:Europe/Zurich
BEGIN:DAYLIGHT
TZOFFSETFROM:+0100
TZOFFSETTO:+0200
TZNAME:CEST
DTSTART:20240331T010000
END:DAYLIGHT
BEGIN:STANDARD
TZOFFSETFROM:+0200
TZOFFSETTO:+0100
TZNAME:CET
DTSTART:20241027T010000
END:STANDARD
BEGIN:DAYLIGHT
TZOFFSETFROM:+0100
TZOFFSETTO:+0200
TZNAME:CEST
DTSTART:20250330T010000
END:DAYLIGHT
BEGIN:STANDARD
TZOFFSETFROM:+0200
TZOFFSETTO:+0100
TZNAME:CET
DTSTART:20251026T010000
END:STANDARD
BEGIN:DAYLIGHT
TZOFFSETFROM:+0100
TZOFFSETTO:+0200
TZNAME:CEST
DTSTART:20260329T010000
END:DAYLIGHT
BEGIN:STANDARD
TZOFFSETFROM:+0200
TZOFFSETTO:+0100
TZNAME:CET
DTSTART:20261025T010000
END:STANDARD
END:VTIMEZONE
BEGIN:VEVENT
DTSTART;TZID=Europe/Zurich:20250804T183000
DTEND;TZID=Europe/Zurich:20250808T220000
DTSTAMP:20260425T184356
CREATED:20250623T200401Z
LAST-MODIFIED:20250623T200401Z
UID:10002689-1754332200-1754690400@swingdanceevents.ch
SUMMARY:Triplestep Sommerwoche
DESCRIPTION:Triplestep Sommerkurse\n14. – 18. Juli & 4. – 8. August 2025 \nIn diesem Sommer bieten wir während zwei Wochen ein ganz gemischtes Programm an Sommerworkshops an. Das ist eine super Gelegenheit neue Tänze\, Teachers und Techniken kennenzulernen!\nIm Angebot sind bewährte Klassiker und auch (für Triplestep) neuere Tänze:\nWest Coast Swing\, Lindy Hop\, Soft Shoe Tap\, Spiraldynamik & Tanz\, Slow Bal & Laminu\nDie Kurse füllen sich\, also go go go… \nDie beiden Kurswochen schliessen wir ab mit einem Kieselsteinswing am Freitag\, 18.7. und Freitag\, 8.8.2025\nSchönwetter: 19.30 – 22.00 Helvetiaplatz\, Luzern\nSchlechtewetter: 20.15 – 24.00 Sousol\, Luzern \nwww.triplestep.ch \nStundenplan:\nhttps://www.triplestep.ch/angebot-1/sommerkurse-stundenplan/
URL:https://swingdanceevents.ch/event/triplestep-sommerwoche-3/
LOCATION:Sousol Luzern\, Baselstrasse 13\, Luzern\, Luzern\, 6003
CATEGORIES:Class,DJ,Party,Socialdance,Workshop
ATTACH;FMTTYPE=image/jpeg:https://swingdanceevents.ch/wp-content/uploads/2025/06/SK25-titel-1.jpg
ORGANIZER;CN="Triplestep":MAILTO:kontakt@triplestep.ch
END:VEVENT
BEGIN:VEVENT
DTSTART;TZID=Europe/Zurich:20250805T190000
DTEND;TZID=Europe/Zurich:20250805T233000
DTSTAMP:20260425T184356
CREATED:20250802T122448Z
LAST-MODIFIED:20250803T195645Z
UID:10002508-1754420400-1754436600@swingdanceevents.ch
SUMMARY:El Boge Swing Social & Classes (beginners welcome)
DESCRIPTION:Der Dienstag El Boge Swing Social. \n\n20.15 – 23:30 Socialdance mit DJ (Fr.10.-\, 5.- für Teilnehmer Klasse)\n\n19:00 – 19:30 free Lindy CrashCourse\n19:30 – 20:15 Lindy 1 walk in class mit Julio or Muetze Fr.20.- (just walk in\, kein Partner notwendig)
URL:https://swingdanceevents.ch/event/el-boge-swing-social-classes-beginners-welcome-6-2-2-3-3-3-2-2-4-3-4-2-5-4-2-2-2-2-2-2-2-5-2/2025-08-05/
LOCATION:El Social\, Viaduktstrasse 64\, Zürich\, ZH\, 8005\, Switzerland
CATEGORIES:Class,Crashcourse,DJ,Party,Socialdance
ATTACH;FMTTYPE=image/png:https://swingdanceevents.ch/wp-content/uploads/2025/08/FlyerBogen2025_Tuesday_Augustl.png
END:VEVENT
END:VCALENDAR