BEGIN:VCALENDAR
VERSION:2.0
PRODID:-//Swing Dance Events Switzerland - ECPv6.15.20//NONSGML v1.0//EN
CALSCALE:GREGORIAN
METHOD:PUBLISH
X-ORIGINAL-URL:https://swingdanceevents.ch
X-WR-CALDESC:Veranstaltungen für Swing Dance Events Switzerland
REFRESH-INTERVAL;VALUE=DURATION:PT1H
X-Robots-Tag:noindex
X-PUBLISHED-TTL:PT1H
BEGIN:VTIMEZONE
TZID:Europe/Zurich
BEGIN:DAYLIGHT
TZOFFSETFROM:+0100
TZOFFSETTO:+0200
TZNAME:CEST
DTSTART:20240331T010000
END:DAYLIGHT
BEGIN:STANDARD
TZOFFSETFROM:+0200
TZOFFSETTO:+0100
TZNAME:CET
DTSTART:20241027T010000
END:STANDARD
BEGIN:DAYLIGHT
TZOFFSETFROM:+0100
TZOFFSETTO:+0200
TZNAME:CEST
DTSTART:20250330T010000
END:DAYLIGHT
BEGIN:STANDARD
TZOFFSETFROM:+0200
TZOFFSETTO:+0100
TZNAME:CET
DTSTART:20251026T010000
END:STANDARD
BEGIN:DAYLIGHT
TZOFFSETFROM:+0100
TZOFFSETTO:+0200
TZNAME:CEST
DTSTART:20260329T010000
END:DAYLIGHT
BEGIN:STANDARD
TZOFFSETFROM:+0200
TZOFFSETTO:+0100
TZNAME:CET
DTSTART:20261025T010000
END:STANDARD
END:VTIMEZONE
BEGIN:VEVENT
DTSTART;TZID=Europe/Zurich:20250824T160000
DTEND;TZID=Europe/Zurich:20250824T200000
DTSTAMP:20260425T051040
CREATED:20250822T184027Z
LAST-MODIFIED:20250822T184027Z
UID:10002881-1756051200-1756065600@swingdanceevents.ch
SUMMARY:picnicSWING @ Platzspitz
DESCRIPTION:summer break special 🌞one more picnicSwing 🌞\nto end the season … free entry \nsun 8/24 | 4pm – 8pm 4h ❤ hot Lindy Hop\, dj Waldvogel & bohème \nsee you there 🤩
URL:https://swingdanceevents.ch/event/picnicswing-platzspitz-2/2025-08-24/
LOCATION:Platzspitz Musikpavilion\, Platzpromenade 5\, Zürich\, ZH\, 8001\, Switzerland
CATEGORIES:DJ,Party,Socialdance
ATTACH;FMTTYPE=image/jpeg:https://swingdanceevents.ch/wp-content/uploads/2025/08/picnicswingAugust24_2025.jpg
ORGANIZER;CN="The B%C3%BCrkliHop Syndicat by Z%C3%BCrich's Lindy Szene":MAILTO:buerklihop@google.com
END:VEVENT
BEGIN:VEVENT
DTSTART;TZID=Europe/Zurich:20250824T180000
DTEND;TZID=Europe/Zurich:20250824T230000
DTSTAMP:20260425T051040
CREATED:20240424T091942Z
LAST-MODIFIED:20250520T140743Z
UID:10002651-1756058400-1756076400@swingdanceevents.ch
SUMMARY:Swing bei der Buvette
DESCRIPTION:Lindy Hop tanzen unter freiem Himmel direkt am See auf dem Inseli in Luzern mit Swing DJ. Nur bei schönem Wetter. \nInfo ob der Anlass stattfindet findest du hier.
URL:https://swingdanceevents.ch/event/swing-bei-der-buvette/2025-08-24/
LOCATION:Buvette Luzern\, Inseliquai\, Werftsteg\, Luzern\, 6005 Luzern\, Switzerland
CATEGORIES:DJ,Party,Socialdance
ATTACH;FMTTYPE=image/jpeg:https://swingdanceevents.ch/wp-content/uploads/2024/04/370607615_10227666390459336_8329917630731180943_n.jpg
ORGANIZER;CN="Footwork":MAILTO:info@footwork.ch
END:VEVENT
END:VCALENDAR