BEGIN:VCALENDAR
VERSION:2.0
PRODID:-//Swing Dance Events Switzerland - ECPv6.15.20//NONSGML v1.0//EN
CALSCALE:GREGORIAN
METHOD:PUBLISH
X-ORIGINAL-URL:https://swingdanceevents.ch
X-WR-CALDESC:Veranstaltungen für Swing Dance Events Switzerland
REFRESH-INTERVAL;VALUE=DURATION:PT1H
X-Robots-Tag:noindex
X-PUBLISHED-TTL:PT1H
BEGIN:VTIMEZONE
TZID:Europe/Zurich
BEGIN:DAYLIGHT
TZOFFSETFROM:+0100
TZOFFSETTO:+0200
TZNAME:CEST
DTSTART:20240331T010000
END:DAYLIGHT
BEGIN:STANDARD
TZOFFSETFROM:+0200
TZOFFSETTO:+0100
TZNAME:CET
DTSTART:20241027T010000
END:STANDARD
BEGIN:DAYLIGHT
TZOFFSETFROM:+0100
TZOFFSETTO:+0200
TZNAME:CEST
DTSTART:20250330T010000
END:DAYLIGHT
BEGIN:STANDARD
TZOFFSETFROM:+0200
TZOFFSETTO:+0100
TZNAME:CET
DTSTART:20251026T010000
END:STANDARD
BEGIN:DAYLIGHT
TZOFFSETFROM:+0100
TZOFFSETTO:+0200
TZNAME:CEST
DTSTART:20260329T010000
END:DAYLIGHT
BEGIN:STANDARD
TZOFFSETFROM:+0200
TZOFFSETTO:+0100
TZNAME:CET
DTSTART:20261025T010000
END:STANDARD
END:VTIMEZONE
BEGIN:VEVENT
DTSTART;TZID=Europe/Zurich:20250903T194500
DTEND;TZID=Europe/Zurich:20250903T204500
DTSTAMP:20260425T023717
CREATED:20250822T163757Z
LAST-MODIFIED:20250822T163757Z
UID:10002877-1756928700-1756932300@swingdanceevents.ch
SUMMARY:Blues Intro to Jookin’
DESCRIPTION:Learn to dance blues! Blues dances are a family of dances originated in Afro-American communities at the beginning of the 20th century. Like the music\, the dances are diverse and soulful. \nClasses will be taught in English (German translation available).
URL:https://swingdanceevents.ch/event/blues-intro-to-jookin/
LOCATION:Backstage Studio\, Hardstrasse 81\, Zürich\, Zürich\, 8004\, Switzerland
ATTACH;FMTTYPE=image/jpeg:https://swingdanceevents.ch/wp-content/uploads/2025/08/ClassParty_BlossomBlues2019-1200x801-1.jpg
ORGANIZER;CN="Blues and more":MAILTO:registerbluesli@gmail.com
END:VEVENT
END:VCALENDAR