BEGIN:VCALENDAR
VERSION:2.0
PRODID:-//Swing Dance Events Switzerland - ECPv6.15.20//NONSGML v1.0//EN
CALSCALE:GREGORIAN
METHOD:PUBLISH
X-ORIGINAL-URL:https://swingdanceevents.ch
X-WR-CALDESC:Veranstaltungen für Swing Dance Events Switzerland
REFRESH-INTERVAL;VALUE=DURATION:PT1H
X-Robots-Tag:noindex
X-PUBLISHED-TTL:PT1H
BEGIN:VTIMEZONE
TZID:Europe/Zurich
BEGIN:DAYLIGHT
TZOFFSETFROM:+0100
TZOFFSETTO:+0200
TZNAME:CEST
DTSTART:20240331T010000
END:DAYLIGHT
BEGIN:STANDARD
TZOFFSETFROM:+0200
TZOFFSETTO:+0100
TZNAME:CET
DTSTART:20241027T010000
END:STANDARD
BEGIN:DAYLIGHT
TZOFFSETFROM:+0100
TZOFFSETTO:+0200
TZNAME:CEST
DTSTART:20250330T010000
END:DAYLIGHT
BEGIN:STANDARD
TZOFFSETFROM:+0200
TZOFFSETTO:+0100
TZNAME:CET
DTSTART:20251026T010000
END:STANDARD
BEGIN:DAYLIGHT
TZOFFSETFROM:+0100
TZOFFSETTO:+0200
TZNAME:CEST
DTSTART:20260329T010000
END:DAYLIGHT
BEGIN:STANDARD
TZOFFSETFROM:+0200
TZOFFSETTO:+0100
TZNAME:CET
DTSTART:20261025T010000
END:STANDARD
END:VTIMEZONE
BEGIN:VEVENT
DTSTART;TZID=Europe/Zurich:20251030T190000
DTEND;TZID=Europe/Zurich:20251030T235500
DTSTAMP:20260424T163716
CREATED:20250827T152538Z
LAST-MODIFIED:20250827T152538Z
UID:10002891-1761850800-1761868500@swingdanceevents.ch
SUMMARY:Swing in der Stuhlfabrik
DESCRIPTION:Der Abend startet schwungvoll mit einem offenen Crashkurs für alle Tanzfreudigen – angeleitet von den mitreissenden Sitterbugs. Ideal für Einsteigerinnen\, Einsteiger und alle\, die einfach mal reinschnuppern möchten! \nAnschliessend heizt der Bouncy Rhythm Club mit einer energiegeladenen Live-Performance die Stimmung richtig ein – tanzbar\, mitreissend und voller Swing-Groove. \nNur Mut – es wird locker\, lustig und lebendig!\nOb allein oder zu zweit: Alle sind herzlich willkommen! \nTüröffnung: \n19.00 Uhr
URL:https://swingdanceevents.ch/event/swing-in-der-stuhlfabrik/
LOCATION:Theater Stuhlfabrik Herisau\, Kasernenstrasse 39A\, Herisau\, 9100\, Switzerland
CATEGORIES:Crashcourse,LiveBand,Party
ATTACH;FMTTYPE=image/jpeg:https://swingdanceevents.ch/wp-content/uploads/2025/08/stuhlfabrik.jpg
END:VEVENT
BEGIN:VEVENT
DTSTART;TZID=Europe/Zurich:20251030T200000
DTEND;TZID=Europe/Zurich:20251030T233000
DTSTAMP:20260424T163716
CREATED:20251027T172446Z
LAST-MODIFIED:20251029T073550Z
UID:10002948-1761854400-1761867000@swingdanceevents.ch
SUMMARY:Thursty Bounce! Socialdance & Workshop class (walk in\, no sign up)
DESCRIPTION:Euer neuer Social in Zürich. Wir treffen uns erstmalig am Donnerstag Abend im Winter um kollektiv mit Tanzen den fehlenden Bürklihop zu kompensieren. \nam 30. Oktober DJ-Night & Workshop Class\, am 06. November Live Band The Monday Swing. \nWorkshop Class am 30 Oktober mit 7-8 with Beatrice Neagu (B) partnered mit Marco Muetze. \nBeatrice is a Brussels-based dancer\, teacher & performer — ballet-schooled contemporary/ballet/comedy -toured across Europe\, trained/mentored closely by legends Norma Miller and Chester Whitmore plus Dawn Hampton & HDC sessions. Founder of performance collectives in Brussels\, her hometown.Her vibe: sophisticated\, musical\, technical and empowering — perfect for brand-new dancers and seasoned movers alike. Above all\, she’s a free social dancer who teaches with rhythm\, presence\, and pure joy.Beatrice Neagu — performer\, choreographer\, anthropologist & storyteller.Brussels founder. Ballet (Bucharest) Contemporary & acting (EU tours).Mentored by Norma Miller & Chester Whitmore.Style: big soul+clean technique . Social dancer first\, always.Interest &Passionate about Choreography & Performances/Gigs of the Vaudeville&BroadwayStyle Learn classic jazz moves\, bounce with the groove\, and feel free on the floor.I’m Beatrice — Brussels-born founder\, ballet roots (Bucharest)\, contemporary tours around EU\, acting chops\, and lucky to learn up close from Norma Miller & Chester Whitmore.My classes = musical\, expressive\, and super welcoming — from absolute beginner to seasoned swing kid.Grab your dance buddy and let’s swing out! \n  \n 
URL:https://swingdanceevents.ch/event/thursty-bounce-3/
LOCATION:IFMZ Zürich\, Zeughausstrasse 56\, Zürich\, Zürich\, 8004\, Switzerland
CATEGORIES:Class,DJ,LiveBand,Party,Socialdance
ATTACH;FMTTYPE=image/png:https://swingdanceevents.ch/wp-content/uploads/2025/10/30Okt.png
END:VEVENT
END:VCALENDAR