BEGIN:VCALENDAR
VERSION:2.0
PRODID:-//Swing Dance Events Switzerland - ECPv6.15.20//NONSGML v1.0//EN
CALSCALE:GREGORIAN
METHOD:PUBLISH
X-ORIGINAL-URL:https://swingdanceevents.ch
X-WR-CALDESC:Veranstaltungen für Swing Dance Events Switzerland
REFRESH-INTERVAL;VALUE=DURATION:PT1H
X-Robots-Tag:noindex
X-PUBLISHED-TTL:PT1H
BEGIN:VTIMEZONE
TZID:Europe/Zurich
BEGIN:DAYLIGHT
TZOFFSETFROM:+0100
TZOFFSETTO:+0200
TZNAME:CEST
DTSTART:20240331T010000
END:DAYLIGHT
BEGIN:STANDARD
TZOFFSETFROM:+0200
TZOFFSETTO:+0100
TZNAME:CET
DTSTART:20241027T010000
END:STANDARD
BEGIN:DAYLIGHT
TZOFFSETFROM:+0100
TZOFFSETTO:+0200
TZNAME:CEST
DTSTART:20250330T010000
END:DAYLIGHT
BEGIN:STANDARD
TZOFFSETFROM:+0200
TZOFFSETTO:+0100
TZNAME:CET
DTSTART:20251026T010000
END:STANDARD
BEGIN:DAYLIGHT
TZOFFSETFROM:+0100
TZOFFSETTO:+0200
TZNAME:CEST
DTSTART:20260329T010000
END:DAYLIGHT
BEGIN:STANDARD
TZOFFSETFROM:+0200
TZOFFSETTO:+0100
TZNAME:CET
DTSTART:20261025T010000
END:STANDARD
END:VTIMEZONE
BEGIN:VEVENT
DTSTART;TZID=Europe/Zurich:20251106T200000
DTEND;TZID=Europe/Zurich:20251106T233000
DTSTAMP:20260422T041919
CREATED:20251029T063019Z
LAST-MODIFIED:20251105T084716Z
UID:10002946-1762459200-1762471800@swingdanceevents.ch
SUMMARY:Thursty Bounce! Live the Monday Swing
DESCRIPTION:Euer neuer Social in Zürich. Wir treffen uns am Donnerstag Abend im Winter um kollektiv mit Tanzen den fehlenden Bürklihop zu kompensieren. \nam 06. November Live Band The Monday Swing
URL:https://swingdanceevents.ch/event/thursty-bounce-4/
LOCATION:IFMZ Zürich\, Zeughausstrasse 56\, Zürich\, Zürich\, 8004\, Switzerland
CATEGORIES:DJ,LiveBand,Party,Socialdance
ATTACH;FMTTYPE=image/png:https://swingdanceevents.ch/wp-content/uploads/2025/10/ThurstyBounce_20251106-1.png
END:VEVENT
END:VCALENDAR