BEGIN:VCALENDAR
VERSION:2.0
PRODID:-//Swing Dance Events Switzerland - ECPv6.15.20//NONSGML v1.0//EN
CALSCALE:GREGORIAN
METHOD:PUBLISH
X-WR-CALNAME:Swing Dance Events Switzerland
X-ORIGINAL-URL:https://swingdanceevents.ch
X-WR-CALDESC:Veranstaltungen für Swing Dance Events Switzerland
REFRESH-INTERVAL;VALUE=DURATION:PT1H
X-Robots-Tag:noindex
X-PUBLISHED-TTL:PT1H
BEGIN:VTIMEZONE
TZID:Europe/Zurich
BEGIN:DAYLIGHT
TZOFFSETFROM:+0100
TZOFFSETTO:+0200
TZNAME:CEST
DTSTART:20240331T010000
END:DAYLIGHT
BEGIN:STANDARD
TZOFFSETFROM:+0200
TZOFFSETTO:+0100
TZNAME:CET
DTSTART:20241027T010000
END:STANDARD
BEGIN:DAYLIGHT
TZOFFSETFROM:+0100
TZOFFSETTO:+0200
TZNAME:CEST
DTSTART:20250330T010000
END:DAYLIGHT
BEGIN:STANDARD
TZOFFSETFROM:+0200
TZOFFSETTO:+0100
TZNAME:CET
DTSTART:20251026T010000
END:STANDARD
BEGIN:DAYLIGHT
TZOFFSETFROM:+0100
TZOFFSETTO:+0200
TZNAME:CEST
DTSTART:20260329T010000
END:DAYLIGHT
BEGIN:STANDARD
TZOFFSETFROM:+0200
TZOFFSETTO:+0100
TZNAME:CET
DTSTART:20261025T010000
END:STANDARD
END:VTIMEZONE
BEGIN:VEVENT
DTSTART;VALUE=DATE:20251107
DTEND;VALUE=DATE:20251114
DTSTAMP:20260422T013317
CREATED:20250225T105818Z
LAST-MODIFIED:20250225T110536Z
UID:10002572-1762491600-1763009999@swingdanceevents.ch
SUMMARY:Rocky Balbaerna 2025
DESCRIPTION:Das Rocky Balberna findet auch 2025 wieder statt!\nSave the Date: 7.-9.11.2025\nFreu dich auf ein Wochenende voller Balboa: mit Workshops am Samstag und Sonntag sowie drei Partys mit Live-Bands!
URL:https://swingdanceevents.ch/event/rocky-balbaerna-2025/
CATEGORIES:DJ,Festival,LiveBand,Party,Socialdance,Workshop
ATTACH;FMTTYPE=image/png:https://swingdanceevents.ch/wp-content/uploads/2025/02/ROCKY_Flyer_A6_2025_Save-1.png
END:VEVENT
BEGIN:VEVENT
DTSTART;TZID=Europe/Zurich:20251112T193000
DTEND;TZID=Europe/Zurich:20251112T230000
DTSTAMP:20260422T013317
CREATED:20250115T211644Z
LAST-MODIFIED:20250202T151424Z
UID:10002468-1762975800-1762988400@swingdanceevents.ch
SUMMARY:Chicago Swing Night
DESCRIPTION:Die Chicago Swing Night bietet einen Lindy Hop Crashkurs mit einem anschliessenden Live-Konzert ihrer äusserst eingespielten Haus-Band. \nDas ganze findet im wunderbaren Ambiente der Chicago Bar in Zug statt. Nur fünf Minuten vom Bahnhof entfernt. \n19:30 Uhr Doors\n19:45 Uhr Lindy Hop Crashkurs\n20:30 Uhr Live Musik Chicago Swing Band\n\nEintritt: 25.-/15.- Crashkurs: 10.-
URL:https://swingdanceevents.ch/event/chicago-swing-night-5/2025-11-12/
LOCATION:Chicago Bar Zug\, Baarerstrasse 63\, Zug\, Zug\, 6300\, Switzerland
CATEGORIES:LiveBand,Party,Teaster
ATTACH;FMTTYPE=image/jpeg:https://swingdanceevents.ch/wp-content/uploads/2025/01/01_ChicagSwingNight_b.jpg
ORGANIZER;CN="Chicago Swing Nights":MAILTO:chicagoswingnights@outlook.com
END:VEVENT
BEGIN:VEVENT
DTSTART;TZID=Europe/Zurich:20251112T201500
DTEND;TZID=Europe/Zurich:20251112T233000
DTSTAMP:20260422T013317
CREATED:20250706T163345Z
LAST-MODIFIED:20251125T153125Z
UID:10002696-1762978500-1762990200@swingdanceevents.ch
SUMMARY:Swing Cocktail
DESCRIPTION:Deine wöchentliche Portion Tanzglück \nAm Swing Cocktail verwöhnen wir Dich mit der besten Swing-Musik unserer grossartigen DJs\, laden regelmässig fabelhafte Bands ein und tanzen\, was das Zeug hält. Komm und swing mit uns\, probier neugelernte Moves aus\, plaudere mit Deinen Freund:innen und geniess die entspannte Atmosphäre – jeden Mittwoch in der schmucken Archbar direkt am Hauptbahnhof Winterthur. \nSocial Dance 20:15–23:30\nEintritt CHF 10.- / 5.- (Legi) // bei Liveband Hutkollekte (Empfehlung CHF 15-20.-) \nÜber DJs\, Bands und weitere Specials informieren wir Dich auf Instagram\, Facebook und WhatsApp.
URL:https://swingdanceevents.ch/event/swing-cocktail-21/2025-11-12/
LOCATION:Archbar\, Archstrasse 2\, Winterthur\, 8400\, Switzerland
CATEGORIES:DJ,Socialdance
ATTACH;FMTTYPE=image/jpeg:https://swingdanceevents.ch/wp-content/uploads/2025/07/SC_Quadrat_klein.jpg
ORGANIZER;CN="Swingscouts%2C Winterthur":MAILTO:info@swingscouts.ch
END:VEVENT
END:VCALENDAR