BEGIN:VCALENDAR
VERSION:2.0
PRODID:-//Swing Dance Events Switzerland - ECPv6.15.20//NONSGML v1.0//EN
CALSCALE:GREGORIAN
METHOD:PUBLISH
X-WR-CALNAME:Swing Dance Events Switzerland
X-ORIGINAL-URL:https://swingdanceevents.ch
X-WR-CALDESC:Veranstaltungen für Swing Dance Events Switzerland
REFRESH-INTERVAL;VALUE=DURATION:PT1H
X-Robots-Tag:noindex
X-PUBLISHED-TTL:PT1H
BEGIN:VTIMEZONE
TZID:Europe/Zurich
BEGIN:DAYLIGHT
TZOFFSETFROM:+0100
TZOFFSETTO:+0200
TZNAME:CEST
DTSTART:20240331T010000
END:DAYLIGHT
BEGIN:STANDARD
TZOFFSETFROM:+0200
TZOFFSETTO:+0100
TZNAME:CET
DTSTART:20241027T010000
END:STANDARD
BEGIN:DAYLIGHT
TZOFFSETFROM:+0100
TZOFFSETTO:+0200
TZNAME:CEST
DTSTART:20250330T010000
END:DAYLIGHT
BEGIN:STANDARD
TZOFFSETFROM:+0200
TZOFFSETTO:+0100
TZNAME:CET
DTSTART:20251026T010000
END:STANDARD
BEGIN:DAYLIGHT
TZOFFSETFROM:+0100
TZOFFSETTO:+0200
TZNAME:CEST
DTSTART:20260329T010000
END:DAYLIGHT
BEGIN:STANDARD
TZOFFSETFROM:+0200
TZOFFSETTO:+0100
TZNAME:CET
DTSTART:20261025T010000
END:STANDARD
END:VTIMEZONE
BEGIN:VEVENT
DTSTART;TZID=Europe/Zurich:20251114T200000
DTEND;TZID=Europe/Zurich:20251114T233000
DTSTAMP:20260422T013241
CREATED:20251009T095500Z
LAST-MODIFIED:20251009T095500Z
UID:10002934-1763150400-1763163000@swingdanceevents.ch
SUMMARY:Bruggen Stomp'n'Shuffle
DESCRIPTION:Bruggen Stomp’n’Shuffle – 14. November 2025\n20:00-23:30 im Bahnhof Bruggen \nAm 14. November verwandelt sich der Bahnhof Bruggen\, St. Gallen in ein Tanzparadies für alle\, die schnelle Swing-Musik lieben!\nAb 21:00 Uhr gibt’s ausschliesslich Musik über 160 BPM – perfekt für Balboa\, Shag\, Charleston\, Fast Lindy und alles\, was ihr gerne zu schneller Musik tanzt. \nDer Eintritt ist frei\, eine Kollekte unterstützt den Event.\nWir freuen uns auf euch!
URL:https://swingdanceevents.ch/event/bruggen-stompnshuffle-3/
LOCATION:Bahnhof Bruggen\, Stationsstasse 22\, St. Gallen\, 9014
CATEGORIES:DJ,Party,Socialdance
ATTACH;FMTTYPE=image/jpeg:https://swingdanceevents.ch/wp-content/uploads/2025/10/stompnshuffle_25.jpg
ORGANIZER;CN="RetroActivity":MAILTO:info@retroactivity.ch
END:VEVENT
BEGIN:VEVENT
DTSTART;TZID=Europe/Zurich:20251114T204500
DTEND;TZID=Europe/Zurich:20251114T235900
DTSTAMP:20260422T013241
CREATED:20250902T092153Z
LAST-MODIFIED:20250902T092153Z
UID:10002904-1763153100-1763164740@swingdanceevents.ch
SUMMARY:Social Dance – Live Band – Free Crash course – 14.11.25
DESCRIPTION:Whether you’ve been dancing for a month or have never tried Lindy Hop before\, everyone is welcome! Social dance is a place where you can try new things\, meet people\, dance comfortably or wildly\, watch\, listen\, or just spend time with your friends. We are happy to have you and this time\, we’ve got a live band. \nFree Crash Course: 20:15 – 20:45Door Opening: 20:45Entrance: 20.- / 10.- \nImportant: \nIf you are with us for the first time\, you have to register as an association member (one-time\, free of charge and without obligations) \nTo make sure that everyone feels comfortable\, we have the following Code of Conduct (view).
URL:https://swingdanceevents.ch/event/social-dance-live-band-free-crash-course-14-11-25-2/
LOCATION:Ella’s Fellas\, Hohlstrasse 192\, Zürich\, 8004\, Switzerland
ATTACH;FMTTYPE=image/jpeg:https://swingdanceevents.ch/wp-content/uploads/2025/09/social-dance-rent-room-2.jpg
ORGANIZER;CN="Ella's Fellas":MAILTO:info@ellasfellas.ch
END:VEVENT
END:VCALENDAR