BEGIN:VCALENDAR
VERSION:2.0
PRODID:-//Swing Dance Events Switzerland - ECPv6.15.20//NONSGML v1.0//EN
CALSCALE:GREGORIAN
METHOD:PUBLISH
X-ORIGINAL-URL:https://swingdanceevents.ch
X-WR-CALDESC:Veranstaltungen für Swing Dance Events Switzerland
REFRESH-INTERVAL;VALUE=DURATION:PT1H
X-Robots-Tag:noindex
X-PUBLISHED-TTL:PT1H
BEGIN:VTIMEZONE
TZID:Europe/Zurich
BEGIN:DAYLIGHT
TZOFFSETFROM:+0100
TZOFFSETTO:+0200
TZNAME:CEST
DTSTART:20240331T010000
END:DAYLIGHT
BEGIN:STANDARD
TZOFFSETFROM:+0200
TZOFFSETTO:+0100
TZNAME:CET
DTSTART:20241027T010000
END:STANDARD
BEGIN:DAYLIGHT
TZOFFSETFROM:+0100
TZOFFSETTO:+0200
TZNAME:CEST
DTSTART:20250330T010000
END:DAYLIGHT
BEGIN:STANDARD
TZOFFSETFROM:+0200
TZOFFSETTO:+0100
TZNAME:CET
DTSTART:20251026T010000
END:STANDARD
BEGIN:DAYLIGHT
TZOFFSETFROM:+0100
TZOFFSETTO:+0200
TZNAME:CEST
DTSTART:20260329T010000
END:DAYLIGHT
BEGIN:STANDARD
TZOFFSETFROM:+0200
TZOFFSETTO:+0100
TZNAME:CET
DTSTART:20261025T010000
END:STANDARD
END:VTIMEZONE
BEGIN:VEVENT
DTSTART;TZID=Europe/Zurich:20251220T140000
DTEND;TZID=Europe/Zurich:20251220T163000
DTSTAMP:20260422T073245
CREATED:20250902T093953Z
LAST-MODIFIED:20250902T094514Z
UID:10002910-1766239200-1766248200@swingdanceevents.ch
SUMMARY:Solo Jazz Workshop – Body Movment & Grooves
DESCRIPTION:Date: 20.12.2025     Time: 14:00-16:30     Price: 70.-/45.- (reduced) \nIn this workshop we will focus on various body movements and how to integrate these movement qualities in a Solo Jazz sequence. This workshop is for everyone who wants to explore different ways to move their body to jazz music\, from bathroom dancers to experienced lindy hoppers. Join Fabi and Emma to groove\, learn about jazz culture and add some solo steps to your dance vocabulary!
URL:https://swingdanceevents.ch/event/solo-jazz-workshop-body-movment-grooves/
LOCATION:Ella’s Fellas\, Hohlstrasse 192\, Zürich\, 8004\, Switzerland
ATTACH;FMTTYPE=image/png:https://swingdanceevents.ch/wp-content/uploads/2025/09/7.png
ORGANIZER;CN="Ella's Fellas":MAILTO:info@ellasfellas.ch
END:VEVENT
END:VCALENDAR