BEGIN:VCALENDAR
VERSION:2.0
PRODID:-//Swing Dance Events Switzerland - ECPv6.15.20//NONSGML v1.0//EN
CALSCALE:GREGORIAN
METHOD:PUBLISH
X-WR-CALNAME:Swing Dance Events Switzerland
X-ORIGINAL-URL:https://swingdanceevents.ch
X-WR-CALDESC:Veranstaltungen für Swing Dance Events Switzerland
REFRESH-INTERVAL;VALUE=DURATION:PT1H
X-Robots-Tag:noindex
X-PUBLISHED-TTL:PT1H
BEGIN:VTIMEZONE
TZID:Europe/Zurich
BEGIN:DAYLIGHT
TZOFFSETFROM:+0100
TZOFFSETTO:+0200
TZNAME:CEST
DTSTART:20240331T010000
END:DAYLIGHT
BEGIN:STANDARD
TZOFFSETFROM:+0200
TZOFFSETTO:+0100
TZNAME:CET
DTSTART:20241027T010000
END:STANDARD
BEGIN:DAYLIGHT
TZOFFSETFROM:+0100
TZOFFSETTO:+0200
TZNAME:CEST
DTSTART:20250330T010000
END:DAYLIGHT
BEGIN:STANDARD
TZOFFSETFROM:+0200
TZOFFSETTO:+0100
TZNAME:CET
DTSTART:20251026T010000
END:STANDARD
BEGIN:DAYLIGHT
TZOFFSETFROM:+0100
TZOFFSETTO:+0200
TZNAME:CEST
DTSTART:20260329T010000
END:DAYLIGHT
BEGIN:STANDARD
TZOFFSETFROM:+0200
TZOFFSETTO:+0100
TZNAME:CET
DTSTART:20261025T010000
END:STANDARD
END:VTIMEZONE
BEGIN:VEVENT
DTSTART;TZID=Europe/Zurich:20251221T163000
DTEND;TZID=Europe/Zurich:20251221T190000
DTSTAMP:20260422T082922
CREATED:20251210T223022Z
LAST-MODIFIED:20251210T223022Z
UID:10003043-1766334600-1766343600@swingdanceevents.ch
SUMMARY:Christmas Party @ Crazy Shakers
DESCRIPTION:Die Christmas Party der Crazy Shakers / Boogie & Swing \nOrt: Club Silbando\, Förrlibuckstrasse 62\, 8005 Zürich\, Schweiz \nEintritt: 10 CHF
URL:https://swingdanceevents.ch/event/christmas-party-crazy-shakers/
LOCATION:Club Silbando\, Förrlibuckstrasse 62\, Zürich\, ZH\, 8005\, Switzerland
CATEGORIES:DJ,Party,Socialdance
ATTACH;FMTTYPE=image/jpeg:https://swingdanceevents.ch/wp-content/uploads/2025/12/WhatsApp-Image-2025-12-10-at-19.26.36.jpeg
END:VEVENT
BEGIN:VEVENT
DTSTART;TZID=Europe/Zurich:20251221T170000
DTEND;TZID=Europe/Zurich:20251221T210000
DTSTAMP:20260422T082922
CREATED:20251104T142210Z
LAST-MODIFIED:20251104T142210Z
UID:10002960-1766336400-1766350800@swingdanceevents.ch
SUMMARY:X-MAS EDITION Partyli @ Tanzwolke (Taster Class & Party)
DESCRIPTION:WEIHNACHTS SPEZIAL mit Guetzli und Vorfreude auf das Lichterfest\nDie Tanzparty in der Tanzwolke!\nGemütliches Beisammensein\, Tanzen zu guter Musik\, Ausprobieren\, was man gelernt hat.\nDazu Snacks\, nette Leute\, tolle Tänze und traditionell die selbstgebackenen Guetzli!\n\nWir freuen uns auf euch! \n\n17-18 Uhr: Lindy Hop Schnupperstunde\n18-21 Uhr: Party\nEintritt frei (Kollekte für Unkosten)\n\n\nX-MAS SPECIAL with cookies and the joy for the upcoming season\nThe dance party at Tanzwolke!\nCome together\, dance to good music\, try what you have learned. Meet nice people\, have some good chats\, enjoy great dances\, some snacks and our tradition: home-baked Christmas cookies.\nWe are looking forward to meeting you!\n17-18h: Taster Class Lindy Hop\n18-21h: Party with DJ music \nFree entry (collection pot for time and effort)
URL:https://swingdanceevents.ch/event/x-mas-edition-partyli-tanzwolke-taster-class-party-2/
LOCATION:Tanzwolke\, Hallwylstrasse 26\, Zürich\, ZH\, 8004\, Switzerland
CATEGORIES:Crashcourse,DJ,Party,Socialdance
ORGANIZER;CN="Tanzwolke":MAILTO:tanzwolke@gmail.com
END:VEVENT
END:VCALENDAR