BEGIN:VCALENDAR
VERSION:2.0
PRODID:-//Swing Dance Events Switzerland - ECPv6.15.20//NONSGML v1.0//EN
CALSCALE:GREGORIAN
METHOD:PUBLISH
X-ORIGINAL-URL:https://swingdanceevents.ch
X-WR-CALDESC:Veranstaltungen für Swing Dance Events Switzerland
REFRESH-INTERVAL;VALUE=DURATION:PT1H
X-Robots-Tag:noindex
X-PUBLISHED-TTL:PT1H
BEGIN:VTIMEZONE
TZID:Europe/Zurich
BEGIN:DAYLIGHT
TZOFFSETFROM:+0100
TZOFFSETTO:+0200
TZNAME:CEST
DTSTART:20250330T010000
END:DAYLIGHT
BEGIN:STANDARD
TZOFFSETFROM:+0200
TZOFFSETTO:+0100
TZNAME:CET
DTSTART:20251026T010000
END:STANDARD
BEGIN:DAYLIGHT
TZOFFSETFROM:+0100
TZOFFSETTO:+0200
TZNAME:CEST
DTSTART:20260329T010000
END:DAYLIGHT
BEGIN:STANDARD
TZOFFSETFROM:+0200
TZOFFSETTO:+0100
TZNAME:CET
DTSTART:20261025T010000
END:STANDARD
BEGIN:DAYLIGHT
TZOFFSETFROM:+0100
TZOFFSETTO:+0200
TZNAME:CEST
DTSTART:20270328T010000
END:DAYLIGHT
BEGIN:STANDARD
TZOFFSETFROM:+0200
TZOFFSETTO:+0100
TZNAME:CET
DTSTART:20271031T010000
END:STANDARD
END:VTIMEZONE
BEGIN:VEVENT
DTSTART;TZID=Europe/Zurich:20260114T194500
DTEND;TZID=Europe/Zurich:20260114T204500
DTSTAMP:20260421T131740
CREATED:20251226T152028Z
LAST-MODIFIED:20251226T152028Z
UID:10003050-1768419900-1768423500@swingdanceevents.ch
SUMMARY:Blues - Intro to Jookin’
DESCRIPTION:Our intro series are the place to discover blues dancing\, or brush up your basics! We have two series of 8 classes each – Intro to Jookin’ and Intro to Ballroomin’.\nAttend both (in any order) to get an overview of the two main families of blues dancing. No prerequisites or partner needed!\n\n Backstage Studio\, Zürich Wednesdays\, 19:45 – 20:45 8 classes\n\nAll info and registration: https://bluesli.ch/weekly-classes/\n\n𝗪𝗵𝗮𝘁 𝗶𝘀 𝗝𝗼𝗼𝗸𝗶𝗻’?\nJookin’ refers to a group of blues dances originating in African American communities in the Mississippi Delta. Its name comes from the fact that it was danced in “juke joints”\, the type of bars that early blues musicians played in.\nDue to the limited space in such bars\, and reflecting the music danced there\, jookin’ evolved as a dance primarily done on the spot\, with sharper and more punctuated movements.
URL:https://swingdanceevents.ch/event/blues-intro-to-jookin-2/
LOCATION:Backstage Studio\, Hardstrasse 81\, Zürich\, Zürich\, 8004\, Switzerland
CATEGORIES:Class
ATTACH;FMTTYPE=image/jpeg:https://swingdanceevents.ch/wp-content/uploads/2025/12/ClassParty_BlossomBlues2019-1200x801-1.jpg
ORGANIZER;CN="Blues and more":MAILTO:registerbluesli@gmail.com
END:VEVENT
BEGIN:VEVENT
DTSTART;TZID=Europe/Zurich:20260114T201500
DTEND;TZID=Europe/Zurich:20260114T233000
DTSTAMP:20260421T131740
CREATED:20250706T163345Z
LAST-MODIFIED:20251125T153125Z
UID:10002705-1768421700-1768433400@swingdanceevents.ch
SUMMARY:Swing Cocktail
DESCRIPTION:Deine wöchentliche Portion Tanzglück \nAm Swing Cocktail verwöhnen wir Dich mit der besten Swing-Musik unserer grossartigen DJs\, laden regelmässig fabelhafte Bands ein und tanzen\, was das Zeug hält. Komm und swing mit uns\, probier neugelernte Moves aus\, plaudere mit Deinen Freund:innen und geniess die entspannte Atmosphäre – jeden Mittwoch in der schmucken Archbar direkt am Hauptbahnhof Winterthur. \nSocial Dance 20:15–23:30\nEintritt CHF 10.- / 5.- (Legi) // bei Liveband Hutkollekte (Empfehlung CHF 15-20.-) \nÜber DJs\, Bands und weitere Specials informieren wir Dich auf Instagram\, Facebook und WhatsApp.
URL:https://swingdanceevents.ch/event/swing-cocktail-21/2026-01-14/
LOCATION:Archbar\, Archstrasse 2\, Winterthur\, 8400\, Switzerland
CATEGORIES:DJ,Socialdance
ATTACH;FMTTYPE=image/jpeg:https://swingdanceevents.ch/wp-content/uploads/2025/07/SC_Quadrat_klein.jpg
ORGANIZER;CN="Swingscouts%2C Winterthur":MAILTO:info@swingscouts.ch
END:VEVENT
END:VCALENDAR