BEGIN:VCALENDAR
VERSION:2.0
PRODID:-//Swing Dance Events Switzerland - ECPv6.15.20//NONSGML v1.0//EN
CALSCALE:GREGORIAN
METHOD:PUBLISH
X-ORIGINAL-URL:https://swingdanceevents.ch
X-WR-CALDESC:Veranstaltungen für Swing Dance Events Switzerland
REFRESH-INTERVAL;VALUE=DURATION:PT1H
X-Robots-Tag:noindex
X-PUBLISHED-TTL:PT1H
BEGIN:VTIMEZONE
TZID:Europe/Zurich
BEGIN:DAYLIGHT
TZOFFSETFROM:+0100
TZOFFSETTO:+0200
TZNAME:CEST
DTSTART:20250330T010000
END:DAYLIGHT
BEGIN:STANDARD
TZOFFSETFROM:+0200
TZOFFSETTO:+0100
TZNAME:CET
DTSTART:20251026T010000
END:STANDARD
BEGIN:DAYLIGHT
TZOFFSETFROM:+0100
TZOFFSETTO:+0200
TZNAME:CEST
DTSTART:20260329T010000
END:DAYLIGHT
BEGIN:STANDARD
TZOFFSETFROM:+0200
TZOFFSETTO:+0100
TZNAME:CET
DTSTART:20261025T010000
END:STANDARD
BEGIN:DAYLIGHT
TZOFFSETFROM:+0100
TZOFFSETTO:+0200
TZNAME:CEST
DTSTART:20270328T010000
END:DAYLIGHT
BEGIN:STANDARD
TZOFFSETFROM:+0200
TZOFFSETTO:+0100
TZNAME:CET
DTSTART:20271031T010000
END:STANDARD
END:VTIMEZONE
BEGIN:VEVENT
DTSTART;TZID=Europe/Zurich:20260123T183000
DTEND;TZID=Europe/Zurich:20260123T233000
DTSTAMP:20260421T125407
CREATED:20260112T125654Z
LAST-MODIFIED:20260112T130817Z
UID:10003065-1769193000-1769211000@swingdanceevents.ch
SUMMARY:Balboa @ Zeughaus
DESCRIPTION:Slow Bal Evening  \n18:30–20:30 — Workshop with Brenda Russell: Slow & Sassy: Single Bal for slow & medium tempos\n21:00–24:00 — Balboa / Swing Social \nCaution: the Fastest Balboa Floor in Zürich 🙂 \nClick here for infos and registration \nSocial only: 10.-\nClass and Social: 45.-\nFor further weekend packages check the external link
URL:https://swingdanceevents.ch/event/balboa-zeughaus/
LOCATION:IFMZ Zürich\, Zeughausstrasse 56\, Zürich\, Zürich\, 8004\, Switzerland
CATEGORIES:Class,Socialdance
ATTACH;FMTTYPE=image/jpeg:https://swingdanceevents.ch/wp-content/uploads/2026/01/IMG_0447-scaled.jpeg
END:VEVENT
BEGIN:VEVENT
DTSTART;TZID=Europe/Zurich:20260123T191500
DTEND;TZID=Europe/Zurich:20260124T020000
DTSTAMP:20260421T125407
CREATED:20250106T200534Z
LAST-MODIFIED:20250813T072003Z
UID:10002432-1769195700-1769220000@swingdanceevents.ch
SUMMARY:Altstadt Swing
DESCRIPTION:Der nächste Social Dance in Winterthur: Freitag 23. Januar 2026\nAltstadt Swing in der @altekasernekulturzentrum\nmit Laney and the Snappy Rhythm Gang und DJ \n19:30 Crashkurs\n19:30 Musicality Workshop mit der Band\n21:00 Live-Konzert mit Laney and the Snappy Rhythm Gang und Musik aus der Dose vom DJ \nDie Band Laney and the Snappy Rhythm Gang liebt den Swing!\nLaney und ihre hervorragenden Musiker nehmen euch mit auf eine musikalische Zeitreise in die goldene Jazz Ära.\nFrontfrau Laney begeistert mit Stimme\, Charme und Show – begleitet von einer hochkarätigen Band\, die den Rhythmus direkt in die Beine bringt. \nExklusiv vor dem Konzert: Musicality-Workshop mit Laney – für alle\, die Musik noch besser tanzen wollen!
URL:https://swingdanceevents.ch/event/altstadt-swing-11/
LOCATION:Alte Kaserne Winterthur\, Technikumstrasse 8\, Winterthur\, Switzerland
CATEGORIES:Crashcourse,DJ,LiveBand,Party
ATTACH;FMTTYPE=image/png:https://swingdanceevents.ch/wp-content/uploads/2025/01/260123_AltstadtSwing_1080x1350px-scaled.png
ORGANIZER;CN="Swingscouts%2C Winterthur":MAILTO:info@swingscouts.ch
END:VEVENT
BEGIN:VEVENT
DTSTART;TZID=Europe/Zurich:20260123T203000
DTEND;TZID=Europe/Zurich:20260123T223000
DTSTAMP:20260421T125407
CREATED:20260122T201735Z
LAST-MODIFIED:20260122T201735Z
UID:10003098-1769200200-1769207400@swingdanceevents.ch
SUMMARY:Open Training Lindy Hop
DESCRIPTION:Das Open Training ist offen für alle. Hier könnt ihr selbstständig üben und tanzen. Kommt mit TanzpartnerIn oder grad als Gruppe! Ihr könnt natürlich gerne auch alleine üben.\nIn der ersten Stunde gibt’s Support aus dem Triplestep-Team. \n20.30 – 22.30 Uhr\nSousol\, Baselstrasse 13\, Luzern\n5 Fr. pro Abend (Kässeli) / Kostenlos für Teilnehmende der aktuellen Kursreihe
URL:https://swingdanceevents.ch/event/open-training-lindy-hop/
LOCATION:Sousol Luzern\, Baselstrasse 13\, Luzern\, Luzern\, 6003
CATEGORIES:practica/opentraning
ATTACH;FMTTYPE=image/jpeg:https://swingdanceevents.ch/wp-content/uploads/2026/01/opentraining25-a-3_2.jpg
ORGANIZER;CN="Triplestep":MAILTO:kontakt@triplestep.ch
END:VEVENT
END:VCALENDAR