BEGIN:VCALENDAR
VERSION:2.0
PRODID:-//Swing Dance Events Switzerland - ECPv6.15.20//NONSGML v1.0//EN
CALSCALE:GREGORIAN
METHOD:PUBLISH
X-ORIGINAL-URL:https://swingdanceevents.ch
X-WR-CALDESC:Veranstaltungen für Swing Dance Events Switzerland
REFRESH-INTERVAL;VALUE=DURATION:PT1H
X-Robots-Tag:noindex
X-PUBLISHED-TTL:PT1H
BEGIN:VTIMEZONE
TZID:Europe/Zurich
BEGIN:DAYLIGHT
TZOFFSETFROM:+0100
TZOFFSETTO:+0200
TZNAME:CEST
DTSTART:20250330T010000
END:DAYLIGHT
BEGIN:STANDARD
TZOFFSETFROM:+0200
TZOFFSETTO:+0100
TZNAME:CET
DTSTART:20251026T010000
END:STANDARD
BEGIN:DAYLIGHT
TZOFFSETFROM:+0100
TZOFFSETTO:+0200
TZNAME:CEST
DTSTART:20260329T010000
END:DAYLIGHT
BEGIN:STANDARD
TZOFFSETFROM:+0200
TZOFFSETTO:+0100
TZNAME:CET
DTSTART:20261025T010000
END:STANDARD
BEGIN:DAYLIGHT
TZOFFSETFROM:+0100
TZOFFSETTO:+0200
TZNAME:CEST
DTSTART:20270328T010000
END:DAYLIGHT
BEGIN:STANDARD
TZOFFSETFROM:+0200
TZOFFSETTO:+0100
TZNAME:CET
DTSTART:20271031T010000
END:STANDARD
END:VTIMEZONE
BEGIN:VEVENT
DTSTART;TZID=Europe/Zurich:20260214T100000
DTEND;TZID=Europe/Zurich:20260214T173000
DTSTAMP:20260422T040838
CREATED:20250523T151515Z
LAST-MODIFIED:20250523T151515Z
UID:10002661-1771063200-1771090200@swingdanceevents.ch
SUMMARY:Move Into the Blues
DESCRIPTION:Durch verschiedene Zugänge möchten wir dir die Möglichkeit geben\, zu einem unvergesslichen Tanzerlebnis zu gelangen. Diesmal bringt uns Taketina zu unserem natürlichen Rhythmus zurück\, weg vom Kopf zurück in den Körper wo wir in ein Gefühl des Seins gelangen und den Planungsgeist ziehen lassen können. Alles wird unseren Horizont erweitern und das individuelle Blues Tanz Gefühl bereichern. \nUnterricht: 2h Contact Improvisation & 3h Blues Dance (1h davon mit live Musik)
URL:https://swingdanceevents.ch/event/move-into-the-blues-5/
LOCATION:The Rhythm Rebels Studio\, Aarbergergasse 40\,\, Bern\, Bern\, 3011\, Switzerland
CATEGORIES:Workshop
ATTACH;FMTTYPE=image/png:https://swingdanceevents.ch/wp-content/uploads/2025/05/Move-Into-the-Blues-2526-1.png
ORGANIZER;CN="Blues Dance Bern":MAILTO:info@be-bluesed.ch
END:VEVENT
BEGIN:VEVENT
DTSTART;TZID=Europe/Zurich:20260214T160000
DTEND;TZID=Europe/Zurich:20260214T190000
DTSTAMP:20260422T040838
CREATED:20250914T205523Z
LAST-MODIFIED:20260125T120727Z
UID:10002925-1771084800-1771095600@swingdanceevents.ch
SUMMARY:Tea Time Swing (Live)
DESCRIPTION:Tea Time Swing mit auserlesenem Tee\, feinem Kuchen und Swing Musik zum Tanzen.\nNeu: an zwei Samstagen pro Monat\, von 16:00 bis 19:00 Uhr. \nMusik:\nChicago Swing Collective (live)\nDJ Waldvogel \nEintritt:\nCHF 20.- (Legi/Kulturlegi: 15.-) \nKuchen backen:\nUnterstütze uns mit einem Kuchen und erhalte einen Eintritt\, dazu Tee & Kuchen. \nMitmachen:\nHilf uns beim Kuchen- und Teeverkauf oder an der Eintrittskasse und erhalte freien Eintritt. Melde dich unter:\nportal.helfereinsatz.ch/teatimeswing
URL:https://swingdanceevents.ch/event/tea-time-swing-live-11/
LOCATION:Bananenreiferei\, Pfingstweidstrasse 101\, Zürich\, 8005
CATEGORIES:DJ,LiveBand,Party
ATTACH;FMTTYPE=image/png:https://swingdanceevents.ch/wp-content/uploads/2025/09/2025_tts_web_high_1920_1080-4.png
END:VEVENT
BEGIN:VEVENT
DTSTART;TZID=Europe/Zurich:20260214T200000
DTEND;TZID=Europe/Zurich:20260215T003000
DTSTAMP:20260422T040838
CREATED:20250603T113952Z
LAST-MODIFIED:20251125T152925Z
UID:10002677-1771099200-1771115400@swingdanceevents.ch
SUMMARY:Fast Feet Floor
DESCRIPTION:Ab 200 bpm fängt der Spass erst richtig an! Am Fast Feet Floor musst Du nie mehr am Rand der Tanzfläche stehen\, wenn das Tempo anzieht. Denn an DER Tanzparty für flinke Füsse tanzen alle Shag\, Balboa\, Fast Lindy und Charleston – Du wirst schwitzen\, ja\, aber Du wirst Dich so gut fühlen! \nDas schmucke Kellertheater in der Altstadt Winterthurs ist 5 Minuten zu Fuss vom Bahnhof entfernt\, sodass Du nach Partyende entspannt jede Nachtverbindung nach Zürich oder St. Gallen erreichst. \n20:00–20:45 Taster (kostenlos)\n20:45–00:30 Party mit DJ\nEintritt CHF 16.- / 14.- (Legi)
URL:https://swingdanceevents.ch/event/fast-feet-floor-9/
LOCATION:Kellertheater Winterthur\, Marktgasse 53\, Winterthur\, ZH\, 8400\, Switzerland
CATEGORIES:DJ,Party,Socialdance
ATTACH;FMTTYPE=image/jpeg:https://swingdanceevents.ch/wp-content/uploads/2025/06/FFF_Banner-2-scaled.jpg
ORGANIZER;CN="Swingscouts%2C Winterthur":MAILTO:info@swingscouts.ch
END:VEVENT
END:VCALENDAR