BEGIN:VCALENDAR
VERSION:2.0
PRODID:-//Swing Dance Events Switzerland - ECPv6.15.20//NONSGML v1.0//EN
CALSCALE:GREGORIAN
METHOD:PUBLISH
X-WR-CALNAME:Swing Dance Events Switzerland
X-ORIGINAL-URL:https://swingdanceevents.ch
X-WR-CALDESC:Veranstaltungen für Swing Dance Events Switzerland
REFRESH-INTERVAL;VALUE=DURATION:PT1H
X-Robots-Tag:noindex
X-PUBLISHED-TTL:PT1H
BEGIN:VTIMEZONE
TZID:Europe/Zurich
BEGIN:DAYLIGHT
TZOFFSETFROM:+0100
TZOFFSETTO:+0200
TZNAME:CEST
DTSTART:20250330T010000
END:DAYLIGHT
BEGIN:STANDARD
TZOFFSETFROM:+0200
TZOFFSETTO:+0100
TZNAME:CET
DTSTART:20251026T010000
END:STANDARD
BEGIN:DAYLIGHT
TZOFFSETFROM:+0100
TZOFFSETTO:+0200
TZNAME:CEST
DTSTART:20260329T010000
END:DAYLIGHT
BEGIN:STANDARD
TZOFFSETFROM:+0200
TZOFFSETTO:+0100
TZNAME:CET
DTSTART:20261025T010000
END:STANDARD
BEGIN:DAYLIGHT
TZOFFSETFROM:+0100
TZOFFSETTO:+0200
TZNAME:CEST
DTSTART:20270328T010000
END:DAYLIGHT
BEGIN:STANDARD
TZOFFSETFROM:+0200
TZOFFSETTO:+0100
TZNAME:CET
DTSTART:20271031T010000
END:STANDARD
END:VTIMEZONE
BEGIN:VEVENT
DTSTART;VALUE=DATE:20260221
DTEND;VALUE=DATE:20260224
DTSTAMP:20260421T144313
CREATED:20260202T193250Z
LAST-MODIFIED:20260202T193250Z
UID:10003121-1771650000-1771822799@swingdanceevents.ch
SUMMARY:blues workshop & party im Sousol
DESCRIPTION:Wir laden euch ein zum Blues-Workshop mit Brenda Russell. Ein intensives Wochenende und eine tolle Party mit Pete&Despina erwartet euch.\nAnmeldung/Infos
URL:https://swingdanceevents.ch/event/blues-workshop-party-im-sousol/
LOCATION:Sousol Luzern\, Baselstrasse 13\, Luzern\, Luzern\, 6003
CATEGORIES:Workshop
ATTACH;FMTTYPE=image/png:https://swingdanceevents.ch/wp-content/uploads/2026/02/Flyer_BluesWithBrenda_WorkshopParty.png
ORGANIZER;CN="Footwork":MAILTO:info@footwork.ch
END:VEVENT
BEGIN:VEVENT
DTSTART;TZID=Europe/Zurich:20260221T140000
DTEND;TZID=Europe/Zurich:20260221T163000
DTSTAMP:20260421T144313
CREATED:20251215T092314Z
LAST-MODIFIED:20251215T092314Z
UID:10003046-1771682400-1771691400@swingdanceevents.ch
SUMMARY:HOUSE WORKSHOP
DESCRIPTION:Datum: 21.02.26  Zeit: 14:00-16:30   Preis: 70.-/45.- CHF (ermässigt) \nDies ist ein Workshop für Einsteiger:innen mit Mike\, der darauf abzielt\, eine solide Basis im House Dance aufzubauen. Wir lernen grundlegende Schritte und Grooves kennen – perfekt für alle\, die mit House Dance starten oder ihre Grundlagen vertiefen möchten.
URL:https://swingdanceevents.ch/event/house-workshop/
LOCATION:Ella’s Fellas\, Hohlstrasse 192\, Zürich\, 8004\, Switzerland
ATTACH;FMTTYPE=image/png:https://swingdanceevents.ch/wp-content/uploads/2025/12/Solo-Workshops-3.png
ORGANIZER;CN="Ella's Fellas":MAILTO:info@ellasfellas.ch
END:VEVENT
BEGIN:VEVENT
DTSTART;TZID=Europe/Zurich:20260221T193000
DTEND;TZID=Europe/Zurich:20260221T233000
DTSTAMP:20260421T144313
CREATED:20260219T120531Z
LAST-MODIFIED:20260219T120531Z
UID:10003136-1771702200-1771716600@swingdanceevents.ch
SUMMARY:DOWN TOWN SOCIAL
DESCRIPTION:Feinschliff für deine Moves\, entspannte Vibes zu swingender Musik 🎶\, neue Gesichter kennenlernen oder einfach mit deinen Friends entspannen 😎 \nhttps://app.downtownswing.ch/de/events/down-town-social \nVon Einsteiger*innen bis zum Pro – alle sind herzlich willkommen\, zusammen die Freude am Swingtanzen zu teilen! 💖 \n🎟️ CHF 15.00 / mit Legi CHF 10.00 \n🙌 Helfer*innen gesucht \nHilf bei der Eintrittskontrolle oder beim Abbau! 🙏 Als Dankeschön gibt’s freien Eintritt und 1 Getränk 🍻 \nHelfer*innen für Down Town Social \n⏰ 1x Kasse/Eintrittskontrolle 1 (19:15–20:15) \n⏰ 1x Kasse/Eintrittskontrolle 2 (20:15–21:15) \n⏰ 1x Kasse/Eintrittskontrolle 3 (21:15–22:15) \n⏰ 1x Kasse/Eintrittskontrolle 4 (22:15–23:15) \n⏰ 2x Abbau (23:30–00:15) \n💥 Link zu den Helfereinsätzen \nhttps://portal.helfereinsatz.ch/downtownswing/ \nVielen Dank für deinen Support! 🙌❤️
URL:https://swingdanceevents.ch/event/down-town-social-3/
LOCATION:Tanzstudio DOWNTOWNSWING\, Hohlstrasse 86a\, Zürich\, ZH\, 8004\, Switzerland
CATEGORIES:DJ,Party,Socialdance
ATTACH;FMTTYPE=image/jpeg:https://swingdanceevents.ch/wp-content/uploads/2026/02/20260221-DOWNT-TOWN-SOCIAL-5-4.jpg
ORGANIZER;CN="Downtownswing":MAILTO:info@downtownswing.ch
END:VEVENT
END:VCALENDAR