BEGIN:VCALENDAR
VERSION:2.0
PRODID:-//Swing Dance Events Switzerland - ECPv6.15.20//NONSGML v1.0//EN
CALSCALE:GREGORIAN
METHOD:PUBLISH
X-WR-CALNAME:Swing Dance Events Switzerland
X-ORIGINAL-URL:https://swingdanceevents.ch
X-WR-CALDESC:Veranstaltungen für Swing Dance Events Switzerland
REFRESH-INTERVAL;VALUE=DURATION:PT1H
X-Robots-Tag:noindex
X-PUBLISHED-TTL:PT1H
BEGIN:VTIMEZONE
TZID:Europe/Zurich
BEGIN:DAYLIGHT
TZOFFSETFROM:+0100
TZOFFSETTO:+0200
TZNAME:CEST
DTSTART:20250330T010000
END:DAYLIGHT
BEGIN:STANDARD
TZOFFSETFROM:+0200
TZOFFSETTO:+0100
TZNAME:CET
DTSTART:20251026T010000
END:STANDARD
BEGIN:DAYLIGHT
TZOFFSETFROM:+0100
TZOFFSETTO:+0200
TZNAME:CEST
DTSTART:20260329T010000
END:DAYLIGHT
BEGIN:STANDARD
TZOFFSETFROM:+0200
TZOFFSETTO:+0100
TZNAME:CET
DTSTART:20261025T010000
END:STANDARD
BEGIN:DAYLIGHT
TZOFFSETFROM:+0100
TZOFFSETTO:+0200
TZNAME:CEST
DTSTART:20270328T010000
END:DAYLIGHT
BEGIN:STANDARD
TZOFFSETFROM:+0200
TZOFFSETTO:+0100
TZNAME:CET
DTSTART:20271031T010000
END:STANDARD
END:VTIMEZONE
BEGIN:VEVENT
DTSTART;TZID=Europe/Zurich:20260227T203000
DTEND;TZID=Europe/Zurich:20260227T223000
DTSTAMP:20260419T225011
CREATED:20260125T192809Z
LAST-MODIFIED:20260125T192809Z
UID:10003110-1772224200-1772231400@swingdanceevents.ch
SUMMARY:Open Training Lindy Hop & Balboa
DESCRIPTION:Das Open Training ist offen für alle. Hier könnt ihr selbstständig üben und tanzen. Kommt mit TanzpartnerIn oder grad als Gruppe!\nIn der ersten Stunde gibt’s Support aus dem Triplestep-Team. \n20.30 – 22.30 Uhr\nSousol\, Baselstrasse 13\, Luzern\n5 Fr. pro Abend (Kässeli)
URL:https://swingdanceevents.ch/event/open-training-lindy-hop-balboa/
LOCATION:ZH
CATEGORIES:practica/opentraning
ATTACH;FMTTYPE=image/jpeg:https://swingdanceevents.ch/wp-content/uploads/2026/01/opentraining25-a-3_2-6.jpg
END:VEVENT
END:VCALENDAR