BEGIN:VCALENDAR
VERSION:2.0
PRODID:-//Swing Dance Events Switzerland - ECPv6.15.20//NONSGML v1.0//EN
CALSCALE:GREGORIAN
METHOD:PUBLISH
X-WR-CALNAME:Swing Dance Events Switzerland
X-ORIGINAL-URL:https://swingdanceevents.ch
X-WR-CALDESC:Veranstaltungen für Swing Dance Events Switzerland
REFRESH-INTERVAL;VALUE=DURATION:PT1H
X-Robots-Tag:noindex
X-PUBLISHED-TTL:PT1H
BEGIN:VTIMEZONE
TZID:Europe/Zurich
BEGIN:DAYLIGHT
TZOFFSETFROM:+0100
TZOFFSETTO:+0200
TZNAME:CEST
DTSTART:20250330T010000
END:DAYLIGHT
BEGIN:STANDARD
TZOFFSETFROM:+0200
TZOFFSETTO:+0100
TZNAME:CET
DTSTART:20251026T010000
END:STANDARD
BEGIN:DAYLIGHT
TZOFFSETFROM:+0100
TZOFFSETTO:+0200
TZNAME:CEST
DTSTART:20260329T010000
END:DAYLIGHT
BEGIN:STANDARD
TZOFFSETFROM:+0200
TZOFFSETTO:+0100
TZNAME:CET
DTSTART:20261025T010000
END:STANDARD
BEGIN:DAYLIGHT
TZOFFSETFROM:+0100
TZOFFSETTO:+0200
TZNAME:CEST
DTSTART:20270328T010000
END:DAYLIGHT
BEGIN:STANDARD
TZOFFSETFROM:+0200
TZOFFSETTO:+0100
TZNAME:CET
DTSTART:20271031T010000
END:STANDARD
END:VTIMEZONE
BEGIN:VEVENT
DTSTART;TZID=Europe/Zurich:20260321T130000
DTEND;TZID=Europe/Zurich:20260321T163000
DTSTAMP:20260421T162406
CREATED:20251206T100919Z
LAST-MODIFIED:20251206T100919Z
UID:10003035-1774098000-1774110600@swingdanceevents.ch
SUMMARY:Lindy Hop beginners Weekend
DESCRIPTION:Im Lindy Hop beginner’s Workshop lernst Du in sieben Lektionen die Basics des Lindy Hop. Das Teacherpaar Andrea & Nina vermittelt dabei nicht nur die Grundtechnik sondern auch die mitreisende Lebensfreude dieses Tanzes. In diesem Workshop liegt der Fokus auf dem Swing out\, Side by Side Charleston und den Six counts. \nErlebe die Freude am Lindy Hop und all die wunderbaren Menschen mit ihren lachenden Gesichtern! \nErfahrung:\nKeine Notwendig \nKursinhalt\nLerne alle Grundlagen des Lindy Hop wie den Swing Out und den Charleston.\nDurchführung:\nAb 10 Buchungen wird der Kurs durchgeführt.\nSamstag:\n13:00 Uhr bis 16.00 Uhr\nSonntag:\n13:00 Uhr bis 16.00 Uhr
URL:https://swingdanceevents.ch/event/lindy-hop-beginners-weekend/2026-03-21/
LOCATION:SwingFLOOR Tanzstudio\, Röschibachstrasse 22\, Zürich\, Switzerland\, 8037\, Switzerland
ATTACH;FMTTYPE=image/jpeg:https://swingdanceevents.ch/wp-content/uploads/2025/12/20251108_LindyHop-37-scaled.jpg
ORGANIZER;CN="Swing Productions":MAILTO:help@swing.ch
END:VEVENT
BEGIN:VEVENT
DTSTART;TZID=Europe/Zurich:20260321T160000
DTEND;TZID=Europe/Zurich:20260321T190000
DTSTAMP:20260421T162406
CREATED:20250914T205708Z
LAST-MODIFIED:20260125T121957Z
UID:10002926-1774108800-1774119600@swingdanceevents.ch
SUMMARY:Tea Time Swing (Live)
DESCRIPTION:Tea Time Swing mit auserlesenem Tee\, feinem Kuchen und Swing Musik zum Tanzen.\nNeu: an zwei Samstagen pro Monat\, von 16:00 bis 19:00 Uhr. \nMusik:\nThe Killin’ Jivers (live)\nDJ Bändlimeier \nEintritt:\nCHF 20.- (Legi/Kulturlegi: 15.-) \nKuchen backen:\nUnterstütze uns mit einem Kuchen und erhalte einen Eintritt\, dazu Tee & Kuchen. \nMitmachen:\nHilf uns beim Kuchen- und Teeverkauf oder an der Eintrittskasse und erhalte freien Eintritt. Melde dich unter:\nportal.helfereinsatz.ch/teatimeswing
URL:https://swingdanceevents.ch/event/tea-time-swing-live-12/
LOCATION:Bananenreiferei\, Pfingstweidstrasse 101\, Zürich\, 8005
CATEGORIES:DJ,LiveBand,Party
ATTACH;FMTTYPE=image/png:https://swingdanceevents.ch/wp-content/uploads/2025/09/2025_tts_web_high_1920_1080-5.png
END:VEVENT
BEGIN:VEVENT
DTSTART;TZID=Europe/Zurich:20260321T193000
DTEND;TZID=Europe/Zurich:20260322T003000
DTSTAMP:20260421T162406
CREATED:20260122T142011Z
LAST-MODIFIED:20260122T142011Z
UID:10003078-1774121400-1774139400@swingdanceevents.ch
SUMMARY:de Bär goht ab! - Willy & The Sheiks
DESCRIPTION:De Bär goht ab im Restaurant Bären in Hundwil\, AR. \ndirekte Busverbindung ab St.Gallen \n19:30 – 23:00 DJ Musik \n23:00 – 00:15 Live-Konzert von “Willy & The Sheiks” \nPremiere des neuen Sets von “Willy & The Sheiks”! Zum inelose https://www.thesheiks.ch/willyandthesheiks
URL:https://swingdanceevents.ch/event/de-baer-goht-ab-willy-the-sheiks/
LOCATION:Restaurant Bären\, Dorf 34\, Hundwil\, 9064\, Switzerland
CATEGORIES:DJ,LiveBand,Party
ATTACH;FMTTYPE=image/jpeg:https://swingdanceevents.ch/wp-content/uploads/2026/01/DeBaerTanzt_neutral.jpg
END:VEVENT
BEGIN:VEVENT
DTSTART;TZID=Europe/Zurich:20260321T193000
DTEND;TZID=Europe/Zurich:20260322T010000
DTSTAMP:20260421T162406
CREATED:20260220T165117Z
LAST-MODIFIED:20260220T165117Z
UID:10003147-1774121400-1774141200@swingdanceevents.ch
SUMMARY:Spring Hop
DESCRIPTION:Swing & Rock’n’Roll Night \n19.30: Collegiate Shag Schnupperkurs\n20.30: Tanzabend mit DJ JC (Lindy Hop\, Jive\, Rock’n’Roll\, Boogie Woogie)\nmit hoffentlich ein paar Tanzeinlagen! \nDer Anlass wird organisiert von triplestep.ch und sixteen.ch
URL:https://swingdanceevents.ch/event/spring-hop/
LOCATION:Sousol Luzern\, Baselstrasse 13\, Luzern\, Luzern\, 6003
CATEGORIES:DJ,Party,Teaster
ATTACH;FMTTYPE=image/jpeg:https://swingdanceevents.ch/wp-content/uploads/2026/02/rocknroll-A4-scaled.jpg
ORGANIZER;CN="Triplestep":MAILTO:kontakt@triplestep.ch
END:VEVENT
END:VCALENDAR