BEGIN:VCALENDAR
VERSION:2.0
PRODID:-//Swing Dance Events Switzerland - ECPv6.15.20//NONSGML v1.0//EN
CALSCALE:GREGORIAN
METHOD:PUBLISH
X-ORIGINAL-URL:https://swingdanceevents.ch
X-WR-CALDESC:Veranstaltungen für Swing Dance Events Switzerland
REFRESH-INTERVAL;VALUE=DURATION:PT1H
X-Robots-Tag:noindex
X-PUBLISHED-TTL:PT1H
BEGIN:VTIMEZONE
TZID:Europe/Zurich
BEGIN:DAYLIGHT
TZOFFSETFROM:+0100
TZOFFSETTO:+0200
TZNAME:CEST
DTSTART:20250330T010000
END:DAYLIGHT
BEGIN:STANDARD
TZOFFSETFROM:+0200
TZOFFSETTO:+0100
TZNAME:CET
DTSTART:20251026T010000
END:STANDARD
BEGIN:DAYLIGHT
TZOFFSETFROM:+0100
TZOFFSETTO:+0200
TZNAME:CEST
DTSTART:20260329T010000
END:DAYLIGHT
BEGIN:STANDARD
TZOFFSETFROM:+0200
TZOFFSETTO:+0100
TZNAME:CET
DTSTART:20261025T010000
END:STANDARD
BEGIN:DAYLIGHT
TZOFFSETFROM:+0100
TZOFFSETTO:+0200
TZNAME:CEST
DTSTART:20270328T010000
END:DAYLIGHT
BEGIN:STANDARD
TZOFFSETFROM:+0200
TZOFFSETTO:+0100
TZNAME:CET
DTSTART:20271031T010000
END:STANDARD
END:VTIMEZONE
BEGIN:VEVENT
DTSTART;TZID=Europe/Zurich:20260324T190000
DTEND;TZID=Europe/Zurich:20260324T233000
DTSTAMP:20260419T221814
CREATED:20260310T193335Z
LAST-MODIFIED:20260310T193815Z
UID:10002986-1774378800-1774395000@swingdanceevents.ch
SUMMARY:El Boge Swing Social Special 100 Year Savoy Ballroom Celebration with Chester Whitmore
DESCRIPTION:Wir feiern das100 Jahre Jubiläum des Savoy Ballroom\, dem Geburtsort des Lindy Hop! \nDazu wird Chester Whitmore bei uns zu Gast sein und eine Talk machen\, und einfach Chester sein….  Er einer der 4 letzen noch lebenden Orginaltänzer\, und der einzige von Ihnen der noch Wild Kicking die Dancefloors unsicher macht. \n7 Uhr Talk Savoy Ballrom by Chester Whitmore \n8:15 Socialdance mit DJ Waldvogel. Special Guest Chester Whitmore \nSichere Dir Deinen Platz: \nChester’s Corner \n \nMore about Chester https://www.google.com/search?q=Chester+Whitmore+videos&udm=7 \n 
URL:https://swingdanceevents.ch/event/el-boge-swing-social-classes-beginners-welcome-6-2-2-3-3-3-2-2-4-3-4-2-5-4-2-2-2-2-2-2-2-5-2-3-2-2-2-2-2-3-4-13-5/
LOCATION:El Social\, Viaduktstrasse 64\, Zürich\, ZH\, 8005\, Switzerland
CATEGORIES:Class,Crashcourse,DJ,Party,Show,Socialdance
ATTACH;FMTTYPE=image/png:https://swingdanceevents.ch/wp-content/uploads/2026/02/flyer260324Chester2026.png
END:VEVENT
END:VCALENDAR