BEGIN:VCALENDAR
VERSION:2.0
PRODID:-//Swing Dance Events Switzerland - ECPv6.15.20//NONSGML v1.0//EN
CALSCALE:GREGORIAN
METHOD:PUBLISH
X-ORIGINAL-URL:https://swingdanceevents.ch
X-WR-CALDESC:Veranstaltungen für Swing Dance Events Switzerland
REFRESH-INTERVAL;VALUE=DURATION:PT1H
X-Robots-Tag:noindex
X-PUBLISHED-TTL:PT1H
BEGIN:VTIMEZONE
TZID:Europe/Zurich
BEGIN:DAYLIGHT
TZOFFSETFROM:+0100
TZOFFSETTO:+0200
TZNAME:CEST
DTSTART:20250330T010000
END:DAYLIGHT
BEGIN:STANDARD
TZOFFSETFROM:+0200
TZOFFSETTO:+0100
TZNAME:CET
DTSTART:20251026T010000
END:STANDARD
BEGIN:DAYLIGHT
TZOFFSETFROM:+0100
TZOFFSETTO:+0200
TZNAME:CEST
DTSTART:20260329T010000
END:DAYLIGHT
BEGIN:STANDARD
TZOFFSETFROM:+0200
TZOFFSETTO:+0100
TZNAME:CET
DTSTART:20261025T010000
END:STANDARD
BEGIN:DAYLIGHT
TZOFFSETFROM:+0100
TZOFFSETTO:+0200
TZNAME:CEST
DTSTART:20270328T010000
END:DAYLIGHT
BEGIN:STANDARD
TZOFFSETFROM:+0200
TZOFFSETTO:+0100
TZNAME:CET
DTSTART:20271031T010000
END:STANDARD
END:VTIMEZONE
BEGIN:VEVENT
DTSTART;TZID=Europe/Zurich:20260329T154500
DTEND;TZID=Europe/Zurich:20260329T190000
DTSTAMP:20260419T205533
CREATED:20260315T150231Z
LAST-MODIFIED:20260315T150350Z
UID:10003158-1774799100-1774810800@swingdanceevents.ch
SUMMARY:Die Shake’n’Cake *Party* der Crazy Shakers
DESCRIPTION:Was?\nUnsere shake’n’cake-Party – vom Feinsten 🙂 \nWann?\n15:45-16:30: Crashkurs (5 CHF)\, diesmal „Solo Moves“ \n16:30-19:00: Party (10 CHF) \nWo?\nClub Silbando\, Förrlibuckstrasse 62\, CH-8005 Zürich (Richtung Eingang Swisscom gehen; auf der linken Seite der ‘Terrasse’ ist eine Tür mit Schild ‘Silbando’\, dann in den 1. Stock.) \nWie?\nÖV: Hardturmstrasse; Parkieren: Am besten im Parkhaus Züri West an der Förrlibuckstrasse 151 \nWarum?\nTanzen – lernen – Spass haben… Der Cake immer lecker\, Kaffee\, Tee und andere gute Getränke. \nLindy Hoppers welcome!\nEin Angebot\, dass du nicht ablehnen kannst…
URL:https://swingdanceevents.ch/event/die-shakencake-party-der-crazy-shakers-2/
LOCATION:Club Silbando\, Förrlibuckstrasse 62\, Zürich\, ZH\, 8005\, Switzerland
CATEGORIES:Party,Socialdance,Teaster
ATTACH;FMTTYPE=image/jpeg:https://swingdanceevents.ch/wp-content/uploads/2026/03/cfb47ade-75da-45b9-a572-8eaf02e3412b.jpg
END:VEVENT
BEGIN:VEVENT
DTSTART;TZID=Europe/Zurich:20260329T160000
DTEND;TZID=Europe/Zurich:20260329T190000
DTSTAMP:20260419T205533
CREATED:20260122T143359Z
LAST-MODIFIED:20260225T143323Z
UID:10003096-1774800000-1774810800@swingdanceevents.ch
SUMMARY:Sunday Shag’n’Shuffle
DESCRIPTION:Für all Balboa & Collegiate Shag und weitere fast-feet friends! \nKomm vorbei und schwing die Tanzbeine beim Shag’n’Shuffle Social Dance! Egal ob Anfänger oder Profi – hier ist für alle etwas dabei\, die schnelle Schuhsohlen lieben und Lust auf einen gemütlichen Tanzevent haben! \nLocation: Downtownswing Studio\, Hohlstrasse 86a\, 8004 Zürich \nMehr Infos: https://shagnshuffle.ch \nEintritt: CHF 15.00 \nMit Legi: CHF 10.00 \nHelfer*innen gesucht! Für Helfende gibt’s den Eintritt + 1 Getränk! \nEinsatzmöglichkeiten: \n\nKasse/Eintrittskontrolle 1 (15:45-16:45)\nKasse/Eintrittskontrolle 2 (16:45-17:45)\nKasse/Eintrittskontrolle 3 (17:45-18:45)\nAbbau (19:00-20:00)\n\nhttps://portal.helfereinsatz.ch/downtownswing \nDANKE für deine Unterstützung!
URL:https://swingdanceevents.ch/event/sunday-shagnshuffle-2/2026-03-29/
LOCATION:Tanzstudio DOWNTOWNSWING\, Hohlstrasse 86a\, Zürich\, ZH\, 8004\, Switzerland
CATEGORIES:DJ,Party,Socialdance
ATTACH;FMTTYPE=image/jpeg:https://swingdanceevents.ch/wp-content/uploads/2026/01/20260101-Sunday-ShagNSuffle-NEW.jpg
ORGANIZER;CN="Downtownswing":MAILTO:info@downtownswing.ch
END:VEVENT
END:VCALENDAR