BEGIN:VCALENDAR
VERSION:2.0
PRODID:-//Swing Dance Events Switzerland - ECPv6.15.20//NONSGML v1.0//EN
CALSCALE:GREGORIAN
METHOD:PUBLISH
X-WR-CALNAME:Swing Dance Events Switzerland
X-ORIGINAL-URL:https://swingdanceevents.ch
X-WR-CALDESC:Veranstaltungen für Swing Dance Events Switzerland
REFRESH-INTERVAL;VALUE=DURATION:PT1H
X-Robots-Tag:noindex
X-PUBLISHED-TTL:PT1H
BEGIN:VTIMEZONE
TZID:Europe/Zurich
BEGIN:DAYLIGHT
TZOFFSETFROM:+0100
TZOFFSETTO:+0200
TZNAME:CEST
DTSTART:20250330T010000
END:DAYLIGHT
BEGIN:STANDARD
TZOFFSETFROM:+0200
TZOFFSETTO:+0100
TZNAME:CET
DTSTART:20251026T010000
END:STANDARD
BEGIN:DAYLIGHT
TZOFFSETFROM:+0100
TZOFFSETTO:+0200
TZNAME:CEST
DTSTART:20260329T010000
END:DAYLIGHT
BEGIN:STANDARD
TZOFFSETFROM:+0200
TZOFFSETTO:+0100
TZNAME:CET
DTSTART:20261025T010000
END:STANDARD
BEGIN:DAYLIGHT
TZOFFSETFROM:+0100
TZOFFSETTO:+0200
TZNAME:CEST
DTSTART:20270328T010000
END:DAYLIGHT
BEGIN:STANDARD
TZOFFSETFROM:+0200
TZOFFSETTO:+0100
TZNAME:CET
DTSTART:20271031T010000
END:STANDARD
END:VTIMEZONE
BEGIN:VEVENT
DTSTART;TZID=Europe/Zurich:20260408T200000
DTEND;TZID=Europe/Zurich:20260408T233000
DTSTAMP:20260419T162608
CREATED:20260330T134257Z
LAST-MODIFIED:20260330T134257Z
UID:10003163-1775678400-1775691000@swingdanceevents.ch
SUMMARY:SPEAKEASY - Lindy Hop Social
DESCRIPTION:Our mission is to bring you this special vintage vibe that we all love so much\, the kind that makes you feel like you’ve just stepped back into the golden age of swing music.\nThe KweerBar is kindly hosting us again\, opening their hidden Speakeasy for us. We trust you’ll find your way in.\nLive music comes from the famous ‘The Monday Swing’\, supported by DJ Roadjack before\, in between and after the two sets.\nEntry is free of charge and every level is welcome.\nPlease\, show the band your appreciation\, they keep our scene alive with their talent and passion !!\nCash and Twint payment will be possible.\nWe are looking forward to seeing you on the dancefloor! \nLocation: KweerBar\, Spitalgasse 14\, Zürich-Niederdorf
URL:https://swingdanceevents.ch/event/speakeasy-lindy-hop-social-2/
LOCATION:Kweer Bar\, Spitalgasse 14\, Zürich\, ZH\, 8001\, Switzerland
CATEGORIES:Party
ATTACH;FMTTYPE=image/png:https://swingdanceevents.ch/wp-content/uploads/2026/03/Speakeasy-08042026-English.png
END:VEVENT
BEGIN:VEVENT
DTSTART;TZID=Europe/Zurich:20260408T201500
DTEND;TZID=Europe/Zurich:20260408T233000
DTSTAMP:20260419T162608
CREATED:20250706T163345Z
LAST-MODIFIED:20251125T153125Z
UID:10002717-1775679300-1775691000@swingdanceevents.ch
SUMMARY:Swing Cocktail
DESCRIPTION:Deine wöchentliche Portion Tanzglück \nAm Swing Cocktail verwöhnen wir Dich mit der besten Swing-Musik unserer grossartigen DJs\, laden regelmässig fabelhafte Bands ein und tanzen\, was das Zeug hält. Komm und swing mit uns\, probier neugelernte Moves aus\, plaudere mit Deinen Freund:innen und geniess die entspannte Atmosphäre – jeden Mittwoch in der schmucken Archbar direkt am Hauptbahnhof Winterthur. \nSocial Dance 20:15–23:30\nEintritt CHF 10.- / 5.- (Legi) // bei Liveband Hutkollekte (Empfehlung CHF 15-20.-) \nÜber DJs\, Bands und weitere Specials informieren wir Dich auf Instagram\, Facebook und WhatsApp.
URL:https://swingdanceevents.ch/event/swing-cocktail-21/2026-04-08/
LOCATION:Archbar\, Archstrasse 2\, Winterthur\, 8400\, Switzerland
CATEGORIES:DJ,Socialdance
ATTACH;FMTTYPE=image/jpeg:https://swingdanceevents.ch/wp-content/uploads/2025/07/SC_Quadrat_klein.jpg
ORGANIZER;CN="Swingscouts%2C Winterthur":MAILTO:info@swingscouts.ch
END:VEVENT
END:VCALENDAR