BEGIN:VCALENDAR
VERSION:2.0
PRODID:-//Swing Dance Events Switzerland - ECPv6.15.20//NONSGML v1.0//EN
CALSCALE:GREGORIAN
METHOD:PUBLISH
X-WR-CALNAME:Swing Dance Events Switzerland
X-ORIGINAL-URL:https://swingdanceevents.ch
X-WR-CALDESC:Veranstaltungen für Swing Dance Events Switzerland
REFRESH-INTERVAL;VALUE=DURATION:PT1H
X-Robots-Tag:noindex
X-PUBLISHED-TTL:PT1H
BEGIN:VTIMEZONE
TZID:Europe/Zurich
BEGIN:DAYLIGHT
TZOFFSETFROM:+0100
TZOFFSETTO:+0200
TZNAME:CEST
DTSTART:20250330T010000
END:DAYLIGHT
BEGIN:STANDARD
TZOFFSETFROM:+0200
TZOFFSETTO:+0100
TZNAME:CET
DTSTART:20251026T010000
END:STANDARD
BEGIN:DAYLIGHT
TZOFFSETFROM:+0100
TZOFFSETTO:+0200
TZNAME:CEST
DTSTART:20260329T010000
END:DAYLIGHT
BEGIN:STANDARD
TZOFFSETFROM:+0200
TZOFFSETTO:+0100
TZNAME:CET
DTSTART:20261025T010000
END:STANDARD
BEGIN:DAYLIGHT
TZOFFSETFROM:+0100
TZOFFSETTO:+0200
TZNAME:CEST
DTSTART:20270328T010000
END:DAYLIGHT
BEGIN:STANDARD
TZOFFSETFROM:+0200
TZOFFSETTO:+0100
TZNAME:CET
DTSTART:20271031T010000
END:STANDARD
END:VTIMEZONE
BEGIN:VEVENT
DTSTART;TZID=Europe/Zurich:20260418T103000
DTEND;TZID=Europe/Zurich:20260418T153000
DTSTAMP:20260419T150635
CREATED:20260326T115015Z
LAST-MODIFIED:20260326T115015Z
UID:10003162-1776508200-1776526200@swingdanceevents.ch
SUMMARY:SlowBal days with Brenda Russell
DESCRIPTION:A weekend to slow down\, refine\, and connect—exploring smooth Balboa\, traveling rhythms\, and Blues connection. \nFriday18:00–20:30 —Pure Balboa (Willie Desatoff Syllabus)\nSaturday10:30–11:00 — Warm-Up11:00–13:00 — Slicker13:00–13:30 — Break13:30–15:30 — Laminu\n👉 more Details on Facebook Event or in the registration form
URL:https://swingdanceevents.ch/event/slowbal-days-with-brenda-russell/2026-04-18/
LOCATION:IFMZ Zürich\, Zeughausstrasse 56\, Zürich\, Zürich\, 8004\, Switzerland
CATEGORIES:Workshop
END:VEVENT
BEGIN:VEVENT
DTSTART;TZID=Europe/Zurich:20260418T160000
DTEND;TZID=Europe/Zurich:20260418T190000
DTSTAMP:20260419T150635
CREATED:20250914T204432Z
LAST-MODIFIED:20260125T122705Z
UID:10002921-1776528000-1776538800@swingdanceevents.ch
SUMMARY:Tea Time Swing: Saisonabschluss
DESCRIPTION:Tea Time Swing mit auserlesenem Tee\, feinem Kuchen und Swing Musik zum Tanzen.\nNeu: an zwei Samstagen pro Monat\, von 16:00 bis 19:00 Uhr. \nMusik:\nDJ Kuno\nDJ Rahel \nEintritt:\nCHF 10.- \nKuchen backen:\nUnterstütze uns mit einem Kuchen und erhalte einen Eintritt\, dazu Tee & Kuchen. \nMitmachen:\nHilf uns beim Kuchen- und Teeverkauf oder an der Eintrittskasse und erhalte freien Eintritt. Melde dich unter:\nportal.helfereinsatz.ch/teatimeswing
URL:https://swingdanceevents.ch/event/tea-time-swing-saisonabschluss-2/
LOCATION:Bananenreiferei\, Pfingstweidstrasse 101\, Zürich\, 8005
CATEGORIES:DJ,Party
ATTACH;FMTTYPE=image/png:https://swingdanceevents.ch/wp-content/uploads/2025/09/2025_tts_web_high_1920_1080-3.png
END:VEVENT
BEGIN:VEVENT
DTSTART;TZID=Europe/Zurich:20260418T190000
DTEND;TZID=Europe/Zurich:20260419T030000
DTSTAMP:20260419T150635
CREATED:20260227T151018Z
LAST-MODIFIED:20260227T151018Z
UID:10003152-1776538800-1776567600@swingdanceevents.ch
SUMMARY:Jell-O Rail
DESCRIPTION:Jell-O Rail – bis die Knees «wobblen»… … und gerne auch noch weiter. Am Samstag\, 18. April tanzen wir\, bis die Schienen zittern und die Beine im Killer Boogie von selbst in die Woobly Knees fallen. Mit Crashkurs bis 20 Uhr und dann Social Dance mit DJ Steven.
URL:https://swingdanceevents.ch/event/jell-o-rail/
LOCATION:Bahnhof Bruggen\, Stationsstasse 22\, St. Gallen\, 9014
CATEGORIES:Crashcourse,Party,Socialdance
ATTACH;FMTTYPE=image/png:https://swingdanceevents.ch/wp-content/uploads/2026/02/Jell-O-Rail_Web.png
END:VEVENT
BEGIN:VEVENT
DTSTART;TZID=Europe/Zurich:20260418T193000
DTEND;TZID=Europe/Zurich:20260418T233000
DTSTAMP:20260419T150635
CREATED:20260219T120855Z
LAST-MODIFIED:20260219T120855Z
UID:10003138-1776540600-1776555000@swingdanceevents.ch
SUMMARY:DOWN TOWN SOCIAL
DESCRIPTION:Feinschliff für deine Moves\, entspannte Vibes zu swingender Musik 🎶\, neue Gesichter kennenlernen oder einfach mit deinen Friends entspannen 😎 \nhttps://app.downtownswing.ch/de/events/down-town-social \nVon Einsteiger*innen bis zum Pro – alle sind herzlich willkommen\, zusammen die Freude am Swingtanzen zu teilen! 💖 \n🎟️ CHF 15.00 / mit Legi CHF 10.00 \n🙌 Helfer*innen gesucht \nHilf bei der Eintrittskontrolle oder beim Abbau! 🙏 Als Dankeschön gibt’s freien Eintritt und 1 Getränk 🍻 \nHelfer*innen für Down Town Social \n⏰ 1x Kasse/Eintrittskontrolle 1 (19:15–20:15) \n⏰ 1x Kasse/Eintrittskontrolle 2 (20:15–21:15) \n⏰ 1x Kasse/Eintrittskontrolle 3 (21:15–22:15) \n⏰ 1x Kasse/Eintrittskontrolle 4 (22:15–23:15) \n⏰ 2x Abbau (23:30–00:15) \n💥 Link zu den Helfereinsätzen \nhttps://portal.helfereinsatz.ch/downtownswing/ \nVielen Dank für deinen Support! 🙌❤️
URL:https://swingdanceevents.ch/event/down-town-social-12/
LOCATION:Tanzstudio DOWNTOWNSWING\, Hohlstrasse 86a\, Zürich\, ZH\, 8004\, Switzerland
ATTACH;FMTTYPE=image/jpeg:https://swingdanceevents.ch/wp-content/uploads/2026/02/20260116-down-town-social-flyer-dates-2026-jan-may-1.jpg
ORGANIZER;CN="Downtownswing":MAILTO:info@downtownswing.ch
END:VEVENT
END:VCALENDAR