BEGIN:VCALENDAR
VERSION:2.0
PRODID:-//Swing Dance Events Switzerland - ECPv6.15.20//NONSGML v1.0//EN
CALSCALE:GREGORIAN
METHOD:PUBLISH
X-ORIGINAL-URL:https://swingdanceevents.ch
X-WR-CALDESC:Veranstaltungen für Swing Dance Events Switzerland
REFRESH-INTERVAL;VALUE=DURATION:PT1H
X-Robots-Tag:noindex
X-PUBLISHED-TTL:PT1H
BEGIN:VTIMEZONE
TZID:Europe/Zurich
BEGIN:DAYLIGHT
TZOFFSETFROM:+0100
TZOFFSETTO:+0200
TZNAME:CEST
DTSTART:20250330T010000
END:DAYLIGHT
BEGIN:STANDARD
TZOFFSETFROM:+0200
TZOFFSETTO:+0100
TZNAME:CET
DTSTART:20251026T010000
END:STANDARD
BEGIN:DAYLIGHT
TZOFFSETFROM:+0100
TZOFFSETTO:+0200
TZNAME:CEST
DTSTART:20260329T010000
END:DAYLIGHT
BEGIN:STANDARD
TZOFFSETFROM:+0200
TZOFFSETTO:+0100
TZNAME:CET
DTSTART:20261025T010000
END:STANDARD
BEGIN:DAYLIGHT
TZOFFSETFROM:+0100
TZOFFSETTO:+0200
TZNAME:CEST
DTSTART:20270328T010000
END:DAYLIGHT
BEGIN:STANDARD
TZOFFSETFROM:+0200
TZOFFSETTO:+0100
TZNAME:CET
DTSTART:20271031T010000
END:STANDARD
END:VTIMEZONE
BEGIN:VEVENT
DTSTART;TZID=Europe/Zurich:20260421T190000
DTEND;TZID=Europe/Zurich:20260421T233000
DTSTAMP:20260419T161728
CREATED:20260413T204431Z
LAST-MODIFIED:20260413T205305Z
UID:10002990-1776798000-1776814200@swingdanceevents.ch
SUMMARY:El Boge Swing LIVE SWING GIGOLOS\, Social & Classes (beginners welcome)
DESCRIPTION:Der Dienstag El Boge Swing Social. \n\n20.15 – 23:30 Socialdance mit LIVE BAND SWING GIGOLOS (Fr.25.-\, 20.- für Teilnehmer Klasse)\nLindy Hop Klassen \n\n19:00 – 19:30 free Lindy CrashCourse\n19:30 – 20:15 Lindy 1 walk in class Fr.20.- (just walk in\, kein Partner notwendig).\nTeachers: Marco “Muetze” & Alina\, Julio\, Matej\, Eike\n\n\nSoloJazz / Jazzroots\n\non a break\n\n\n\nAlle Klassen benötigen keine Anmeldung. Kommt einfach vorbei auf den Klassenstart. \nSwing Gigolos: Die Pioniere des Zürcher Lindy Hop!\nBereit für eine Zeitreise in die goldene Ära des Swing? Wenn die Swing Gigolos die Bühne betreten\, bleibt kein Tanzschuh ruhig. Als eine der ersten Bands der Schweiz haben sie sich darauf spezialisiert\, genau den Sound zu spielen\, den die Lindy Hop Szene liebt: tanzbar\, mitreißend und voller Energie. \nMit ihrer Mischung aus klassischem Swing\, Jive und einer Prise Rock ‘n’ Roll haben sie die Zürcher Tanzflächen geprägt wie kaum eine andere Formation. In dieser Besetzung verschmilzt virtuoses Handwerk mit purer Spielfreude. \nDas Line-up für diesen Event:\nPhilipp Häfliger – Vocals & Guitar (Der Mann für den authentischen Drive und Charme) \nRoger Greipl – Saxophon (Sorgt für die packenden Melodien und den satten Bläsersound) \nThomas Reinecke – Double Bass (Das rhythmische Herz\, das direkt in die Beine geht) \nPatrick Bürli – Drums (Der Taktgeber für die perfekte Dynamik auf dem Parkett) \nEgal ob Profi-Tänzer oder Genuss-Zuhörer: Erlebt handgemachte Musik\, mitreißende Soli und den unverwechselbaren Drive einer Band\, die genau weiß\, wie man eine Tanzfläche zum Beben bringt.
URL:https://swingdanceevents.ch/event/el-boge-swing-social-classes-beginners-welcome-6-2-2-3-3-3-2-2-4-3-4-2-5-4-2-2-2-2-2-2-2-5-2-3-2-2-2-2-2-3-4-13-7-4/
LOCATION:El Social\, Viaduktstrasse 64\, Zürich\, ZH\, 8005\, Switzerland
CATEGORIES:Class,Crashcourse,DJ,Party,Socialdance
ATTACH;FMTTYPE=image/png:https://swingdanceevents.ch/wp-content/uploads/2026/04/FlyerBogen2026_Tuesday_20260421-SwingGigolos.png
END:VEVENT
END:VCALENDAR