BEGIN:VCALENDAR
VERSION:2.0
PRODID:-//Swing Dance Events Switzerland - ECPv6.15.20//NONSGML v1.0//EN
CALSCALE:GREGORIAN
METHOD:PUBLISH
X-WR-CALNAME:Swing Dance Events Switzerland
X-ORIGINAL-URL:https://swingdanceevents.ch
X-WR-CALDESC:Veranstaltungen für Swing Dance Events Switzerland
REFRESH-INTERVAL;VALUE=DURATION:PT1H
X-Robots-Tag:noindex
X-PUBLISHED-TTL:PT1H
BEGIN:VTIMEZONE
TZID:Europe/Zurich
BEGIN:DAYLIGHT
TZOFFSETFROM:+0100
TZOFFSETTO:+0200
TZNAME:CEST
DTSTART:20250330T010000
END:DAYLIGHT
BEGIN:STANDARD
TZOFFSETFROM:+0200
TZOFFSETTO:+0100
TZNAME:CET
DTSTART:20251026T010000
END:STANDARD
BEGIN:DAYLIGHT
TZOFFSETFROM:+0100
TZOFFSETTO:+0200
TZNAME:CEST
DTSTART:20260329T010000
END:DAYLIGHT
BEGIN:STANDARD
TZOFFSETFROM:+0200
TZOFFSETTO:+0100
TZNAME:CET
DTSTART:20261025T010000
END:STANDARD
BEGIN:DAYLIGHT
TZOFFSETFROM:+0100
TZOFFSETTO:+0200
TZNAME:CEST
DTSTART:20270328T010000
END:DAYLIGHT
BEGIN:STANDARD
TZOFFSETFROM:+0200
TZOFFSETTO:+0100
TZNAME:CET
DTSTART:20271031T010000
END:STANDARD
END:VTIMEZONE
BEGIN:VEVENT
DTSTART;VALUE=DATE:20260425
DTEND;VALUE=DATE:20260428
DTSTAMP:20260421T213742
CREATED:20251116T105405Z
LAST-MODIFIED:20260202T190247Z
UID:10002974-1777093200-1777265999@swingdanceevents.ch
SUMMARY:Footwork goes Sideways
DESCRIPTION:Freue dich auf ein tolles Wochenende mit inspirierendem Lindy Hop Unterricht in drei Levels mit Caroline & Cédric sowie Nadine & Janina  und fulminanten Bands. \nDer Name Sideways stand in der Vergangenheit für exquisite Workshops und Parties. Footwork übernimmt diesen Spirit und formt ihn zu einem tollen Wochenende mit inspirierendem Unterricht mit top Teachers und fulminanten Bands. \nDieses Jahr dürfen wir Caroline und Cédric aus Strasbourg begrüssen! Ebenso freuen wir uns auf Nadine und Janina aus der lokalen Szene. \nLindy Hop Unterricht in drei Levels am Samstag und Sonntag. Jeweils eine Party mit Liveband am Samstag und Sonntag. \nDer Unterricht findet in Englisch statt! \nWeitere Infos und der Link zur Anmeldung findest du hier: SIDEWAYS 26 | footwork
URL:https://swingdanceevents.ch/event/footwork-goes-sideways-2/
LOCATION:Sousol Luzern\, Baselstrasse 13\, Luzern\, Luzern\, 6003
CATEGORIES:Class,Festival,LiveBand,Party,Workshop
ATTACH;FMTTYPE=image/jpeg:https://swingdanceevents.ch/wp-content/uploads/2025/11/Caroline-Ce╠uedric-2.jpeg
ORGANIZER;CN="Footwork":MAILTO:info@footwork.ch
END:VEVENT
BEGIN:VEVENT
DTSTART;TZID=Europe/Zurich:20260426T150000
DTEND;TZID=Europe/Zurich:20260426T170000
DTSTAMP:20260421T213742
CREATED:20260122T142149Z
LAST-MODIFIED:20260122T142252Z
UID:10003090-1777215600-1777222800@swingdanceevents.ch
SUMMARY:Swing Practice Session
DESCRIPTION:Willkommen zur Swing Practice Session 🤩! \nDu getraust dich (noch 😅 ) nicht\, auf dem Social Dance Floor das Tanzbein zu schwingen – oder möchtest bereits erlernte Steps & Moves aus deinen Tanzlektionen trainieren? \n\nDann triff dich mit Tanzpartner*in und/oder Tanzgspänli und festige deine Swing- und Social-Dancing Skills an unseren Swing Practice Sessions: \n🔥 Pack deine Trainingskleider ein\n🔥 Socialise mit anderen Kursteilnehmer*innen\n🔥 Bring deine Tanzskills aufs nächste Level \nDies ist kein geführter Kurs. \nWir bieten Tanzfläche\, Musik und Geselligkeit\, mit dem Ziel\, sich zwischen den Kurs-Lektionen auf dem Parkett zu treffen und sich gegenseitig beim Üben zu unterstützen. \nDie Sessions finden hier statt: \nDowntownswing Studio\, Hohlstrasse 86a\, 8004 Zürich \n• Keine verbindliche Anmeldung erforderlich\n• idealerweise mit Tanzpartner*in oder in einer kleinen Gruppe\n• Unkostenbeitrag für den Raum: CHF 5.00 pro Person \nHier findest du alle weiteren Daten. \nViel Spass beim Üben und Socializing 💃🕺!
URL:https://swingdanceevents.ch/event/swing-practice-session-6/2026-04-26/
LOCATION:Tanzstudio DOWNTOWNSWING\, Hohlstrasse 86a\, Zürich\, ZH\, 8004\, Switzerland
CATEGORIES:practica/opentraning
ATTACH;FMTTYPE=image/jpeg:https://swingdanceevents.ch/wp-content/uploads/2026/01/swing-practice-session-.jpg
ORGANIZER;CN="Downtownswing":MAILTO:info@downtownswing.ch
END:VEVENT
BEGIN:VEVENT
DTSTART;TZID=Europe/Zurich:20260426T150000
DTEND;TZID=Europe/Zurich:20260426T190000
DTSTAMP:20260421T213742
CREATED:20260316T074625Z
LAST-MODIFIED:20260316T074625Z
UID:10003159-1777215600-1777230000@swingdanceevents.ch
SUMMARY:SUNDAY HOP
DESCRIPTION:  \nDj Shuffle Deluxe and Guest! \nSwing\, R&B\, Rock’n’ Roll and a  bit of jazzy Soul Popcorn Oldies…. \n👍 Nur 10 Gehminuten vom Bahnhof Zofingen entfernt! \n👍 3 Min. von der Autobahn Ausfahrt Zofingen entfernt \n👍 Gratis Parkplätze beim Lokal \n👍 Ab 14.00 h Teaser (Crashkurs) aus dem “Land of the 1000 dances” -> “Cha Cha Stroll” mit J.J. Tom \n  \nDas Warten hat ein Ende! Egal ob Ihr erst angefangen habt zu tanzen oder schon seit Jahren dabei seit! Egal ob Lindy\, Boogie\, Jive\, Rock ‘n’ Roll\, Stroll… Immer tanzbar und immer etwas Neues! Ab 14.00h jeweils einen Teaser aus dem “Land of a 1000 Dances”. Wir freuen uns auf Euch! 🍀🎼🎶🎶🎶🎶🎶 \n 
URL:https://swingdanceevents.ch/event/sunday-hop/
LOCATION:TAN-Z\, Untere Brühlstrasse 9\, Zofingen\, Aargau\, 4800\, Switzerland
CATEGORIES:DJ,Party,Socialdance,Teaster
ATTACH;FMTTYPE=image/jpeg:https://swingdanceevents.ch/wp-content/uploads/2026/03/1000019182.jpg
END:VEVENT
BEGIN:VEVENT
DTSTART;TZID=Europe/Zurich:20260426T190000
DTEND;TZID=Europe/Zurich:20260426T230000
DTSTAMP:20260421T213742
CREATED:20260227T151211Z
LAST-MODIFIED:20260227T151211Z
UID:10003153-1777230000-1777244400@swingdanceevents.ch
SUMMARY:Swing Express
DESCRIPTION:Der Swing Express fährt wieder in der Lokremise! Steig ein und tanz mit uns.
URL:https://swingdanceevents.ch/event/swing-express-3/
LOCATION:Lokremise St.Gallen\, Grünbergstrasse 7\, St.Gallen\, SG\, 9000\, Switzerland
CATEGORIES:DJ,Socialdance
ATTACH;FMTTYPE=image/jpeg:https://swingdanceevents.ch/wp-content/uploads/2026/02/20220305_swingexpress_02neutral-2.jpg
END:VEVENT
END:VCALENDAR