BEGIN:VCALENDAR
VERSION:2.0
PRODID:-//Swing Dance Events Switzerland - ECPv6.15.20//NONSGML v1.0//EN
CALSCALE:GREGORIAN
METHOD:PUBLISH
X-WR-CALNAME:Swing Dance Events Switzerland
X-ORIGINAL-URL:https://swingdanceevents.ch
X-WR-CALDESC:Veranstaltungen für Swing Dance Events Switzerland
REFRESH-INTERVAL;VALUE=DURATION:PT1H
X-Robots-Tag:noindex
X-PUBLISHED-TTL:PT1H
BEGIN:VTIMEZONE
TZID:Europe/Zurich
BEGIN:DAYLIGHT
TZOFFSETFROM:+0100
TZOFFSETTO:+0200
TZNAME:CEST
DTSTART:20250330T010000
END:DAYLIGHT
BEGIN:STANDARD
TZOFFSETFROM:+0200
TZOFFSETTO:+0100
TZNAME:CET
DTSTART:20251026T010000
END:STANDARD
BEGIN:DAYLIGHT
TZOFFSETFROM:+0100
TZOFFSETTO:+0200
TZNAME:CEST
DTSTART:20260329T010000
END:DAYLIGHT
BEGIN:STANDARD
TZOFFSETFROM:+0200
TZOFFSETTO:+0100
TZNAME:CET
DTSTART:20261025T010000
END:STANDARD
BEGIN:DAYLIGHT
TZOFFSETFROM:+0100
TZOFFSETTO:+0200
TZNAME:CEST
DTSTART:20270328T010000
END:DAYLIGHT
BEGIN:STANDARD
TZOFFSETFROM:+0200
TZOFFSETTO:+0100
TZNAME:CET
DTSTART:20271031T010000
END:STANDARD
END:VTIMEZONE
BEGIN:VEVENT
DTSTART;TZID=Europe/Zurich:20260428T190000
DTEND;TZID=Europe/Zurich:20260428T223000
DTSTAMP:20260419T162733
CREATED:20260227T151419Z
LAST-MODIFIED:20260227T151419Z
UID:10003154-1777402800-1777415400@swingdanceevents.ch
SUMMARY:Lindy Circle
DESCRIPTION:Am letzten Dienstag im Monat treffen wir uns im Keller vom Kaffe und Club Øya. Lindy Hop Crashkurs von 19:00 – 20:00 Uhr (Unkostenbeitrag 10.-) anschliessend Open Dance Floor (Kollekte).
URL:https://swingdanceevents.ch/event/lindy-circle-8/
LOCATION:ØYA BAR\, Schwertgasse 27\, St.Gallen\, SG\, 9000\, Switzerland
CATEGORIES:Crashcourse,DJ,Socialdance
ATTACH;FMTTYPE=image/jpeg:https://swingdanceevents.ch/wp-content/uploads/2026/02/20230131_lindy-circle_oya_01_A6-3.jpg
END:VEVENT
BEGIN:VEVENT
DTSTART;TZID=Europe/Zurich:20260428T190000
DTEND;TZID=Europe/Zurich:20260428T233000
DTSTAMP:20260419T162733
CREATED:20260402T103342Z
LAST-MODIFIED:20260402T103342Z
UID:10002991-1777402800-1777419000@swingdanceevents.ch
SUMMARY:El Boge Swing Social & Classes (beginners welcome)
DESCRIPTION:Der Dienstag El Boge Swing Social. \n\n20.15 – 23:30 Socialdance mit DJ (Fr.10.-\, 5.- für Teilnehmer Klasse)\nLindy Hop Klassen \n\n19:00 – 19:30 free Lindy CrashCourse\n19:30 – 20:15 Lindy 1 walk in class Fr.20.- (just walk in\, kein Partner notwendig).\nTeachers: Marco “Muetze” & Alina\, Julio\, Matej\, Eike\n\n\nSoloJazz / Jazzroots\n\non a break\n\n\n\nAlle Klassen benötigen keine Anmeldung. Kommt einfach vorbei auf den Klassenstart.
URL:https://swingdanceevents.ch/event/el-boge-swing-social-classes-beginners-welcome-6-2-2-3-3-3-2-2-4-3-4-2-5-4-2-2-2-2-2-2-2-5-2-3-2-2-2-2-2-3-4-13-7/2026-04-28/
LOCATION:El Social\, Viaduktstrasse 64\, Zürich\, ZH\, 8005\, Switzerland
CATEGORIES:Class,Crashcourse,DJ,Party,Socialdance
ATTACH;FMTTYPE=image/png:https://swingdanceevents.ch/wp-content/uploads/2025/10/FlyerBogen2025_Tuesday_standard.png
END:VEVENT
END:VCALENDAR