BEGIN:VCALENDAR
VERSION:2.0
PRODID:-//Swing Dance Events Switzerland - ECPv6.15.20//NONSGML v1.0//EN
CALSCALE:GREGORIAN
METHOD:PUBLISH
X-ORIGINAL-URL:https://swingdanceevents.ch
X-WR-CALDESC:Veranstaltungen für Swing Dance Events Switzerland
REFRESH-INTERVAL;VALUE=DURATION:PT1H
X-Robots-Tag:noindex
X-PUBLISHED-TTL:PT1H
BEGIN:VTIMEZONE
TZID:Europe/Zurich
BEGIN:DAYLIGHT
TZOFFSETFROM:+0100
TZOFFSETTO:+0200
TZNAME:CEST
DTSTART:20250330T010000
END:DAYLIGHT
BEGIN:STANDARD
TZOFFSETFROM:+0200
TZOFFSETTO:+0100
TZNAME:CET
DTSTART:20251026T010000
END:STANDARD
BEGIN:DAYLIGHT
TZOFFSETFROM:+0100
TZOFFSETTO:+0200
TZNAME:CEST
DTSTART:20260329T010000
END:DAYLIGHT
BEGIN:STANDARD
TZOFFSETFROM:+0200
TZOFFSETTO:+0100
TZNAME:CET
DTSTART:20261025T010000
END:STANDARD
BEGIN:DAYLIGHT
TZOFFSETFROM:+0100
TZOFFSETTO:+0200
TZNAME:CEST
DTSTART:20270328T010000
END:DAYLIGHT
BEGIN:STANDARD
TZOFFSETFROM:+0200
TZOFFSETTO:+0100
TZNAME:CET
DTSTART:20271031T010000
END:STANDARD
END:VTIMEZONE
BEGIN:VEVENT
DTSTART;VALUE=DATE:20260501
DTEND;VALUE=DATE:20260505
DTSTAMP:20260419T192257
CREATED:20260210T092544Z
LAST-MODIFIED:20260210T092544Z
UID:10003133-1777611600-1777870799@swingdanceevents.ch
SUMMARY:Swingsalabim
DESCRIPTION:Erlebe ein beschwingtes Tanz-Wochenende voller Energie\, Swing und guter Laune! Beim Lindy Hop Festival Swingsalabim erwarten dich abwechslungsreiche Workshops für alle Levels\, mitreissende Partys\, Live-Bands und ein inspirierendes Tanz-Community-Erlebnis im Schlossgutareal Münsingen. Egal ob Einsteiger oder fortgeschrittene Swing-Tänzer*innen – come in and swing out!
URL:https://swingdanceevents.ch/event/swingsalabim-2/
LOCATION:Schlossgutsaal Münsingen\, Schlossstrasse 8\, Münsingen\, Bern\, 3110\, Switzerland
ATTACH;FMTTYPE=image/png:https://swingdanceevents.ch/wp-content/uploads/2026/02/Facebook-Header_2026-scaled.png
ORGANIZER;CN="T-Shape Swing":MAILTO:Info@tshapeswing.ch
END:VEVENT
BEGIN:VEVENT
DTSTART;VALUE=DATE:20260501
DTEND;VALUE=DATE:20260505
DTSTAMP:20260419T192257
CREATED:20260331T211016Z
LAST-MODIFIED:20260331T211839Z
UID:10003164-1777611600-1777870799@swingdanceevents.ch
SUMMARY:Spread the Shag
DESCRIPTION:Join our cozy Shag workshop which is open to all levels. We welcome Vivienne (Darmstadt\, Germany) and Louise (Linz\, Austria) as teachers to share their passion for Shag with us. \nFull schedule is available at https://www.swinginkonstanz.de/wp-content/uploads/2026/03/Ueberblick-Shag-2026.pdf
URL:https://swingdanceevents.ch/event/spread-the-shag/
LOCATION:Madame Moustache\, Obere Laube 55\, Konstanz
CATEGORIES:Workshop
ATTACH;FMTTYPE=image/png:https://swingdanceevents.ch/wp-content/uploads/2026/03/SpreadTheShag.png
END:VEVENT
BEGIN:VEVENT
DTSTART;TZID=Europe/Zurich:20260501T190000
DTEND;TZID=Europe/Zurich:20260502T000000
DTSTAMP:20260419T192257
CREATED:20260331T211721Z
LAST-MODIFIED:20260331T211721Z
UID:10003165-1777662000-1777680000@swingdanceevents.ch
SUMMARY:Spread the Shag - Freitags Party & Crashkurs
DESCRIPTION:Die Freitagsparty unsers Shag Wochenendes.\nMusik kommt von unseren DJs. \n19:00 – Crashkurs\n20:30 – Party
URL:https://swingdanceevents.ch/event/spread-the-shag-freitags-party-crashkurs/
LOCATION:Madame Moustache\, Obere Laube 55\, Konstanz
CATEGORIES:Crashcourse,DJ,Party
ATTACH;FMTTYPE=image/png:https://swingdanceevents.ch/wp-content/uploads/2026/03/SpreadTheShag-1.png
END:VEVENT
END:VCALENDAR