BEGIN:VCALENDAR
VERSION:2.0
PRODID:-//Swing Dance Events Switzerland - ECPv6.15.20//NONSGML v1.0//EN
CALSCALE:GREGORIAN
METHOD:PUBLISH
X-ORIGINAL-URL:https://swingdanceevents.ch
X-WR-CALDESC:Veranstaltungen für Swing Dance Events Switzerland
REFRESH-INTERVAL;VALUE=DURATION:PT1H
X-Robots-Tag:noindex
X-PUBLISHED-TTL:PT1H
BEGIN:VTIMEZONE
TZID:Europe/Zurich
BEGIN:DAYLIGHT
TZOFFSETFROM:+0100
TZOFFSETTO:+0200
TZNAME:CEST
DTSTART:20250330T010000
END:DAYLIGHT
BEGIN:STANDARD
TZOFFSETFROM:+0200
TZOFFSETTO:+0100
TZNAME:CET
DTSTART:20251026T010000
END:STANDARD
BEGIN:DAYLIGHT
TZOFFSETFROM:+0100
TZOFFSETTO:+0200
TZNAME:CEST
DTSTART:20260329T010000
END:DAYLIGHT
BEGIN:STANDARD
TZOFFSETFROM:+0200
TZOFFSETTO:+0100
TZNAME:CET
DTSTART:20261025T010000
END:STANDARD
BEGIN:DAYLIGHT
TZOFFSETFROM:+0100
TZOFFSETTO:+0200
TZNAME:CEST
DTSTART:20270328T010000
END:DAYLIGHT
BEGIN:STANDARD
TZOFFSETFROM:+0200
TZOFFSETTO:+0100
TZNAME:CET
DTSTART:20271031T010000
END:STANDARD
END:VTIMEZONE
BEGIN:VEVENT
DTSTART;TZID=Europe/Zurich:20260506T194500
DTEND;TZID=Europe/Zurich:20260506T204500
DTSTAMP:20260421T082656
CREATED:20260416T170653Z
LAST-MODIFIED:20260416T170653Z
UID:10003254-1778096700-1778100300@swingdanceevents.ch
SUMMARY:Blues – Intro to Jookin’ Latin Blues Edition
DESCRIPTION:Our intro series are the place to discover blues dancing\, or brush up your basics! We have two series of 8 classes each – Intro to Jookin’ and Intro to Ballroomin’.\nAttend both (in any order) to get an overview of the two main families of blues dancing. No prerequisites or partner needed!\n\n Backstage Studio\, Zürich Wednesdays\, 19:45 – 20:45 8 classes\n\nAll info and registration: https://bluesli.ch/weekly-classes/ \n\n\nWhat is Latin Blues?\nLatin Blues was created by the influence of Latin music and their rhythms to existing Blues. Examples include the Afro-Cuban Habanera rhythm. Jazz pioneer Jelly Roll Morton called this addition of Habanera rhythm to Blues “Spanish Tinge”.
URL:https://swingdanceevents.ch/event/blues-intro-to-jookin-latin-blues-edition/
LOCATION:Backstage Studio\, Hardstrasse 81\, Zürich\, Zürich\, 8004\, Switzerland
CATEGORIES:Class
ATTACH;FMTTYPE=image/jpeg:https://swingdanceevents.ch/wp-content/uploads/2026/04/ClassParty_BlossomBlues2019-1200x801-1.jpg
ORGANIZER;CN="Blues and more":MAILTO:registerbluesli@gmail.com
END:VEVENT
END:VCALENDAR