BEGIN:VCALENDAR
VERSION:2.0
PRODID:-//Swing Dance Events Switzerland - ECPv6.15.20//NONSGML v1.0//EN
CALSCALE:GREGORIAN
METHOD:PUBLISH
X-WR-CALNAME:Swing Dance Events Switzerland
X-ORIGINAL-URL:https://swingdanceevents.ch
X-WR-CALDESC:Veranstaltungen für Swing Dance Events Switzerland
REFRESH-INTERVAL;VALUE=DURATION:PT1H
X-Robots-Tag:noindex
X-PUBLISHED-TTL:PT1H
BEGIN:VTIMEZONE
TZID:Europe/Zurich
BEGIN:DAYLIGHT
TZOFFSETFROM:+0100
TZOFFSETTO:+0200
TZNAME:CEST
DTSTART:20250330T010000
END:DAYLIGHT
BEGIN:STANDARD
TZOFFSETFROM:+0200
TZOFFSETTO:+0100
TZNAME:CET
DTSTART:20251026T010000
END:STANDARD
BEGIN:DAYLIGHT
TZOFFSETFROM:+0100
TZOFFSETTO:+0200
TZNAME:CEST
DTSTART:20260329T010000
END:DAYLIGHT
BEGIN:STANDARD
TZOFFSETFROM:+0200
TZOFFSETTO:+0100
TZNAME:CET
DTSTART:20261025T010000
END:STANDARD
BEGIN:DAYLIGHT
TZOFFSETFROM:+0100
TZOFFSETTO:+0200
TZNAME:CEST
DTSTART:20270328T010000
END:DAYLIGHT
BEGIN:STANDARD
TZOFFSETFROM:+0200
TZOFFSETTO:+0100
TZNAME:CET
DTSTART:20271031T010000
END:STANDARD
END:VTIMEZONE
BEGIN:VEVENT
DTSTART;TZID=Europe/Zurich:20260704T170000
DTEND;TZID=Europe/Zurich:20260704T220000
DTSTAMP:20260421T111725
CREATED:20260109T093133Z
LAST-MODIFIED:20260109T093133Z
UID:10003060-1783184400-1783202400@swingdanceevents.ch
SUMMARY:Aescher Swing
DESCRIPTION:Der Social Dance mit der schönsten Aussicht der Schweiz! \n  \nWas will man mehr als vor einer malerischen Bergkulisse das Tanzbein zu schwingen\, sich bei einem Huusiistee oder einem kühlen Bier zu erfrischen und feines aus der Aescher Speisekarte zu geniessen!? \n  \nWie kommst du zum Aescher und wieder nach Hause? \n  \nBitte beachte den Fahrplan bezüglich letzter Bergfahrt auf https://www.ebenalp.ch (normalerweise 18.45 Uhr). \n  \nAb Parkplatz “Erstböhl” ist der Aufstieg ca. 1 Std. und der Abstieg (mit Stirnlampe) ca. 40 min. Am besten bildet ihr in der Swingcommunity Fahrgemeinschaften.\nFreitag und Samstag würde dich beim Erstböhl auch der PubliCar auf Vorbestellung abholen und nach Appenzell zum Bahnhof bringen: https://www.postauto.ch/de/publicar-appenzell-ai   \n  \nWeitere Infos: \n  \n\nFindet bei jeder Witterung statt.\nEintritt: Kollekte (kein Ticket benötigt)\nÜbernachtung: Bei Interesse auf dem Aescher zu übernachten\, melde dich spätestens 7 tage vorher bei info@aescher.ch mit Erwähnung\, dass du Tänzer/-in bist.
URL:https://swingdanceevents.ch/event/aescher-swing-12/
LOCATION:Aescher Gasthaus am Berg\, Äscher 1\, Schwende\, AI\, 9057\, Switzerland
CATEGORIES:Socialdance
ATTACH;FMTTYPE=image/jpeg:https://swingdanceevents.ch/wp-content/uploads/2026/01/Aescherswing-1.jpg
END:VEVENT
END:VCALENDAR