BEGIN:VCALENDAR
VERSION:2.0
PRODID:-//Swing Dance Events Switzerland - ECPv6.15.20//NONSGML v1.0//EN
CALSCALE:GREGORIAN
METHOD:PUBLISH
X-WR-CALNAME:Swing Dance Events Switzerland
X-ORIGINAL-URL:https://swingdanceevents.ch
X-WR-CALDESC:Veranstaltungen für Swing Dance Events Switzerland
REFRESH-INTERVAL;VALUE=DURATION:PT1H
X-Robots-Tag:noindex
X-PUBLISHED-TTL:PT1H
BEGIN:VTIMEZONE
TZID:Europe/Zurich
BEGIN:DAYLIGHT
TZOFFSETFROM:+0100
TZOFFSETTO:+0200
TZNAME:CEST
DTSTART:20250330T010000
END:DAYLIGHT
BEGIN:STANDARD
TZOFFSETFROM:+0200
TZOFFSETTO:+0100
TZNAME:CET
DTSTART:20251026T010000
END:STANDARD
BEGIN:DAYLIGHT
TZOFFSETFROM:+0100
TZOFFSETTO:+0200
TZNAME:CEST
DTSTART:20260329T010000
END:DAYLIGHT
BEGIN:STANDARD
TZOFFSETFROM:+0200
TZOFFSETTO:+0100
TZNAME:CET
DTSTART:20261025T010000
END:STANDARD
BEGIN:DAYLIGHT
TZOFFSETFROM:+0100
TZOFFSETTO:+0200
TZNAME:CEST
DTSTART:20270328T010000
END:DAYLIGHT
BEGIN:STANDARD
TZOFFSETFROM:+0200
TZOFFSETTO:+0100
TZNAME:CET
DTSTART:20271031T010000
END:STANDARD
END:VTIMEZONE
BEGIN:VEVENT
DTSTART;TZID=Europe/Zurich:20260915T190000
DTEND;TZID=Europe/Zurich:20260915T233000
DTSTAMP:20260419T225018
CREATED:20260402T103342Z
LAST-MODIFIED:20260402T103342Z
UID:10003011-1789498800-1789515000@swingdanceevents.ch
SUMMARY:El Boge Swing Social & Classes (beginners welcome)
DESCRIPTION:Der Dienstag El Boge Swing Social. \n\n20.15 – 23:30 Socialdance mit DJ (Fr.10.-\, 5.- für Teilnehmer Klasse)\nLindy Hop Klassen \n\n19:00 – 19:30 free Lindy CrashCourse\n19:30 – 20:15 Lindy 1 walk in class Fr.20.- (just walk in\, kein Partner notwendig).\nTeachers: Marco “Muetze” & Alina\, Julio\, Matej\, Eike\n\n\nSoloJazz / Jazzroots\n\non a break\n\n\n\nAlle Klassen benötigen keine Anmeldung. Kommt einfach vorbei auf den Klassenstart.
URL:https://swingdanceevents.ch/event/el-boge-swing-social-classes-beginners-welcome-6-2-2-3-3-3-2-2-4-3-4-2-5-4-2-2-2-2-2-2-2-5-2-3-2-2-2-2-2-3-4-13-7/2026-09-15/
LOCATION:El Social\, Viaduktstrasse 64\, Zürich\, ZH\, 8005\, Switzerland
CATEGORIES:Class,Crashcourse,DJ,Party,Socialdance
ATTACH;FMTTYPE=image/png:https://swingdanceevents.ch/wp-content/uploads/2025/10/FlyerBogen2025_Tuesday_standard.png
END:VEVENT
BEGIN:VEVENT
DTSTART;TZID=Europe/Zurich:20260917T200000
DTEND;TZID=Europe/Zurich:20260917T233000
DTSTAMP:20260419T225018
CREATED:20260419T182447Z
LAST-MODIFIED:20260419T182858Z
UID:10003354-1789675200-1789687800@swingdanceevents.ch
SUMMARY:Bürkli-Hop
DESCRIPTION:Don’t miss Zürich’s outdoor Socialdance for LindyHop & SoloJazz etc. more info & community: https://www.facebook.com/groups/buerklihop Free\, it’s a noncomercial szene-meeting run by szene members.
URL:https://swingdanceevents.ch/event/buerkli-hop/2026-09-17/
LOCATION:Bürkliplatz Musikpavillon\, Musikpavillon\, Tram Bürkliplatz\, Zürich\, ZH\, 8001\, Switzerland
CATEGORIES:DJ,Party,Socialdance
ATTACH;FMTTYPE=image/jpeg:https://swingdanceevents.ch/wp-content/uploads/2023/03/Season2023.jpg
ORGANIZER;CN="The B%C3%BCrkliHop Syndicat by Z%C3%BCrich's Lindy Szene":MAILTO:buerklihop@google.com
END:VEVENT
BEGIN:VEVENT
DTSTART;TZID=Europe/Zurich:20260921T200000
DTEND;TZID=Europe/Zurich:20260921T220000
DTSTAMP:20260419T225018
CREATED:20260412T201700Z
LAST-MODIFIED:20260412T201700Z
UID:10003183-1790020800-1790028000@swingdanceevents.ch
SUMMARY:Montags-Social
DESCRIPTION:Wir tanzen im neuen Vereinsheim (Kulturetage). Im Sommer auch mal draußen in der Konzertmuschel. \nKein Eintritt\, das Event wird durch eure Spenden finanziert.
URL:https://swingdanceevents.ch/event/montags-social/2026-09-21/
LOCATION:Konzertmuschel\, Stadtgarten\, Konstanz
CATEGORIES:DJ,Socialdance
ATTACH;FMTTYPE=image/png:https://swingdanceevents.ch/wp-content/uploads/2026/04/cropped-Logo-rund-blau-1024x964-1-768x723-3.png
END:VEVENT
BEGIN:VEVENT
DTSTART;TZID=Europe/Zurich:20260922T190000
DTEND;TZID=Europe/Zurich:20260922T233000
DTSTAMP:20260419T225018
CREATED:20260402T103342Z
LAST-MODIFIED:20260402T103342Z
UID:10003012-1790103600-1790119800@swingdanceevents.ch
SUMMARY:El Boge Swing Social & Classes (beginners welcome)
DESCRIPTION:Der Dienstag El Boge Swing Social. \n\n20.15 – 23:30 Socialdance mit DJ (Fr.10.-\, 5.- für Teilnehmer Klasse)\nLindy Hop Klassen \n\n19:00 – 19:30 free Lindy CrashCourse\n19:30 – 20:15 Lindy 1 walk in class Fr.20.- (just walk in\, kein Partner notwendig).\nTeachers: Marco “Muetze” & Alina\, Julio\, Matej\, Eike\n\n\nSoloJazz / Jazzroots\n\non a break\n\n\n\nAlle Klassen benötigen keine Anmeldung. Kommt einfach vorbei auf den Klassenstart.
URL:https://swingdanceevents.ch/event/el-boge-swing-social-classes-beginners-welcome-6-2-2-3-3-3-2-2-4-3-4-2-5-4-2-2-2-2-2-2-2-5-2-3-2-2-2-2-2-3-4-13-7/2026-09-22/
LOCATION:El Social\, Viaduktstrasse 64\, Zürich\, ZH\, 8005\, Switzerland
CATEGORIES:Class,Crashcourse,DJ,Party,Socialdance
ATTACH;FMTTYPE=image/png:https://swingdanceevents.ch/wp-content/uploads/2025/10/FlyerBogen2025_Tuesday_standard.png
END:VEVENT
BEGIN:VEVENT
DTSTART;TZID=Europe/Zurich:20260924T200000
DTEND;TZID=Europe/Zurich:20260924T233000
DTSTAMP:20260419T225018
CREATED:20260419T182447Z
LAST-MODIFIED:20260419T182858Z
UID:10003355-1790280000-1790292600@swingdanceevents.ch
SUMMARY:Bürkli-Hop
DESCRIPTION:Don’t miss Zürich’s outdoor Socialdance for LindyHop & SoloJazz etc. more info & community: https://www.facebook.com/groups/buerklihop Free\, it’s a noncomercial szene-meeting run by szene members.
URL:https://swingdanceevents.ch/event/buerkli-hop/2026-09-24/
LOCATION:Bürkliplatz Musikpavillon\, Musikpavillon\, Tram Bürkliplatz\, Zürich\, ZH\, 8001\, Switzerland
CATEGORIES:DJ,Party,Socialdance
ATTACH;FMTTYPE=image/jpeg:https://swingdanceevents.ch/wp-content/uploads/2023/03/Season2023.jpg
ORGANIZER;CN="The B%C3%BCrkliHop Syndicat by Z%C3%BCrich's Lindy Szene":MAILTO:buerklihop@google.com
END:VEVENT
BEGIN:VEVENT
DTSTART;TZID=Europe/Zurich:20260925T193000
DTEND;TZID=Europe/Zurich:20260926T020000
DTSTAMP:20260419T225018
CREATED:20250106T201007Z
LAST-MODIFIED:20260408T124143Z
UID:10002435-1790364600-1790388000@swingdanceevents.ch
SUMMARY:Altstadt Swing
DESCRIPTION:Die nächste Party in Winterthur: Freitag 25. September 2026\nAltstadt Swing in der @altekasernekulturzentrum\nmit Chicago Swing Collective und DJ Fr. Froh \n19:45 Crashkurs\n21:00 Live-Konzert mit Chicago Swing Collective und Musik aus der Dose von DJ Fr. Froh \nWenn dich swingende Rhythmen auf die Tanzfflläche katapultieren\, dich die Hörner in einen wilden Sog ziehen und du dich vor Enthusiasmus kaum mehr halten kannst\, dann bist du beim Chicago Swing Collective genau richtig. Sieben junge Musiker*innen entstauben seit 2020 mit viel Energie und Spielfreude Jazz-Klassiker der Swing-Ära und bringen damit jede Tanzfläche zum Schwingen. Wir freuen uns auf einen mitreissenden Swing-Abend mit ihnen in Winterthur.
URL:https://swingdanceevents.ch/event/altstadt-swing-14/
LOCATION:Alte Kaserne Winterthur\, Technikumstrasse 8\, Winterthur\, Switzerland
CATEGORIES:Crashcourse,DJ,LiveBand,Party
ATTACH;FMTTYPE=image/jpeg:https://swingdanceevents.ch/wp-content/uploads/2025/01/260925_AltstadtSwing_1080x1350px.jpg
ORGANIZER;CN="Swingscouts%2C Winterthur":MAILTO:info@swingscouts.ch
END:VEVENT
BEGIN:VEVENT
DTSTART;TZID=Europe/Zurich:20260928T200000
DTEND;TZID=Europe/Zurich:20260928T220000
DTSTAMP:20260419T225018
CREATED:20260412T201700Z
LAST-MODIFIED:20260412T201700Z
UID:10003184-1790625600-1790632800@swingdanceevents.ch
SUMMARY:Montags-Social
DESCRIPTION:Wir tanzen im neuen Vereinsheim (Kulturetage). Im Sommer auch mal draußen in der Konzertmuschel. \nKein Eintritt\, das Event wird durch eure Spenden finanziert.
URL:https://swingdanceevents.ch/event/montags-social/2026-09-28/
LOCATION:Konzertmuschel\, Stadtgarten\, Konstanz
CATEGORIES:DJ,Socialdance
ATTACH;FMTTYPE=image/png:https://swingdanceevents.ch/wp-content/uploads/2026/04/cropped-Logo-rund-blau-1024x964-1-768x723-3.png
END:VEVENT
BEGIN:VEVENT
DTSTART;TZID=Europe/Zurich:20260929T190000
DTEND;TZID=Europe/Zurich:20260929T233000
DTSTAMP:20260419T225018
CREATED:20260402T103342Z
LAST-MODIFIED:20260402T103342Z
UID:10003013-1790708400-1790724600@swingdanceevents.ch
SUMMARY:El Boge Swing Social & Classes (beginners welcome)
DESCRIPTION:Der Dienstag El Boge Swing Social. \n\n20.15 – 23:30 Socialdance mit DJ (Fr.10.-\, 5.- für Teilnehmer Klasse)\nLindy Hop Klassen \n\n19:00 – 19:30 free Lindy CrashCourse\n19:30 – 20:15 Lindy 1 walk in class Fr.20.- (just walk in\, kein Partner notwendig).\nTeachers: Marco “Muetze” & Alina\, Julio\, Matej\, Eike\n\n\nSoloJazz / Jazzroots\n\non a break\n\n\n\nAlle Klassen benötigen keine Anmeldung. Kommt einfach vorbei auf den Klassenstart.
URL:https://swingdanceevents.ch/event/el-boge-swing-social-classes-beginners-welcome-6-2-2-3-3-3-2-2-4-3-4-2-5-4-2-2-2-2-2-2-2-5-2-3-2-2-2-2-2-3-4-13-7/2026-09-29/
LOCATION:El Social\, Viaduktstrasse 64\, Zürich\, ZH\, 8005\, Switzerland
CATEGORIES:Class,Crashcourse,DJ,Party,Socialdance
ATTACH;FMTTYPE=image/png:https://swingdanceevents.ch/wp-content/uploads/2025/10/FlyerBogen2025_Tuesday_standard.png
END:VEVENT
BEGIN:VEVENT
DTSTART;TZID=Europe/Zurich:20261001T200000
DTEND;TZID=Europe/Zurich:20261001T233000
DTSTAMP:20260419T225018
CREATED:20260419T182447Z
LAST-MODIFIED:20260419T182858Z
UID:10003356-1790884800-1790897400@swingdanceevents.ch
SUMMARY:Bürkli-Hop
DESCRIPTION:Don’t miss Zürich’s outdoor Socialdance for LindyHop & SoloJazz etc. more info & community: https://www.facebook.com/groups/buerklihop Free\, it’s a noncomercial szene-meeting run by szene members.
URL:https://swingdanceevents.ch/event/buerkli-hop/2026-10-01/
LOCATION:Bürkliplatz Musikpavillon\, Musikpavillon\, Tram Bürkliplatz\, Zürich\, ZH\, 8001\, Switzerland
CATEGORIES:DJ,Party,Socialdance
ATTACH;FMTTYPE=image/jpeg:https://swingdanceevents.ch/wp-content/uploads/2023/03/Season2023.jpg
ORGANIZER;CN="The B%C3%BCrkliHop Syndicat by Z%C3%BCrich's Lindy Szene":MAILTO:buerklihop@google.com
END:VEVENT
BEGIN:VEVENT
DTSTART;TZID=Europe/Zurich:20261004T150000
DTEND;TZID=Europe/Zurich:20261004T180000
DTSTAMP:20260419T225018
CREATED:20260419T181318Z
LAST-MODIFIED:20260419T181318Z
UID:10003260-1791126000-1791136800@swingdanceevents.ch
SUMMARY:Cream Tea
DESCRIPTION:Es gibt schöne Swingmusik von unseren grandiosen DJs\, Kuchen (von der Kutmühle)\, Kaffee\, Kaltgetränke und Platz zum Tanzen und Sitzen drinnen und draußen. Ein wunderschönes Sonntagnachmittag Programm. Kein Eintritt\, die Raummiete wird durch eure Spenden finanziert.
URL:https://swingdanceevents.ch/event/cream-tea/2026-10-04/
LOCATION:Madame Moustache\, Obere Laube 55\, Konstanz
CATEGORIES:DJ,Socialdance
ATTACH;FMTTYPE=image/jpeg:https://swingdanceevents.ch/wp-content/uploads/2026/04/CreamTea.jpeg
END:VEVENT
BEGIN:VEVENT
DTSTART;TZID=Europe/Zurich:20261005T200000
DTEND;TZID=Europe/Zurich:20261005T220000
DTSTAMP:20260419T225018
CREATED:20260412T201700Z
LAST-MODIFIED:20260412T201700Z
UID:10003185-1791230400-1791237600@swingdanceevents.ch
SUMMARY:Montags-Social
DESCRIPTION:Wir tanzen im neuen Vereinsheim (Kulturetage). Im Sommer auch mal draußen in der Konzertmuschel. \nKein Eintritt\, das Event wird durch eure Spenden finanziert.
URL:https://swingdanceevents.ch/event/montags-social/2026-10-05/
LOCATION:Konzertmuschel\, Stadtgarten\, Konstanz
CATEGORIES:DJ,Socialdance
ATTACH;FMTTYPE=image/png:https://swingdanceevents.ch/wp-content/uploads/2026/04/cropped-Logo-rund-blau-1024x964-1-768x723-3.png
END:VEVENT
BEGIN:VEVENT
DTSTART;TZID=Europe/Zurich:20261006T190000
DTEND;TZID=Europe/Zurich:20261006T233000
DTSTAMP:20260419T225018
CREATED:20260402T103342Z
LAST-MODIFIED:20260402T103342Z
UID:10003014-1791313200-1791329400@swingdanceevents.ch
SUMMARY:El Boge Swing Social & Classes (beginners welcome)
DESCRIPTION:Der Dienstag El Boge Swing Social. \n\n20.15 – 23:30 Socialdance mit DJ (Fr.10.-\, 5.- für Teilnehmer Klasse)\nLindy Hop Klassen \n\n19:00 – 19:30 free Lindy CrashCourse\n19:30 – 20:15 Lindy 1 walk in class Fr.20.- (just walk in\, kein Partner notwendig).\nTeachers: Marco “Muetze” & Alina\, Julio\, Matej\, Eike\n\n\nSoloJazz / Jazzroots\n\non a break\n\n\n\nAlle Klassen benötigen keine Anmeldung. Kommt einfach vorbei auf den Klassenstart.
URL:https://swingdanceevents.ch/event/el-boge-swing-social-classes-beginners-welcome-6-2-2-3-3-3-2-2-4-3-4-2-5-4-2-2-2-2-2-2-2-5-2-3-2-2-2-2-2-3-4-13-7/2026-10-06/
LOCATION:El Social\, Viaduktstrasse 64\, Zürich\, ZH\, 8005\, Switzerland
CATEGORIES:Class,Crashcourse,DJ,Party,Socialdance
ATTACH;FMTTYPE=image/png:https://swingdanceevents.ch/wp-content/uploads/2025/10/FlyerBogen2025_Tuesday_standard.png
END:VEVENT
BEGIN:VEVENT
DTSTART;TZID=Europe/Zurich:20261008T200000
DTEND;TZID=Europe/Zurich:20261008T233000
DTSTAMP:20260419T225018
CREATED:20260419T182447Z
LAST-MODIFIED:20260419T182858Z
UID:10003357-1791489600-1791502200@swingdanceevents.ch
SUMMARY:Bürkli-Hop
DESCRIPTION:Don’t miss Zürich’s outdoor Socialdance for LindyHop & SoloJazz etc. more info & community: https://www.facebook.com/groups/buerklihop Free\, it’s a noncomercial szene-meeting run by szene members.
URL:https://swingdanceevents.ch/event/buerkli-hop/2026-10-08/
LOCATION:Bürkliplatz Musikpavillon\, Musikpavillon\, Tram Bürkliplatz\, Zürich\, ZH\, 8001\, Switzerland
CATEGORIES:DJ,Party,Socialdance
ATTACH;FMTTYPE=image/jpeg:https://swingdanceevents.ch/wp-content/uploads/2023/03/Season2023.jpg
ORGANIZER;CN="The B%C3%BCrkliHop Syndicat by Z%C3%BCrich's Lindy Szene":MAILTO:buerklihop@google.com
END:VEVENT
BEGIN:VEVENT
DTSTART;TZID=Europe/Zurich:20261012T200000
DTEND;TZID=Europe/Zurich:20261012T220000
DTSTAMP:20260419T225018
CREATED:20260412T201700Z
LAST-MODIFIED:20260412T201700Z
UID:10003186-1791835200-1791842400@swingdanceevents.ch
SUMMARY:Montags-Social
DESCRIPTION:Wir tanzen im neuen Vereinsheim (Kulturetage). Im Sommer auch mal draußen in der Konzertmuschel. \nKein Eintritt\, das Event wird durch eure Spenden finanziert.
URL:https://swingdanceevents.ch/event/montags-social/2026-10-12/
LOCATION:Konzertmuschel\, Stadtgarten\, Konstanz
CATEGORIES:DJ,Socialdance
ATTACH;FMTTYPE=image/png:https://swingdanceevents.ch/wp-content/uploads/2026/04/cropped-Logo-rund-blau-1024x964-1-768x723-3.png
END:VEVENT
BEGIN:VEVENT
DTSTART;TZID=Europe/Zurich:20261013T190000
DTEND;TZID=Europe/Zurich:20261013T233000
DTSTAMP:20260419T225018
CREATED:20260402T103342Z
LAST-MODIFIED:20260402T103342Z
UID:10003015-1791918000-1791934200@swingdanceevents.ch
SUMMARY:El Boge Swing Social & Classes (beginners welcome)
DESCRIPTION:Der Dienstag El Boge Swing Social. \n\n20.15 – 23:30 Socialdance mit DJ (Fr.10.-\, 5.- für Teilnehmer Klasse)\nLindy Hop Klassen \n\n19:00 – 19:30 free Lindy CrashCourse\n19:30 – 20:15 Lindy 1 walk in class Fr.20.- (just walk in\, kein Partner notwendig).\nTeachers: Marco “Muetze” & Alina\, Julio\, Matej\, Eike\n\n\nSoloJazz / Jazzroots\n\non a break\n\n\n\nAlle Klassen benötigen keine Anmeldung. Kommt einfach vorbei auf den Klassenstart.
URL:https://swingdanceevents.ch/event/el-boge-swing-social-classes-beginners-welcome-6-2-2-3-3-3-2-2-4-3-4-2-5-4-2-2-2-2-2-2-2-5-2-3-2-2-2-2-2-3-4-13-7/2026-10-13/
LOCATION:El Social\, Viaduktstrasse 64\, Zürich\, ZH\, 8005\, Switzerland
CATEGORIES:Class,Crashcourse,DJ,Party,Socialdance
ATTACH;FMTTYPE=image/png:https://swingdanceevents.ch/wp-content/uploads/2025/10/FlyerBogen2025_Tuesday_standard.png
END:VEVENT
BEGIN:VEVENT
DTSTART;TZID=Europe/Zurich:20261015T200000
DTEND;TZID=Europe/Zurich:20261015T233000
DTSTAMP:20260419T225018
CREATED:20260419T182447Z
LAST-MODIFIED:20260419T182858Z
UID:10003358-1792094400-1792107000@swingdanceevents.ch
SUMMARY:Bürkli-Hop
DESCRIPTION:Don’t miss Zürich’s outdoor Socialdance for LindyHop & SoloJazz etc. more info & community: https://www.facebook.com/groups/buerklihop Free\, it’s a noncomercial szene-meeting run by szene members.
URL:https://swingdanceevents.ch/event/buerkli-hop/2026-10-15/
LOCATION:Bürkliplatz Musikpavillon\, Musikpavillon\, Tram Bürkliplatz\, Zürich\, ZH\, 8001\, Switzerland
CATEGORIES:DJ,Party,Socialdance
ATTACH;FMTTYPE=image/jpeg:https://swingdanceevents.ch/wp-content/uploads/2023/03/Season2023.jpg
ORGANIZER;CN="The B%C3%BCrkliHop Syndicat by Z%C3%BCrich's Lindy Szene":MAILTO:buerklihop@google.com
END:VEVENT
BEGIN:VEVENT
DTSTART;TZID=Europe/Zurich:20261019T200000
DTEND;TZID=Europe/Zurich:20261019T220000
DTSTAMP:20260419T225018
CREATED:20260412T201700Z
LAST-MODIFIED:20260412T201700Z
UID:10003187-1792440000-1792447200@swingdanceevents.ch
SUMMARY:Montags-Social
DESCRIPTION:Wir tanzen im neuen Vereinsheim (Kulturetage). Im Sommer auch mal draußen in der Konzertmuschel. \nKein Eintritt\, das Event wird durch eure Spenden finanziert.
URL:https://swingdanceevents.ch/event/montags-social/2026-10-19/
LOCATION:Konzertmuschel\, Stadtgarten\, Konstanz
CATEGORIES:DJ,Socialdance
ATTACH;FMTTYPE=image/png:https://swingdanceevents.ch/wp-content/uploads/2026/04/cropped-Logo-rund-blau-1024x964-1-768x723-3.png
END:VEVENT
BEGIN:VEVENT
DTSTART;TZID=Europe/Zurich:20261020T190000
DTEND;TZID=Europe/Zurich:20261020T233000
DTSTAMP:20260419T225018
CREATED:20260402T103342Z
LAST-MODIFIED:20260402T103342Z
UID:10003016-1792522800-1792539000@swingdanceevents.ch
SUMMARY:El Boge Swing Social & Classes (beginners welcome)
DESCRIPTION:Der Dienstag El Boge Swing Social. \n\n20.15 – 23:30 Socialdance mit DJ (Fr.10.-\, 5.- für Teilnehmer Klasse)\nLindy Hop Klassen \n\n19:00 – 19:30 free Lindy CrashCourse\n19:30 – 20:15 Lindy 1 walk in class Fr.20.- (just walk in\, kein Partner notwendig).\nTeachers: Marco “Muetze” & Alina\, Julio\, Matej\, Eike\n\n\nSoloJazz / Jazzroots\n\non a break\n\n\n\nAlle Klassen benötigen keine Anmeldung. Kommt einfach vorbei auf den Klassenstart.
URL:https://swingdanceevents.ch/event/el-boge-swing-social-classes-beginners-welcome-6-2-2-3-3-3-2-2-4-3-4-2-5-4-2-2-2-2-2-2-2-5-2-3-2-2-2-2-2-3-4-13-7/2026-10-20/
LOCATION:El Social\, Viaduktstrasse 64\, Zürich\, ZH\, 8005\, Switzerland
CATEGORIES:Class,Crashcourse,DJ,Party,Socialdance
ATTACH;FMTTYPE=image/png:https://swingdanceevents.ch/wp-content/uploads/2025/10/FlyerBogen2025_Tuesday_standard.png
END:VEVENT
BEGIN:VEVENT
DTSTART;TZID=Europe/Zurich:20261022T200000
DTEND;TZID=Europe/Zurich:20261022T233000
DTSTAMP:20260419T225018
CREATED:20260419T182447Z
LAST-MODIFIED:20260419T182858Z
UID:10003359-1792699200-1792711800@swingdanceevents.ch
SUMMARY:Bürkli-Hop
DESCRIPTION:Don’t miss Zürich’s outdoor Socialdance for LindyHop & SoloJazz etc. more info & community: https://www.facebook.com/groups/buerklihop Free\, it’s a noncomercial szene-meeting run by szene members.
URL:https://swingdanceevents.ch/event/buerkli-hop/2026-10-22/
LOCATION:Bürkliplatz Musikpavillon\, Musikpavillon\, Tram Bürkliplatz\, Zürich\, ZH\, 8001\, Switzerland
CATEGORIES:DJ,Party,Socialdance
ATTACH;FMTTYPE=image/jpeg:https://swingdanceevents.ch/wp-content/uploads/2023/03/Season2023.jpg
ORGANIZER;CN="The B%C3%BCrkliHop Syndicat by Z%C3%BCrich's Lindy Szene":MAILTO:buerklihop@google.com
END:VEVENT
BEGIN:VEVENT
DTSTART;TZID=Europe/Zurich:20261024T170000
DTEND;TZID=Europe/Zurich:20261024T220000
DTSTAMP:20260419T225018
CREATED:20260109T095120Z
LAST-MODIFIED:20260109T095120Z
UID:10003063-1792861200-1792879200@swingdanceevents.ch
SUMMARY:Aescher Swing
DESCRIPTION:Der Social Dance mit der schönsten Aussicht der Schweiz! \n  \nWas will man mehr als vor einer malerischen Bergkulisse das Tanzbein zu schwingen\, sich bei einem Huusiistee oder einem kühlen Bier zu erfrischen und feines aus der Aescher Speisekarte zu geniessen!? \n  \nWie kommst du zum Aescher und wieder nach Hause? \n  \nBitte beachte den Fahrplan bezüglich letzter Bergfahrt auf https://www.ebenalp.ch (normalerweise 18.45 Uhr). \n  \nAb Parkplatz “Erstböhl” ist der Aufstieg ca. 1 Std. und der Abstieg (mit Stirnlampe) ca. 40 min. Am besten bildet ihr in der Swingcommunity Fahrgemeinschaften.\nFreitag und Samstag würde dich beim Erstböhl auch der PubliCar auf Vorbestellung abholen und nach Appenzell zum Bahnhof bringen: https://www.postauto.ch/de/publicar-appenzell-ai   \n  \nWeitere Infos: \n  \n\nFindet bei jeder Witterung statt.\nEintritt: Kollekte (kein Ticket benötigt)\nÜbernachtung: Bei Interesse auf dem Aescher zu übernachten\, melde dich spätestens 7 tage vorher bei info@aescher.ch mit Erwähnung\, dass du Tänzer/-in bist.
URL:https://swingdanceevents.ch/event/aescher-swing-15/
LOCATION:Aescher Gasthaus am Berg\, Äscher 1\, Schwende\, AI\, 9057\, Switzerland
CATEGORIES:Socialdance
ATTACH;FMTTYPE=image/jpeg:https://swingdanceevents.ch/wp-content/uploads/2026/01/Aescherswing-4.jpg
END:VEVENT
BEGIN:VEVENT
DTSTART;TZID=Europe/Zurich:20261026T200000
DTEND;TZID=Europe/Zurich:20261026T220000
DTSTAMP:20260419T225018
CREATED:20260412T201700Z
LAST-MODIFIED:20260412T201700Z
UID:10003188-1793044800-1793052000@swingdanceevents.ch
SUMMARY:Montags-Social
DESCRIPTION:Wir tanzen im neuen Vereinsheim (Kulturetage). Im Sommer auch mal draußen in der Konzertmuschel. \nKein Eintritt\, das Event wird durch eure Spenden finanziert.
URL:https://swingdanceevents.ch/event/montags-social/2026-10-26/
LOCATION:Konzertmuschel\, Stadtgarten\, Konstanz
CATEGORIES:DJ,Socialdance
ATTACH;FMTTYPE=image/png:https://swingdanceevents.ch/wp-content/uploads/2026/04/cropped-Logo-rund-blau-1024x964-1-768x723-3.png
END:VEVENT
BEGIN:VEVENT
DTSTART;TZID=Europe/Zurich:20261027T190000
DTEND;TZID=Europe/Zurich:20261027T233000
DTSTAMP:20260419T225018
CREATED:20260402T103342Z
LAST-MODIFIED:20260402T103342Z
UID:10003017-1793127600-1793143800@swingdanceevents.ch
SUMMARY:El Boge Swing Social & Classes (beginners welcome)
DESCRIPTION:Der Dienstag El Boge Swing Social. \n\n20.15 – 23:30 Socialdance mit DJ (Fr.10.-\, 5.- für Teilnehmer Klasse)\nLindy Hop Klassen \n\n19:00 – 19:30 free Lindy CrashCourse\n19:30 – 20:15 Lindy 1 walk in class Fr.20.- (just walk in\, kein Partner notwendig).\nTeachers: Marco “Muetze” & Alina\, Julio\, Matej\, Eike\n\n\nSoloJazz / Jazzroots\n\non a break\n\n\n\nAlle Klassen benötigen keine Anmeldung. Kommt einfach vorbei auf den Klassenstart.
URL:https://swingdanceevents.ch/event/el-boge-swing-social-classes-beginners-welcome-6-2-2-3-3-3-2-2-4-3-4-2-5-4-2-2-2-2-2-2-2-5-2-3-2-2-2-2-2-3-4-13-7/2026-10-27/
LOCATION:El Social\, Viaduktstrasse 64\, Zürich\, ZH\, 8005\, Switzerland
CATEGORIES:Class,Crashcourse,DJ,Party,Socialdance
ATTACH;FMTTYPE=image/png:https://swingdanceevents.ch/wp-content/uploads/2025/10/FlyerBogen2025_Tuesday_standard.png
END:VEVENT
BEGIN:VEVENT
DTSTART;TZID=Europe/Zurich:20261029T200000
DTEND;TZID=Europe/Zurich:20261029T233000
DTSTAMP:20260419T225018
CREATED:20260419T182447Z
LAST-MODIFIED:20260419T182858Z
UID:10003360-1793304000-1793316600@swingdanceevents.ch
SUMMARY:Bürkli-Hop
DESCRIPTION:Don’t miss Zürich’s outdoor Socialdance for LindyHop & SoloJazz etc. more info & community: https://www.facebook.com/groups/buerklihop Free\, it’s a noncomercial szene-meeting run by szene members.
URL:https://swingdanceevents.ch/event/buerkli-hop/2026-10-29/
LOCATION:Bürkliplatz Musikpavillon\, Musikpavillon\, Tram Bürkliplatz\, Zürich\, ZH\, 8001\, Switzerland
CATEGORIES:DJ,Party,Socialdance
ATTACH;FMTTYPE=image/jpeg:https://swingdanceevents.ch/wp-content/uploads/2023/03/Season2023.jpg
ORGANIZER;CN="The B%C3%BCrkliHop Syndicat by Z%C3%BCrich's Lindy Szene":MAILTO:buerklihop@google.com
END:VEVENT
BEGIN:VEVENT
DTSTART;TZID=Europe/Zurich:20261101T140000
DTEND;TZID=Europe/Zurich:20261101T170000
DTSTAMP:20260419T225018
CREATED:20250523T153611Z
LAST-MODIFIED:20250523T153808Z
UID:10002668-1793541600-1793552400@swingdanceevents.ch
SUMMARY:Kickthebasics für Blues Dance
DESCRIPTION:An einen Samstag Nachmittag hast du die Möglichkeit\, in den unendlich grossen Reichtum des Blues Dances reinzuschauen. Du lernst ein paar Basics und hast die Möglichkeit\, mit den neuen Erfahrungen an Parties zu tanzen und auszuprobieren. \nKeine Vorkenntnisse nötig.
URL:https://swingdanceevents.ch/event/kickthebasics-fuer-blues-dance-2/2026-11-01/
LOCATION:The Rhythm Rebels Studio\, Aarbergergasse 40\,\, Bern\, Bern\, 3011\, Switzerland
CATEGORIES:Workshop
ATTACH;FMTTYPE=image/jpeg:https://swingdanceevents.ch/wp-content/uploads/2025/05/Fotos-Michael-und-Biggi-by-Frederike-Asael-75.jpg
ORGANIZER;CN="Blues Dance Bern":MAILTO:info@be-bluesed.ch
END:VEVENT
BEGIN:VEVENT
DTSTART;TZID=Europe/Zurich:20261101T150000
DTEND;TZID=Europe/Zurich:20261101T180000
DTSTAMP:20260419T225018
CREATED:20260419T181318Z
LAST-MODIFIED:20260419T181318Z
UID:10003261-1793545200-1793556000@swingdanceevents.ch
SUMMARY:Cream Tea
DESCRIPTION:Es gibt schöne Swingmusik von unseren grandiosen DJs\, Kuchen (von der Kutmühle)\, Kaffee\, Kaltgetränke und Platz zum Tanzen und Sitzen drinnen und draußen. Ein wunderschönes Sonntagnachmittag Programm. Kein Eintritt\, die Raummiete wird durch eure Spenden finanziert.
URL:https://swingdanceevents.ch/event/cream-tea/2026-11-01/
LOCATION:Madame Moustache\, Obere Laube 55\, Konstanz
CATEGORIES:DJ,Socialdance
ATTACH;FMTTYPE=image/jpeg:https://swingdanceevents.ch/wp-content/uploads/2026/04/CreamTea.jpeg
END:VEVENT
BEGIN:VEVENT
DTSTART;TZID=Europe/Zurich:20261102T200000
DTEND;TZID=Europe/Zurich:20261102T220000
DTSTAMP:20260419T225018
CREATED:20260412T201700Z
LAST-MODIFIED:20260412T201700Z
UID:10003189-1793649600-1793656800@swingdanceevents.ch
SUMMARY:Montags-Social
DESCRIPTION:Wir tanzen im neuen Vereinsheim (Kulturetage). Im Sommer auch mal draußen in der Konzertmuschel. \nKein Eintritt\, das Event wird durch eure Spenden finanziert.
URL:https://swingdanceevents.ch/event/montags-social/2026-11-02/
LOCATION:Konzertmuschel\, Stadtgarten\, Konstanz
CATEGORIES:DJ,Socialdance
ATTACH;FMTTYPE=image/png:https://swingdanceevents.ch/wp-content/uploads/2026/04/cropped-Logo-rund-blau-1024x964-1-768x723-3.png
END:VEVENT
BEGIN:VEVENT
DTSTART;TZID=Europe/Zurich:20261103T190000
DTEND;TZID=Europe/Zurich:20261103T233000
DTSTAMP:20260419T225018
CREATED:20260402T103342Z
LAST-MODIFIED:20260402T103342Z
UID:10003018-1793732400-1793748600@swingdanceevents.ch
SUMMARY:El Boge Swing Social & Classes (beginners welcome)
DESCRIPTION:Der Dienstag El Boge Swing Social. \n\n20.15 – 23:30 Socialdance mit DJ (Fr.10.-\, 5.- für Teilnehmer Klasse)\nLindy Hop Klassen \n\n19:00 – 19:30 free Lindy CrashCourse\n19:30 – 20:15 Lindy 1 walk in class Fr.20.- (just walk in\, kein Partner notwendig).\nTeachers: Marco “Muetze” & Alina\, Julio\, Matej\, Eike\n\n\nSoloJazz / Jazzroots\n\non a break\n\n\n\nAlle Klassen benötigen keine Anmeldung. Kommt einfach vorbei auf den Klassenstart.
URL:https://swingdanceevents.ch/event/el-boge-swing-social-classes-beginners-welcome-6-2-2-3-3-3-2-2-4-3-4-2-5-4-2-2-2-2-2-2-2-5-2-3-2-2-2-2-2-3-4-13-7/2026-11-03/
LOCATION:El Social\, Viaduktstrasse 64\, Zürich\, ZH\, 8005\, Switzerland
CATEGORIES:Class,Crashcourse,DJ,Party,Socialdance
ATTACH;FMTTYPE=image/png:https://swingdanceevents.ch/wp-content/uploads/2025/10/FlyerBogen2025_Tuesday_standard.png
END:VEVENT
BEGIN:VEVENT
DTSTART;TZID=Europe/Zurich:20261107T190000
DTEND;TZID=Europe/Zurich:20261108T010000
DTSTAMP:20260419T225018
CREATED:20260412T200600Z
LAST-MODIFIED:20260412T200600Z
UID:10003170-1794078000-1794099600@swingdanceevents.ch
SUMMARY:Swing im Apollo
DESCRIPTION:Was würde besser passen\, als den Tanz der 1930er und 40er Jahre\, entstanden in Harlem / New York in dem vermutlich schönsten Tanzsaal am Bodensee zu live Musik zu tanzen? Glitzer garantiert. \n19:00 Uhr Special oder Taster \n20:00 Uhr Party mit Live-Musik von Coniglio Connection
URL:https://swingdanceevents.ch/event/swing-im-apollo/
LOCATION:Apollo\, Konstanzerstrasse 32\, Kreuzlingen\, 8280\, Switzerland
CATEGORIES:LiveBand,Party
ATTACH;FMTTYPE=image/jpeg:https://swingdanceevents.ch/wp-content/uploads/2026/04/Appollo.jpg
END:VEVENT
BEGIN:VEVENT
DTSTART;TZID=Europe/Zurich:20261109T200000
DTEND;TZID=Europe/Zurich:20261109T220000
DTSTAMP:20260419T225018
CREATED:20260412T201700Z
LAST-MODIFIED:20260412T201700Z
UID:10003190-1794254400-1794261600@swingdanceevents.ch
SUMMARY:Montags-Social
DESCRIPTION:Wir tanzen im neuen Vereinsheim (Kulturetage). Im Sommer auch mal draußen in der Konzertmuschel. \nKein Eintritt\, das Event wird durch eure Spenden finanziert.
URL:https://swingdanceevents.ch/event/montags-social/2026-11-09/
LOCATION:Konzertmuschel\, Stadtgarten\, Konstanz
CATEGORIES:DJ,Socialdance
ATTACH;FMTTYPE=image/png:https://swingdanceevents.ch/wp-content/uploads/2026/04/cropped-Logo-rund-blau-1024x964-1-768x723-3.png
END:VEVENT
BEGIN:VEVENT
DTSTART;TZID=Europe/Zurich:20261110T190000
DTEND;TZID=Europe/Zurich:20261110T233000
DTSTAMP:20260419T225018
CREATED:20260402T103342Z
LAST-MODIFIED:20260402T103342Z
UID:10003019-1794337200-1794353400@swingdanceevents.ch
SUMMARY:El Boge Swing Social & Classes (beginners welcome)
DESCRIPTION:Der Dienstag El Boge Swing Social. \n\n20.15 – 23:30 Socialdance mit DJ (Fr.10.-\, 5.- für Teilnehmer Klasse)\nLindy Hop Klassen \n\n19:00 – 19:30 free Lindy CrashCourse\n19:30 – 20:15 Lindy 1 walk in class Fr.20.- (just walk in\, kein Partner notwendig).\nTeachers: Marco “Muetze” & Alina\, Julio\, Matej\, Eike\n\n\nSoloJazz / Jazzroots\n\non a break\n\n\n\nAlle Klassen benötigen keine Anmeldung. Kommt einfach vorbei auf den Klassenstart.
URL:https://swingdanceevents.ch/event/el-boge-swing-social-classes-beginners-welcome-6-2-2-3-3-3-2-2-4-3-4-2-5-4-2-2-2-2-2-2-2-5-2-3-2-2-2-2-2-3-4-13-7/2026-11-10/
LOCATION:El Social\, Viaduktstrasse 64\, Zürich\, ZH\, 8005\, Switzerland
CATEGORIES:Class,Crashcourse,DJ,Party,Socialdance
ATTACH;FMTTYPE=image/png:https://swingdanceevents.ch/wp-content/uploads/2025/10/FlyerBogen2025_Tuesday_standard.png
END:VEVENT
END:VCALENDAR