BEGIN:VCALENDAR
VERSION:2.0
PRODID:-//Swing Dance Events Switzerland - ECPv6.15.20//NONSGML v1.0//EN
CALSCALE:GREGORIAN
METHOD:PUBLISH
X-ORIGINAL-URL:https://swingdanceevents.ch
X-WR-CALDESC:Veranstaltungen für Swing Dance Events Switzerland
REFRESH-INTERVAL;VALUE=DURATION:PT1H
X-Robots-Tag:noindex
X-PUBLISHED-TTL:PT1H
BEGIN:VTIMEZONE
TZID:Europe/Zurich
BEGIN:DAYLIGHT
TZOFFSETFROM:+0100
TZOFFSETTO:+0200
TZNAME:CEST
DTSTART:20260329T010000
END:DAYLIGHT
BEGIN:STANDARD
TZOFFSETFROM:+0200
TZOFFSETTO:+0100
TZNAME:CET
DTSTART:20261025T010000
END:STANDARD
BEGIN:DAYLIGHT
TZOFFSETFROM:+0100
TZOFFSETTO:+0200
TZNAME:CEST
DTSTART:20270328T010000
END:DAYLIGHT
BEGIN:STANDARD
TZOFFSETFROM:+0200
TZOFFSETTO:+0100
TZNAME:CET
DTSTART:20271031T010000
END:STANDARD
BEGIN:DAYLIGHT
TZOFFSETFROM:+0100
TZOFFSETTO:+0200
TZNAME:CEST
DTSTART:20280326T010000
END:DAYLIGHT
BEGIN:STANDARD
TZOFFSETFROM:+0200
TZOFFSETTO:+0100
TZNAME:CET
DTSTART:20281029T010000
END:STANDARD
END:VTIMEZONE
BEGIN:VEVENT
DTSTART;TZID=Europe/Zurich:20270426T200000
DTEND;TZID=Europe/Zurich:20270426T220000
DTSTAMP:20260422T003116
CREATED:20260412T201700Z
LAST-MODIFIED:20260412T201700Z
UID:10003214-1808769600-1808776800@swingdanceevents.ch
SUMMARY:Montags-Social
DESCRIPTION:Wir tanzen im neuen Vereinsheim (Kulturetage). Im Sommer auch mal draußen in der Konzertmuschel. \nKein Eintritt\, das Event wird durch eure Spenden finanziert.
URL:https://swingdanceevents.ch/event/montags-social/2027-04-26/
LOCATION:Konzertmuschel\, Stadtgarten\, Konstanz
CATEGORIES:DJ,Socialdance
ATTACH;FMTTYPE=image/png:https://swingdanceevents.ch/wp-content/uploads/2026/04/cropped-Logo-rund-blau-1024x964-1-768x723-3.png
END:VEVENT
BEGIN:VEVENT
DTSTART;TZID=Europe/Zurich:20270502T150000
DTEND;TZID=Europe/Zurich:20270502T180000
DTSTAMP:20260422T003116
CREATED:20260419T181318Z
LAST-MODIFIED:20260419T181318Z
UID:10003267-1809270000-1809280800@swingdanceevents.ch
SUMMARY:Cream Tea
DESCRIPTION:Es gibt schöne Swingmusik von unseren grandiosen DJs\, Kuchen (von der Kutmühle)\, Kaffee\, Kaltgetränke und Platz zum Tanzen und Sitzen drinnen und draußen. Ein wunderschönes Sonntagnachmittag Programm. Kein Eintritt\, die Raummiete wird durch eure Spenden finanziert.
URL:https://swingdanceevents.ch/event/cream-tea/2027-05-02/
LOCATION:Madame Moustache\, Obere Laube 55\, Konstanz
CATEGORIES:DJ,Socialdance
ATTACH;FMTTYPE=image/jpeg:https://swingdanceevents.ch/wp-content/uploads/2026/04/CreamTea.jpeg
END:VEVENT
BEGIN:VEVENT
DTSTART;TZID=Europe/Zurich:20270503T200000
DTEND;TZID=Europe/Zurich:20270503T220000
DTSTAMP:20260422T003116
CREATED:20260412T201700Z
LAST-MODIFIED:20260412T201700Z
UID:10003215-1809374400-1809381600@swingdanceevents.ch
SUMMARY:Montags-Social
DESCRIPTION:Wir tanzen im neuen Vereinsheim (Kulturetage). Im Sommer auch mal draußen in der Konzertmuschel. \nKein Eintritt\, das Event wird durch eure Spenden finanziert.
URL:https://swingdanceevents.ch/event/montags-social/2027-05-03/
LOCATION:Konzertmuschel\, Stadtgarten\, Konstanz
CATEGORIES:DJ,Socialdance
ATTACH;FMTTYPE=image/png:https://swingdanceevents.ch/wp-content/uploads/2026/04/cropped-Logo-rund-blau-1024x964-1-768x723-3.png
END:VEVENT
BEGIN:VEVENT
DTSTART;TZID=Europe/Zurich:20270510T200000
DTEND;TZID=Europe/Zurich:20270510T220000
DTSTAMP:20260422T003116
CREATED:20260412T201700Z
LAST-MODIFIED:20260412T201700Z
UID:10003216-1809979200-1809986400@swingdanceevents.ch
SUMMARY:Montags-Social
DESCRIPTION:Wir tanzen im neuen Vereinsheim (Kulturetage). Im Sommer auch mal draußen in der Konzertmuschel. \nKein Eintritt\, das Event wird durch eure Spenden finanziert.
URL:https://swingdanceevents.ch/event/montags-social/2027-05-10/
LOCATION:Konzertmuschel\, Stadtgarten\, Konstanz
CATEGORIES:DJ,Socialdance
ATTACH;FMTTYPE=image/png:https://swingdanceevents.ch/wp-content/uploads/2026/04/cropped-Logo-rund-blau-1024x964-1-768x723-3.png
END:VEVENT
BEGIN:VEVENT
DTSTART;TZID=Europe/Zurich:20270517T200000
DTEND;TZID=Europe/Zurich:20270517T220000
DTSTAMP:20260422T003116
CREATED:20260412T201700Z
LAST-MODIFIED:20260412T201700Z
UID:10003217-1810584000-1810591200@swingdanceevents.ch
SUMMARY:Montags-Social
DESCRIPTION:Wir tanzen im neuen Vereinsheim (Kulturetage). Im Sommer auch mal draußen in der Konzertmuschel. \nKein Eintritt\, das Event wird durch eure Spenden finanziert.
URL:https://swingdanceevents.ch/event/montags-social/2027-05-17/
LOCATION:Konzertmuschel\, Stadtgarten\, Konstanz
CATEGORIES:DJ,Socialdance
ATTACH;FMTTYPE=image/png:https://swingdanceevents.ch/wp-content/uploads/2026/04/cropped-Logo-rund-blau-1024x964-1-768x723-3.png
END:VEVENT
BEGIN:VEVENT
DTSTART;TZID=Europe/Zurich:20270524T200000
DTEND;TZID=Europe/Zurich:20270524T220000
DTSTAMP:20260422T003116
CREATED:20260412T201700Z
LAST-MODIFIED:20260412T201700Z
UID:10003218-1811188800-1811196000@swingdanceevents.ch
SUMMARY:Montags-Social
DESCRIPTION:Wir tanzen im neuen Vereinsheim (Kulturetage). Im Sommer auch mal draußen in der Konzertmuschel. \nKein Eintritt\, das Event wird durch eure Spenden finanziert.
URL:https://swingdanceevents.ch/event/montags-social/2027-05-24/
LOCATION:Konzertmuschel\, Stadtgarten\, Konstanz
CATEGORIES:DJ,Socialdance
ATTACH;FMTTYPE=image/png:https://swingdanceevents.ch/wp-content/uploads/2026/04/cropped-Logo-rund-blau-1024x964-1-768x723-3.png
END:VEVENT
BEGIN:VEVENT
DTSTART;TZID=Europe/Zurich:20270528T193000
DTEND;TZID=Europe/Zurich:20270529T020000
DTSTAMP:20260422T003116
CREATED:20251207T151356Z
LAST-MODIFIED:20260105T093443Z
UID:10003041-1811532600-1811556000@swingdanceevents.ch
SUMMARY:Altstadt Swing
DESCRIPTION:tbd
URL:https://swingdanceevents.ch/event/altstadt-swing-17/
LOCATION:Alte Kaserne Winterthur\, Technikumstrasse 8\, Winterthur\, Switzerland
ORGANIZER;CN="Swingscouts%2C Winterthur":MAILTO:info@swingscouts.ch
END:VEVENT
BEGIN:VEVENT
DTSTART;TZID=Europe/Zurich:20270531T200000
DTEND;TZID=Europe/Zurich:20270531T220000
DTSTAMP:20260422T003116
CREATED:20260412T201700Z
LAST-MODIFIED:20260412T201700Z
UID:10003219-1811793600-1811800800@swingdanceevents.ch
SUMMARY:Montags-Social
DESCRIPTION:Wir tanzen im neuen Vereinsheim (Kulturetage). Im Sommer auch mal draußen in der Konzertmuschel. \nKein Eintritt\, das Event wird durch eure Spenden finanziert.
URL:https://swingdanceevents.ch/event/montags-social/2027-05-31/
LOCATION:Konzertmuschel\, Stadtgarten\, Konstanz
CATEGORIES:DJ,Socialdance
ATTACH;FMTTYPE=image/png:https://swingdanceevents.ch/wp-content/uploads/2026/04/cropped-Logo-rund-blau-1024x964-1-768x723-3.png
END:VEVENT
BEGIN:VEVENT
DTSTART;TZID=Europe/Zurich:20270606T150000
DTEND;TZID=Europe/Zurich:20270606T180000
DTSTAMP:20260422T003116
CREATED:20260419T181318Z
LAST-MODIFIED:20260419T181318Z
UID:10003268-1812294000-1812304800@swingdanceevents.ch
SUMMARY:Cream Tea
DESCRIPTION:Es gibt schöne Swingmusik von unseren grandiosen DJs\, Kuchen (von der Kutmühle)\, Kaffee\, Kaltgetränke und Platz zum Tanzen und Sitzen drinnen und draußen. Ein wunderschönes Sonntagnachmittag Programm. Kein Eintritt\, die Raummiete wird durch eure Spenden finanziert.
URL:https://swingdanceevents.ch/event/cream-tea/2027-06-06/
LOCATION:Madame Moustache\, Obere Laube 55\, Konstanz
CATEGORIES:DJ,Socialdance
ATTACH;FMTTYPE=image/jpeg:https://swingdanceevents.ch/wp-content/uploads/2026/04/CreamTea.jpeg
END:VEVENT
BEGIN:VEVENT
DTSTART;TZID=Europe/Zurich:20270607T200000
DTEND;TZID=Europe/Zurich:20270607T220000
DTSTAMP:20260422T003116
CREATED:20260412T201700Z
LAST-MODIFIED:20260412T201700Z
UID:10003220-1812398400-1812405600@swingdanceevents.ch
SUMMARY:Montags-Social
DESCRIPTION:Wir tanzen im neuen Vereinsheim (Kulturetage). Im Sommer auch mal draußen in der Konzertmuschel. \nKein Eintritt\, das Event wird durch eure Spenden finanziert.
URL:https://swingdanceevents.ch/event/montags-social/2027-06-07/
LOCATION:Konzertmuschel\, Stadtgarten\, Konstanz
CATEGORIES:DJ,Socialdance
ATTACH;FMTTYPE=image/png:https://swingdanceevents.ch/wp-content/uploads/2026/04/cropped-Logo-rund-blau-1024x964-1-768x723-3.png
END:VEVENT
BEGIN:VEVENT
DTSTART;TZID=Europe/Zurich:20270614T200000
DTEND;TZID=Europe/Zurich:20270614T220000
DTSTAMP:20260422T003116
CREATED:20260412T201700Z
LAST-MODIFIED:20260412T201700Z
UID:10003221-1813003200-1813010400@swingdanceevents.ch
SUMMARY:Montags-Social
DESCRIPTION:Wir tanzen im neuen Vereinsheim (Kulturetage). Im Sommer auch mal draußen in der Konzertmuschel. \nKein Eintritt\, das Event wird durch eure Spenden finanziert.
URL:https://swingdanceevents.ch/event/montags-social/2027-06-14/
LOCATION:Konzertmuschel\, Stadtgarten\, Konstanz
CATEGORIES:DJ,Socialdance
ATTACH;FMTTYPE=image/png:https://swingdanceevents.ch/wp-content/uploads/2026/04/cropped-Logo-rund-blau-1024x964-1-768x723-3.png
END:VEVENT
BEGIN:VEVENT
DTSTART;TZID=Europe/Zurich:20270621T200000
DTEND;TZID=Europe/Zurich:20270621T220000
DTSTAMP:20260422T003116
CREATED:20260412T201700Z
LAST-MODIFIED:20260412T201700Z
UID:10003222-1813608000-1813615200@swingdanceevents.ch
SUMMARY:Montags-Social
DESCRIPTION:Wir tanzen im neuen Vereinsheim (Kulturetage). Im Sommer auch mal draußen in der Konzertmuschel. \nKein Eintritt\, das Event wird durch eure Spenden finanziert.
URL:https://swingdanceevents.ch/event/montags-social/2027-06-21/
LOCATION:Konzertmuschel\, Stadtgarten\, Konstanz
CATEGORIES:DJ,Socialdance
ATTACH;FMTTYPE=image/png:https://swingdanceevents.ch/wp-content/uploads/2026/04/cropped-Logo-rund-blau-1024x964-1-768x723-3.png
END:VEVENT
BEGIN:VEVENT
DTSTART;TZID=Europe/Zurich:20270628T200000
DTEND;TZID=Europe/Zurich:20270628T220000
DTSTAMP:20260422T003116
CREATED:20260412T201700Z
LAST-MODIFIED:20260412T201700Z
UID:10003223-1814212800-1814220000@swingdanceevents.ch
SUMMARY:Montags-Social
DESCRIPTION:Wir tanzen im neuen Vereinsheim (Kulturetage). Im Sommer auch mal draußen in der Konzertmuschel. \nKein Eintritt\, das Event wird durch eure Spenden finanziert.
URL:https://swingdanceevents.ch/event/montags-social/2027-06-28/
LOCATION:Konzertmuschel\, Stadtgarten\, Konstanz
CATEGORIES:DJ,Socialdance
ATTACH;FMTTYPE=image/png:https://swingdanceevents.ch/wp-content/uploads/2026/04/cropped-Logo-rund-blau-1024x964-1-768x723-3.png
END:VEVENT
BEGIN:VEVENT
DTSTART;TZID=Europe/Zurich:20270704T150000
DTEND;TZID=Europe/Zurich:20270704T180000
DTSTAMP:20260422T003116
CREATED:20260419T181318Z
LAST-MODIFIED:20260419T181318Z
UID:10003269-1814713200-1814724000@swingdanceevents.ch
SUMMARY:Cream Tea
DESCRIPTION:Es gibt schöne Swingmusik von unseren grandiosen DJs\, Kuchen (von der Kutmühle)\, Kaffee\, Kaltgetränke und Platz zum Tanzen und Sitzen drinnen und draußen. Ein wunderschönes Sonntagnachmittag Programm. Kein Eintritt\, die Raummiete wird durch eure Spenden finanziert.
URL:https://swingdanceevents.ch/event/cream-tea/2027-07-04/
LOCATION:Madame Moustache\, Obere Laube 55\, Konstanz
CATEGORIES:DJ,Socialdance
ATTACH;FMTTYPE=image/jpeg:https://swingdanceevents.ch/wp-content/uploads/2026/04/CreamTea.jpeg
END:VEVENT
BEGIN:VEVENT
DTSTART;TZID=Europe/Zurich:20270705T200000
DTEND;TZID=Europe/Zurich:20270705T220000
DTSTAMP:20260422T003116
CREATED:20260412T201700Z
LAST-MODIFIED:20260412T201700Z
UID:10003224-1814817600-1814824800@swingdanceevents.ch
SUMMARY:Montags-Social
DESCRIPTION:Wir tanzen im neuen Vereinsheim (Kulturetage). Im Sommer auch mal draußen in der Konzertmuschel. \nKein Eintritt\, das Event wird durch eure Spenden finanziert.
URL:https://swingdanceevents.ch/event/montags-social/2027-07-05/
LOCATION:Konzertmuschel\, Stadtgarten\, Konstanz
CATEGORIES:DJ,Socialdance
ATTACH;FMTTYPE=image/png:https://swingdanceevents.ch/wp-content/uploads/2026/04/cropped-Logo-rund-blau-1024x964-1-768x723-3.png
END:VEVENT
BEGIN:VEVENT
DTSTART;TZID=Europe/Zurich:20270712T200000
DTEND;TZID=Europe/Zurich:20270712T220000
DTSTAMP:20260422T003116
CREATED:20260412T201700Z
LAST-MODIFIED:20260412T201700Z
UID:10003225-1815422400-1815429600@swingdanceevents.ch
SUMMARY:Montags-Social
DESCRIPTION:Wir tanzen im neuen Vereinsheim (Kulturetage). Im Sommer auch mal draußen in der Konzertmuschel. \nKein Eintritt\, das Event wird durch eure Spenden finanziert.
URL:https://swingdanceevents.ch/event/montags-social/2027-07-12/
LOCATION:Konzertmuschel\, Stadtgarten\, Konstanz
CATEGORIES:DJ,Socialdance
ATTACH;FMTTYPE=image/png:https://swingdanceevents.ch/wp-content/uploads/2026/04/cropped-Logo-rund-blau-1024x964-1-768x723-3.png
END:VEVENT
BEGIN:VEVENT
DTSTART;TZID=Europe/Zurich:20270719T200000
DTEND;TZID=Europe/Zurich:20270719T220000
DTSTAMP:20260422T003116
CREATED:20260412T201700Z
LAST-MODIFIED:20260412T201700Z
UID:10003226-1816027200-1816034400@swingdanceevents.ch
SUMMARY:Montags-Social
DESCRIPTION:Wir tanzen im neuen Vereinsheim (Kulturetage). Im Sommer auch mal draußen in der Konzertmuschel. \nKein Eintritt\, das Event wird durch eure Spenden finanziert.
URL:https://swingdanceevents.ch/event/montags-social/2027-07-19/
LOCATION:Konzertmuschel\, Stadtgarten\, Konstanz
CATEGORIES:DJ,Socialdance
ATTACH;FMTTYPE=image/png:https://swingdanceevents.ch/wp-content/uploads/2026/04/cropped-Logo-rund-blau-1024x964-1-768x723-3.png
END:VEVENT
BEGIN:VEVENT
DTSTART;TZID=Europe/Zurich:20270726T200000
DTEND;TZID=Europe/Zurich:20270726T220000
DTSTAMP:20260422T003116
CREATED:20260412T201700Z
LAST-MODIFIED:20260412T201700Z
UID:10003227-1816632000-1816639200@swingdanceevents.ch
SUMMARY:Montags-Social
DESCRIPTION:Wir tanzen im neuen Vereinsheim (Kulturetage). Im Sommer auch mal draußen in der Konzertmuschel. \nKein Eintritt\, das Event wird durch eure Spenden finanziert.
URL:https://swingdanceevents.ch/event/montags-social/2027-07-26/
LOCATION:Konzertmuschel\, Stadtgarten\, Konstanz
CATEGORIES:DJ,Socialdance
ATTACH;FMTTYPE=image/png:https://swingdanceevents.ch/wp-content/uploads/2026/04/cropped-Logo-rund-blau-1024x964-1-768x723-3.png
END:VEVENT
BEGIN:VEVENT
DTSTART;TZID=Europe/Zurich:20270801T150000
DTEND;TZID=Europe/Zurich:20270801T180000
DTSTAMP:20260422T003116
CREATED:20260419T181318Z
LAST-MODIFIED:20260419T181318Z
UID:10003270-1817132400-1817143200@swingdanceevents.ch
SUMMARY:Cream Tea
DESCRIPTION:Es gibt schöne Swingmusik von unseren grandiosen DJs\, Kuchen (von der Kutmühle)\, Kaffee\, Kaltgetränke und Platz zum Tanzen und Sitzen drinnen und draußen. Ein wunderschönes Sonntagnachmittag Programm. Kein Eintritt\, die Raummiete wird durch eure Spenden finanziert.
URL:https://swingdanceevents.ch/event/cream-tea/2027-08-01/
LOCATION:Madame Moustache\, Obere Laube 55\, Konstanz
CATEGORIES:DJ,Socialdance
ATTACH;FMTTYPE=image/jpeg:https://swingdanceevents.ch/wp-content/uploads/2026/04/CreamTea.jpeg
END:VEVENT
BEGIN:VEVENT
DTSTART;TZID=Europe/Zurich:20270802T200000
DTEND;TZID=Europe/Zurich:20270802T220000
DTSTAMP:20260422T003116
CREATED:20260412T201700Z
LAST-MODIFIED:20260412T201700Z
UID:10003228-1817236800-1817244000@swingdanceevents.ch
SUMMARY:Montags-Social
DESCRIPTION:Wir tanzen im neuen Vereinsheim (Kulturetage). Im Sommer auch mal draußen in der Konzertmuschel. \nKein Eintritt\, das Event wird durch eure Spenden finanziert.
URL:https://swingdanceevents.ch/event/montags-social/2027-08-02/
LOCATION:Konzertmuschel\, Stadtgarten\, Konstanz
CATEGORIES:DJ,Socialdance
ATTACH;FMTTYPE=image/png:https://swingdanceevents.ch/wp-content/uploads/2026/04/cropped-Logo-rund-blau-1024x964-1-768x723-3.png
END:VEVENT
BEGIN:VEVENT
DTSTART;TZID=Europe/Zurich:20270809T200000
DTEND;TZID=Europe/Zurich:20270809T220000
DTSTAMP:20260422T003116
CREATED:20260412T201700Z
LAST-MODIFIED:20260412T201700Z
UID:10003229-1817841600-1817848800@swingdanceevents.ch
SUMMARY:Montags-Social
DESCRIPTION:Wir tanzen im neuen Vereinsheim (Kulturetage). Im Sommer auch mal draußen in der Konzertmuschel. \nKein Eintritt\, das Event wird durch eure Spenden finanziert.
URL:https://swingdanceevents.ch/event/montags-social/2027-08-09/
LOCATION:Konzertmuschel\, Stadtgarten\, Konstanz
CATEGORIES:DJ,Socialdance
ATTACH;FMTTYPE=image/png:https://swingdanceevents.ch/wp-content/uploads/2026/04/cropped-Logo-rund-blau-1024x964-1-768x723-3.png
END:VEVENT
BEGIN:VEVENT
DTSTART;TZID=Europe/Zurich:20270816T200000
DTEND;TZID=Europe/Zurich:20270816T220000
DTSTAMP:20260422T003116
CREATED:20260412T201700Z
LAST-MODIFIED:20260412T201700Z
UID:10003230-1818446400-1818453600@swingdanceevents.ch
SUMMARY:Montags-Social
DESCRIPTION:Wir tanzen im neuen Vereinsheim (Kulturetage). Im Sommer auch mal draußen in der Konzertmuschel. \nKein Eintritt\, das Event wird durch eure Spenden finanziert.
URL:https://swingdanceevents.ch/event/montags-social/2027-08-16/
LOCATION:Konzertmuschel\, Stadtgarten\, Konstanz
CATEGORIES:DJ,Socialdance
ATTACH;FMTTYPE=image/png:https://swingdanceevents.ch/wp-content/uploads/2026/04/cropped-Logo-rund-blau-1024x964-1-768x723-3.png
END:VEVENT
BEGIN:VEVENT
DTSTART;TZID=Europe/Zurich:20270823T200000
DTEND;TZID=Europe/Zurich:20270823T220000
DTSTAMP:20260422T003116
CREATED:20260412T201700Z
LAST-MODIFIED:20260412T201700Z
UID:10003231-1819051200-1819058400@swingdanceevents.ch
SUMMARY:Montags-Social
DESCRIPTION:Wir tanzen im neuen Vereinsheim (Kulturetage). Im Sommer auch mal draußen in der Konzertmuschel. \nKein Eintritt\, das Event wird durch eure Spenden finanziert.
URL:https://swingdanceevents.ch/event/montags-social/2027-08-23/
LOCATION:Konzertmuschel\, Stadtgarten\, Konstanz
CATEGORIES:DJ,Socialdance
ATTACH;FMTTYPE=image/png:https://swingdanceevents.ch/wp-content/uploads/2026/04/cropped-Logo-rund-blau-1024x964-1-768x723-3.png
END:VEVENT
BEGIN:VEVENT
DTSTART;TZID=Europe/Zurich:20270830T200000
DTEND;TZID=Europe/Zurich:20270830T220000
DTSTAMP:20260422T003116
CREATED:20260412T201700Z
LAST-MODIFIED:20260412T201700Z
UID:10003232-1819656000-1819663200@swingdanceevents.ch
SUMMARY:Montags-Social
DESCRIPTION:Wir tanzen im neuen Vereinsheim (Kulturetage). Im Sommer auch mal draußen in der Konzertmuschel. \nKein Eintritt\, das Event wird durch eure Spenden finanziert.
URL:https://swingdanceevents.ch/event/montags-social/2027-08-30/
LOCATION:Konzertmuschel\, Stadtgarten\, Konstanz
CATEGORIES:DJ,Socialdance
ATTACH;FMTTYPE=image/png:https://swingdanceevents.ch/wp-content/uploads/2026/04/cropped-Logo-rund-blau-1024x964-1-768x723-3.png
END:VEVENT
BEGIN:VEVENT
DTSTART;TZID=Europe/Zurich:20270905T150000
DTEND;TZID=Europe/Zurich:20270905T180000
DTSTAMP:20260422T003116
CREATED:20260419T181318Z
LAST-MODIFIED:20260419T181318Z
UID:10003271-1820156400-1820167200@swingdanceevents.ch
SUMMARY:Cream Tea
DESCRIPTION:Es gibt schöne Swingmusik von unseren grandiosen DJs\, Kuchen (von der Kutmühle)\, Kaffee\, Kaltgetränke und Platz zum Tanzen und Sitzen drinnen und draußen. Ein wunderschönes Sonntagnachmittag Programm. Kein Eintritt\, die Raummiete wird durch eure Spenden finanziert.
URL:https://swingdanceevents.ch/event/cream-tea/2027-09-05/
LOCATION:Madame Moustache\, Obere Laube 55\, Konstanz
CATEGORIES:DJ,Socialdance
ATTACH;FMTTYPE=image/jpeg:https://swingdanceevents.ch/wp-content/uploads/2026/04/CreamTea.jpeg
END:VEVENT
BEGIN:VEVENT
DTSTART;TZID=Europe/Zurich:20270906T200000
DTEND;TZID=Europe/Zurich:20270906T220000
DTSTAMP:20260422T003116
CREATED:20260412T201700Z
LAST-MODIFIED:20260412T201700Z
UID:10003233-1820260800-1820268000@swingdanceevents.ch
SUMMARY:Montags-Social
DESCRIPTION:Wir tanzen im neuen Vereinsheim (Kulturetage). Im Sommer auch mal draußen in der Konzertmuschel. \nKein Eintritt\, das Event wird durch eure Spenden finanziert.
URL:https://swingdanceevents.ch/event/montags-social/2027-09-06/
LOCATION:Konzertmuschel\, Stadtgarten\, Konstanz
CATEGORIES:DJ,Socialdance
ATTACH;FMTTYPE=image/png:https://swingdanceevents.ch/wp-content/uploads/2026/04/cropped-Logo-rund-blau-1024x964-1-768x723-3.png
END:VEVENT
BEGIN:VEVENT
DTSTART;TZID=Europe/Zurich:20270913T200000
DTEND;TZID=Europe/Zurich:20270913T220000
DTSTAMP:20260422T003116
CREATED:20260412T201700Z
LAST-MODIFIED:20260412T201700Z
UID:10003234-1820865600-1820872800@swingdanceevents.ch
SUMMARY:Montags-Social
DESCRIPTION:Wir tanzen im neuen Vereinsheim (Kulturetage). Im Sommer auch mal draußen in der Konzertmuschel. \nKein Eintritt\, das Event wird durch eure Spenden finanziert.
URL:https://swingdanceevents.ch/event/montags-social/2027-09-13/
LOCATION:Konzertmuschel\, Stadtgarten\, Konstanz
CATEGORIES:DJ,Socialdance
ATTACH;FMTTYPE=image/png:https://swingdanceevents.ch/wp-content/uploads/2026/04/cropped-Logo-rund-blau-1024x964-1-768x723-3.png
END:VEVENT
BEGIN:VEVENT
DTSTART;TZID=Europe/Zurich:20270920T200000
DTEND;TZID=Europe/Zurich:20270920T220000
DTSTAMP:20260422T003116
CREATED:20260412T201700Z
LAST-MODIFIED:20260412T201700Z
UID:10003235-1821470400-1821477600@swingdanceevents.ch
SUMMARY:Montags-Social
DESCRIPTION:Wir tanzen im neuen Vereinsheim (Kulturetage). Im Sommer auch mal draußen in der Konzertmuschel. \nKein Eintritt\, das Event wird durch eure Spenden finanziert.
URL:https://swingdanceevents.ch/event/montags-social/2027-09-20/
LOCATION:Konzertmuschel\, Stadtgarten\, Konstanz
CATEGORIES:DJ,Socialdance
ATTACH;FMTTYPE=image/png:https://swingdanceevents.ch/wp-content/uploads/2026/04/cropped-Logo-rund-blau-1024x964-1-768x723-3.png
END:VEVENT
BEGIN:VEVENT
DTSTART;TZID=Europe/Zurich:20270924T193000
DTEND;TZID=Europe/Zurich:20270925T020000
DTSTAMP:20260422T003116
CREATED:20251207T151457Z
LAST-MODIFIED:20260105T093351Z
UID:10003042-1821814200-1821837600@swingdanceevents.ch
SUMMARY:Altstadt Swing
DESCRIPTION:tbd
URL:https://swingdanceevents.ch/event/altstadt-swing-18/
LOCATION:Alte Kaserne Winterthur\, Technikumstrasse 8\, Winterthur\, Switzerland
ORGANIZER;CN="Swingscouts%2C Winterthur":MAILTO:info@swingscouts.ch
END:VEVENT
BEGIN:VEVENT
DTSTART;TZID=Europe/Zurich:20270927T200000
DTEND;TZID=Europe/Zurich:20270927T220000
DTSTAMP:20260422T003116
CREATED:20260412T201700Z
LAST-MODIFIED:20260412T201700Z
UID:10003236-1822075200-1822082400@swingdanceevents.ch
SUMMARY:Montags-Social
DESCRIPTION:Wir tanzen im neuen Vereinsheim (Kulturetage). Im Sommer auch mal draußen in der Konzertmuschel. \nKein Eintritt\, das Event wird durch eure Spenden finanziert.
URL:https://swingdanceevents.ch/event/montags-social/2027-09-27/
LOCATION:Konzertmuschel\, Stadtgarten\, Konstanz
CATEGORIES:DJ,Socialdance
ATTACH;FMTTYPE=image/png:https://swingdanceevents.ch/wp-content/uploads/2026/04/cropped-Logo-rund-blau-1024x964-1-768x723-3.png
END:VEVENT
END:VCALENDAR