BEGIN:VCALENDAR
VERSION:2.0
PRODID:-//Swing Dance Events Switzerland - ECPv6.15.20//NONSGML v1.0//EN
CALSCALE:GREGORIAN
METHOD:PUBLISH
X-ORIGINAL-URL:https://swingdanceevents.ch
X-WR-CALDESC:Veranstaltungen für Swing Dance Events Switzerland
REFRESH-INTERVAL;VALUE=DURATION:PT1H
X-Robots-Tag:noindex
X-PUBLISHED-TTL:PT1H
BEGIN:VTIMEZONE
TZID:Europe/Zurich
BEGIN:DAYLIGHT
TZOFFSETFROM:+0100
TZOFFSETTO:+0200
TZNAME:CEST
DTSTART:20290325T010000
END:DAYLIGHT
BEGIN:STANDARD
TZOFFSETFROM:+0200
TZOFFSETTO:+0100
TZNAME:CET
DTSTART:20291028T010000
END:STANDARD
BEGIN:DAYLIGHT
TZOFFSETFROM:+0100
TZOFFSETTO:+0200
TZNAME:CEST
DTSTART:20300331T010000
END:DAYLIGHT
BEGIN:STANDARD
TZOFFSETFROM:+0200
TZOFFSETTO:+0100
TZNAME:CET
DTSTART:20301027T010000
END:STANDARD
BEGIN:DAYLIGHT
TZOFFSETFROM:+0100
TZOFFSETTO:+0200
TZNAME:CEST
DTSTART:20310330T010000
END:DAYLIGHT
BEGIN:STANDARD
TZOFFSETFROM:+0200
TZOFFSETTO:+0100
TZNAME:CET
DTSTART:20311026T010000
END:STANDARD
BEGIN:DAYLIGHT
TZOFFSETFROM:+0100
TZOFFSETTO:+0200
TZNAME:CEST
DTSTART:20320328T010000
END:DAYLIGHT
BEGIN:STANDARD
TZOFFSETFROM:+0200
TZOFFSETTO:+0100
TZNAME:CET
DTSTART:20321031T010000
END:STANDARD
END:VTIMEZONE
BEGIN:VEVENT
DTSTART;TZID=Europe/Zurich:20300106T150000
DTEND;TZID=Europe/Zurich:20300106T180000
DTSTAMP:20260422T061932
CREATED:20260419T181318Z
LAST-MODIFIED:20260419T181318Z
UID:10003299-1893942000-1893952800@swingdanceevents.ch
SUMMARY:Cream Tea
DESCRIPTION:Es gibt schöne Swingmusik von unseren grandiosen DJs\, Kuchen (von der Kutmühle)\, Kaffee\, Kaltgetränke und Platz zum Tanzen und Sitzen drinnen und draußen. Ein wunderschönes Sonntagnachmittag Programm. Kein Eintritt\, die Raummiete wird durch eure Spenden finanziert.
URL:https://swingdanceevents.ch/event/cream-tea/2030-01-06/
LOCATION:Madame Moustache\, Obere Laube 55\, Konstanz
CATEGORIES:DJ,Socialdance
ATTACH;FMTTYPE=image/jpeg:https://swingdanceevents.ch/wp-content/uploads/2026/04/CreamTea.jpeg
END:VEVENT
BEGIN:VEVENT
DTSTART;TZID=Europe/Zurich:20300203T150000
DTEND;TZID=Europe/Zurich:20300203T180000
DTSTAMP:20260422T061932
CREATED:20260419T181318Z
LAST-MODIFIED:20260419T181318Z
UID:10003300-1896361200-1896372000@swingdanceevents.ch
SUMMARY:Cream Tea
DESCRIPTION:Es gibt schöne Swingmusik von unseren grandiosen DJs\, Kuchen (von der Kutmühle)\, Kaffee\, Kaltgetränke und Platz zum Tanzen und Sitzen drinnen und draußen. Ein wunderschönes Sonntagnachmittag Programm. Kein Eintritt\, die Raummiete wird durch eure Spenden finanziert.
URL:https://swingdanceevents.ch/event/cream-tea/2030-02-03/
LOCATION:Madame Moustache\, Obere Laube 55\, Konstanz
CATEGORIES:DJ,Socialdance
ATTACH;FMTTYPE=image/jpeg:https://swingdanceevents.ch/wp-content/uploads/2026/04/CreamTea.jpeg
END:VEVENT
BEGIN:VEVENT
DTSTART;TZID=Europe/Zurich:20300303T150000
DTEND;TZID=Europe/Zurich:20300303T180000
DTSTAMP:20260422T061932
CREATED:20260419T181318Z
LAST-MODIFIED:20260419T181318Z
UID:10003301-1898780400-1898791200@swingdanceevents.ch
SUMMARY:Cream Tea
DESCRIPTION:Es gibt schöne Swingmusik von unseren grandiosen DJs\, Kuchen (von der Kutmühle)\, Kaffee\, Kaltgetränke und Platz zum Tanzen und Sitzen drinnen und draußen. Ein wunderschönes Sonntagnachmittag Programm. Kein Eintritt\, die Raummiete wird durch eure Spenden finanziert.
URL:https://swingdanceevents.ch/event/cream-tea/2030-03-03/
LOCATION:Madame Moustache\, Obere Laube 55\, Konstanz
CATEGORIES:DJ,Socialdance
ATTACH;FMTTYPE=image/jpeg:https://swingdanceevents.ch/wp-content/uploads/2026/04/CreamTea.jpeg
END:VEVENT
BEGIN:VEVENT
DTSTART;TZID=Europe/Zurich:20300407T150000
DTEND;TZID=Europe/Zurich:20300407T180000
DTSTAMP:20260422T061932
CREATED:20260419T181318Z
LAST-MODIFIED:20260419T181318Z
UID:10003302-1901804400-1901815200@swingdanceevents.ch
SUMMARY:Cream Tea
DESCRIPTION:Es gibt schöne Swingmusik von unseren grandiosen DJs\, Kuchen (von der Kutmühle)\, Kaffee\, Kaltgetränke und Platz zum Tanzen und Sitzen drinnen und draußen. Ein wunderschönes Sonntagnachmittag Programm. Kein Eintritt\, die Raummiete wird durch eure Spenden finanziert.
URL:https://swingdanceevents.ch/event/cream-tea/2030-04-07/
LOCATION:Madame Moustache\, Obere Laube 55\, Konstanz
CATEGORIES:DJ,Socialdance
ATTACH;FMTTYPE=image/jpeg:https://swingdanceevents.ch/wp-content/uploads/2026/04/CreamTea.jpeg
END:VEVENT
BEGIN:VEVENT
DTSTART;TZID=Europe/Zurich:20300505T150000
DTEND;TZID=Europe/Zurich:20300505T180000
DTSTAMP:20260422T061932
CREATED:20260419T181318Z
LAST-MODIFIED:20260419T181318Z
UID:10003303-1904223600-1904234400@swingdanceevents.ch
SUMMARY:Cream Tea
DESCRIPTION:Es gibt schöne Swingmusik von unseren grandiosen DJs\, Kuchen (von der Kutmühle)\, Kaffee\, Kaltgetränke und Platz zum Tanzen und Sitzen drinnen und draußen. Ein wunderschönes Sonntagnachmittag Programm. Kein Eintritt\, die Raummiete wird durch eure Spenden finanziert.
URL:https://swingdanceevents.ch/event/cream-tea/2030-05-05/
LOCATION:Madame Moustache\, Obere Laube 55\, Konstanz
CATEGORIES:DJ,Socialdance
ATTACH;FMTTYPE=image/jpeg:https://swingdanceevents.ch/wp-content/uploads/2026/04/CreamTea.jpeg
END:VEVENT
BEGIN:VEVENT
DTSTART;TZID=Europe/Zurich:20300602T150000
DTEND;TZID=Europe/Zurich:20300602T180000
DTSTAMP:20260422T061932
CREATED:20260419T181318Z
LAST-MODIFIED:20260419T181318Z
UID:10003304-1906642800-1906653600@swingdanceevents.ch
SUMMARY:Cream Tea
DESCRIPTION:Es gibt schöne Swingmusik von unseren grandiosen DJs\, Kuchen (von der Kutmühle)\, Kaffee\, Kaltgetränke und Platz zum Tanzen und Sitzen drinnen und draußen. Ein wunderschönes Sonntagnachmittag Programm. Kein Eintritt\, die Raummiete wird durch eure Spenden finanziert.
URL:https://swingdanceevents.ch/event/cream-tea/2030-06-02/
LOCATION:Madame Moustache\, Obere Laube 55\, Konstanz
CATEGORIES:DJ,Socialdance
ATTACH;FMTTYPE=image/jpeg:https://swingdanceevents.ch/wp-content/uploads/2026/04/CreamTea.jpeg
END:VEVENT
BEGIN:VEVENT
DTSTART;TZID=Europe/Zurich:20300707T150000
DTEND;TZID=Europe/Zurich:20300707T180000
DTSTAMP:20260422T061933
CREATED:20260419T181318Z
LAST-MODIFIED:20260419T181318Z
UID:10003305-1909666800-1909677600@swingdanceevents.ch
SUMMARY:Cream Tea
DESCRIPTION:Es gibt schöne Swingmusik von unseren grandiosen DJs\, Kuchen (von der Kutmühle)\, Kaffee\, Kaltgetränke und Platz zum Tanzen und Sitzen drinnen und draußen. Ein wunderschönes Sonntagnachmittag Programm. Kein Eintritt\, die Raummiete wird durch eure Spenden finanziert.
URL:https://swingdanceevents.ch/event/cream-tea/2030-07-07/
LOCATION:Madame Moustache\, Obere Laube 55\, Konstanz
CATEGORIES:DJ,Socialdance
ATTACH;FMTTYPE=image/jpeg:https://swingdanceevents.ch/wp-content/uploads/2026/04/CreamTea.jpeg
END:VEVENT
BEGIN:VEVENT
DTSTART;TZID=Europe/Zurich:20300804T150000
DTEND;TZID=Europe/Zurich:20300804T180000
DTSTAMP:20260422T061933
CREATED:20260419T181318Z
LAST-MODIFIED:20260419T181318Z
UID:10003306-1912086000-1912096800@swingdanceevents.ch
SUMMARY:Cream Tea
DESCRIPTION:Es gibt schöne Swingmusik von unseren grandiosen DJs\, Kuchen (von der Kutmühle)\, Kaffee\, Kaltgetränke und Platz zum Tanzen und Sitzen drinnen und draußen. Ein wunderschönes Sonntagnachmittag Programm. Kein Eintritt\, die Raummiete wird durch eure Spenden finanziert.
URL:https://swingdanceevents.ch/event/cream-tea/2030-08-04/
LOCATION:Madame Moustache\, Obere Laube 55\, Konstanz
CATEGORIES:DJ,Socialdance
ATTACH;FMTTYPE=image/jpeg:https://swingdanceevents.ch/wp-content/uploads/2026/04/CreamTea.jpeg
END:VEVENT
BEGIN:VEVENT
DTSTART;TZID=Europe/Zurich:20300901T150000
DTEND;TZID=Europe/Zurich:20300901T180000
DTSTAMP:20260422T061933
CREATED:20260419T181318Z
LAST-MODIFIED:20260419T181318Z
UID:10003307-1914505200-1914516000@swingdanceevents.ch
SUMMARY:Cream Tea
DESCRIPTION:Es gibt schöne Swingmusik von unseren grandiosen DJs\, Kuchen (von der Kutmühle)\, Kaffee\, Kaltgetränke und Platz zum Tanzen und Sitzen drinnen und draußen. Ein wunderschönes Sonntagnachmittag Programm. Kein Eintritt\, die Raummiete wird durch eure Spenden finanziert.
URL:https://swingdanceevents.ch/event/cream-tea/2030-09-01/
LOCATION:Madame Moustache\, Obere Laube 55\, Konstanz
CATEGORIES:DJ,Socialdance
ATTACH;FMTTYPE=image/jpeg:https://swingdanceevents.ch/wp-content/uploads/2026/04/CreamTea.jpeg
END:VEVENT
BEGIN:VEVENT
DTSTART;TZID=Europe/Zurich:20301006T150000
DTEND;TZID=Europe/Zurich:20301006T180000
DTSTAMP:20260422T061933
CREATED:20260419T181318Z
LAST-MODIFIED:20260419T181318Z
UID:10003308-1917529200-1917540000@swingdanceevents.ch
SUMMARY:Cream Tea
DESCRIPTION:Es gibt schöne Swingmusik von unseren grandiosen DJs\, Kuchen (von der Kutmühle)\, Kaffee\, Kaltgetränke und Platz zum Tanzen und Sitzen drinnen und draußen. Ein wunderschönes Sonntagnachmittag Programm. Kein Eintritt\, die Raummiete wird durch eure Spenden finanziert.
URL:https://swingdanceevents.ch/event/cream-tea/2030-10-06/
LOCATION:Madame Moustache\, Obere Laube 55\, Konstanz
CATEGORIES:DJ,Socialdance
ATTACH;FMTTYPE=image/jpeg:https://swingdanceevents.ch/wp-content/uploads/2026/04/CreamTea.jpeg
END:VEVENT
BEGIN:VEVENT
DTSTART;TZID=Europe/Zurich:20301103T150000
DTEND;TZID=Europe/Zurich:20301103T180000
DTSTAMP:20260422T061933
CREATED:20260419T181318Z
LAST-MODIFIED:20260419T181318Z
UID:10003309-1919948400-1919959200@swingdanceevents.ch
SUMMARY:Cream Tea
DESCRIPTION:Es gibt schöne Swingmusik von unseren grandiosen DJs\, Kuchen (von der Kutmühle)\, Kaffee\, Kaltgetränke und Platz zum Tanzen und Sitzen drinnen und draußen. Ein wunderschönes Sonntagnachmittag Programm. Kein Eintritt\, die Raummiete wird durch eure Spenden finanziert.
URL:https://swingdanceevents.ch/event/cream-tea/2030-11-03/
LOCATION:Madame Moustache\, Obere Laube 55\, Konstanz
CATEGORIES:DJ,Socialdance
ATTACH;FMTTYPE=image/jpeg:https://swingdanceevents.ch/wp-content/uploads/2026/04/CreamTea.jpeg
END:VEVENT
BEGIN:VEVENT
DTSTART;TZID=Europe/Zurich:20301201T150000
DTEND;TZID=Europe/Zurich:20301201T180000
DTSTAMP:20260422T061933
CREATED:20260419T181318Z
LAST-MODIFIED:20260419T181318Z
UID:10003310-1922367600-1922378400@swingdanceevents.ch
SUMMARY:Cream Tea
DESCRIPTION:Es gibt schöne Swingmusik von unseren grandiosen DJs\, Kuchen (von der Kutmühle)\, Kaffee\, Kaltgetränke und Platz zum Tanzen und Sitzen drinnen und draußen. Ein wunderschönes Sonntagnachmittag Programm. Kein Eintritt\, die Raummiete wird durch eure Spenden finanziert.
URL:https://swingdanceevents.ch/event/cream-tea/2030-12-01/
LOCATION:Madame Moustache\, Obere Laube 55\, Konstanz
CATEGORIES:DJ,Socialdance
ATTACH;FMTTYPE=image/jpeg:https://swingdanceevents.ch/wp-content/uploads/2026/04/CreamTea.jpeg
END:VEVENT
BEGIN:VEVENT
DTSTART;TZID=Europe/Zurich:20310105T150000
DTEND;TZID=Europe/Zurich:20310105T180000
DTSTAMP:20260422T061933
CREATED:20260419T181318Z
LAST-MODIFIED:20260419T181318Z
UID:10003311-1925391600-1925402400@swingdanceevents.ch
SUMMARY:Cream Tea
DESCRIPTION:Es gibt schöne Swingmusik von unseren grandiosen DJs\, Kuchen (von der Kutmühle)\, Kaffee\, Kaltgetränke und Platz zum Tanzen und Sitzen drinnen und draußen. Ein wunderschönes Sonntagnachmittag Programm. Kein Eintritt\, die Raummiete wird durch eure Spenden finanziert.
URL:https://swingdanceevents.ch/event/cream-tea/2031-01-05/
LOCATION:Madame Moustache\, Obere Laube 55\, Konstanz
CATEGORIES:DJ,Socialdance
ATTACH;FMTTYPE=image/jpeg:https://swingdanceevents.ch/wp-content/uploads/2026/04/CreamTea.jpeg
END:VEVENT
BEGIN:VEVENT
DTSTART;TZID=Europe/Zurich:20310202T150000
DTEND;TZID=Europe/Zurich:20310202T180000
DTSTAMP:20260422T061933
CREATED:20260419T181318Z
LAST-MODIFIED:20260419T181318Z
UID:10003312-1927810800-1927821600@swingdanceevents.ch
SUMMARY:Cream Tea
DESCRIPTION:Es gibt schöne Swingmusik von unseren grandiosen DJs\, Kuchen (von der Kutmühle)\, Kaffee\, Kaltgetränke und Platz zum Tanzen und Sitzen drinnen und draußen. Ein wunderschönes Sonntagnachmittag Programm. Kein Eintritt\, die Raummiete wird durch eure Spenden finanziert.
URL:https://swingdanceevents.ch/event/cream-tea/2031-02-02/
LOCATION:Madame Moustache\, Obere Laube 55\, Konstanz
CATEGORIES:DJ,Socialdance
ATTACH;FMTTYPE=image/jpeg:https://swingdanceevents.ch/wp-content/uploads/2026/04/CreamTea.jpeg
END:VEVENT
BEGIN:VEVENT
DTSTART;TZID=Europe/Zurich:20310302T150000
DTEND;TZID=Europe/Zurich:20310302T180000
DTSTAMP:20260422T061933
CREATED:20260419T181318Z
LAST-MODIFIED:20260419T181318Z
UID:10003313-1930230000-1930240800@swingdanceevents.ch
SUMMARY:Cream Tea
DESCRIPTION:Es gibt schöne Swingmusik von unseren grandiosen DJs\, Kuchen (von der Kutmühle)\, Kaffee\, Kaltgetränke und Platz zum Tanzen und Sitzen drinnen und draußen. Ein wunderschönes Sonntagnachmittag Programm. Kein Eintritt\, die Raummiete wird durch eure Spenden finanziert.
URL:https://swingdanceevents.ch/event/cream-tea/2031-03-02/
LOCATION:Madame Moustache\, Obere Laube 55\, Konstanz
CATEGORIES:DJ,Socialdance
ATTACH;FMTTYPE=image/jpeg:https://swingdanceevents.ch/wp-content/uploads/2026/04/CreamTea.jpeg
END:VEVENT
BEGIN:VEVENT
DTSTART;TZID=Europe/Zurich:20310406T150000
DTEND;TZID=Europe/Zurich:20310406T180000
DTSTAMP:20260422T061933
CREATED:20260419T181318Z
LAST-MODIFIED:20260419T181318Z
UID:10003314-1933254000-1933264800@swingdanceevents.ch
SUMMARY:Cream Tea
DESCRIPTION:Es gibt schöne Swingmusik von unseren grandiosen DJs\, Kuchen (von der Kutmühle)\, Kaffee\, Kaltgetränke und Platz zum Tanzen und Sitzen drinnen und draußen. Ein wunderschönes Sonntagnachmittag Programm. Kein Eintritt\, die Raummiete wird durch eure Spenden finanziert.
URL:https://swingdanceevents.ch/event/cream-tea/2031-04-06/
LOCATION:Madame Moustache\, Obere Laube 55\, Konstanz
CATEGORIES:DJ,Socialdance
ATTACH;FMTTYPE=image/jpeg:https://swingdanceevents.ch/wp-content/uploads/2026/04/CreamTea.jpeg
END:VEVENT
END:VCALENDAR