BEGIN:VCALENDAR
VERSION:2.0
PRODID:-//Swing Dance Events Switzerland - ECPv6.15.20//NONSGML v1.0//EN
CALSCALE:GREGORIAN
METHOD:PUBLISH
X-WR-CALNAME:Swing Dance Events Switzerland
X-ORIGINAL-URL:https://swingdanceevents.ch
X-WR-CALDESC:Veranstaltungen für Swing Dance Events Switzerland
REFRESH-INTERVAL;VALUE=DURATION:PT1H
X-Robots-Tag:noindex
X-PUBLISHED-TTL:PT1H
BEGIN:VTIMEZONE
TZID:Europe/Zurich
BEGIN:DAYLIGHT
TZOFFSETFROM:+0100
TZOFFSETTO:+0200
TZNAME:CEST
DTSTART:20240331T010000
END:DAYLIGHT
BEGIN:STANDARD
TZOFFSETFROM:+0200
TZOFFSETTO:+0100
TZNAME:CET
DTSTART:20241027T010000
END:STANDARD
BEGIN:DAYLIGHT
TZOFFSETFROM:+0100
TZOFFSETTO:+0200
TZNAME:CEST
DTSTART:20250330T010000
END:DAYLIGHT
BEGIN:STANDARD
TZOFFSETFROM:+0200
TZOFFSETTO:+0100
TZNAME:CET
DTSTART:20251026T010000
END:STANDARD
BEGIN:DAYLIGHT
TZOFFSETFROM:+0100
TZOFFSETTO:+0200
TZNAME:CEST
DTSTART:20260329T010000
END:DAYLIGHT
BEGIN:STANDARD
TZOFFSETFROM:+0200
TZOFFSETTO:+0100
TZNAME:CET
DTSTART:20261025T010000
END:STANDARD
END:VTIMEZONE
BEGIN:VEVENT
DTSTART;VALUE=DATE:20251107
DTEND;VALUE=DATE:20251114
DTSTAMP:20260424T105726
CREATED:20250225T105818Z
LAST-MODIFIED:20250225T110536Z
UID:10002572-1762491600-1763009999@swingdanceevents.ch
SUMMARY:Rocky Balbaerna 2025
DESCRIPTION:Das Rocky Balberna findet auch 2025 wieder statt!\nSave the Date: 7.-9.11.2025\nFreu dich auf ein Wochenende voller Balboa: mit Workshops am Samstag und Sonntag sowie drei Partys mit Live-Bands!
URL:https://swingdanceevents.ch/event/rocky-balbaerna-2025/
LOCATION:Zürich
CATEGORIES:DJ,Festival,LiveBand,Party,Socialdance,Workshop
ATTACH;FMTTYPE=image/png:https://swingdanceevents.ch/wp-content/uploads/2025/02/ROCKY_Flyer_A6_2025_Save-1.png
END:VEVENT
BEGIN:VEVENT
DTSTART;TZID=Europe/Zurich:20251115T100000
DTEND;TZID=Europe/Zurich:20251115T173000
DTSTAMP:20260424T105726
CREATED:20250523T150452Z
LAST-MODIFIED:20250523T150753Z
UID:10002660-1763200800-1763227800@swingdanceevents.ch
SUMMARY:Move Into the Blues
DESCRIPTION:Durch verschiedene Zugänge möchten wir dir die Möglichkeit geben\, zu einem unvergesslichen Tanzerlebnis zu gelangen. Diesmal bringt uns Taketina zu unserem natürlichen Rhythmus zurück\, weg vom Kopf zurück in den Körper wo wir in ein Gefühl des Seins gelangen und den Planungsgeist ziehen lassen können. Alles wird unseren Horizont erweitern und das individuelle Blues Tanz Gefühl bereichern. \nUnterricht: 2h Jazz Roots & 3h Blues Dance (1h davon mit live Musik)
URL:https://swingdanceevents.ch/event/move-into-the-blues-4/
LOCATION:The Rhythm Rebels Studio\, Aarbergergasse 40\,\, Bern\, Bern\, 3011\, Switzerland
CATEGORIES:Workshop
ATTACH;FMTTYPE=image/png:https://swingdanceevents.ch/wp-content/uploads/2025/05/Move-Into-the-Blues-2526.png
ORGANIZER;CN="Blues Dance Bern":MAILTO:info@be-bluesed.ch
END:VEVENT
END:VCALENDAR