BEGIN:VCALENDAR
VERSION:2.0
PRODID:-//Swing Dance Events Switzerland - ECPv6.15.20//NONSGML v1.0//EN
CALSCALE:GREGORIAN
METHOD:PUBLISH
X-WR-CALNAME:Swing Dance Events Switzerland
X-ORIGINAL-URL:https://swingdanceevents.ch
X-WR-CALDESC:Veranstaltungen für Swing Dance Events Switzerland
REFRESH-INTERVAL;VALUE=DURATION:PT1H
X-Robots-Tag:noindex
X-PUBLISHED-TTL:PT1H
BEGIN:VTIMEZONE
TZID:Europe/Zurich
BEGIN:DAYLIGHT
TZOFFSETFROM:+0100
TZOFFSETTO:+0200
TZNAME:CEST
DTSTART:20240331T010000
END:DAYLIGHT
BEGIN:STANDARD
TZOFFSETFROM:+0200
TZOFFSETTO:+0100
TZNAME:CET
DTSTART:20241027T010000
END:STANDARD
BEGIN:DAYLIGHT
TZOFFSETFROM:+0100
TZOFFSETTO:+0200
TZNAME:CEST
DTSTART:20250330T010000
END:DAYLIGHT
BEGIN:STANDARD
TZOFFSETFROM:+0200
TZOFFSETTO:+0100
TZNAME:CET
DTSTART:20251026T010000
END:STANDARD
BEGIN:DAYLIGHT
TZOFFSETFROM:+0100
TZOFFSETTO:+0200
TZNAME:CEST
DTSTART:20260329T010000
END:DAYLIGHT
BEGIN:STANDARD
TZOFFSETFROM:+0200
TZOFFSETTO:+0100
TZNAME:CET
DTSTART:20261025T010000
END:STANDARD
END:VTIMEZONE
BEGIN:VEVENT
DTSTART;TZID=Europe/Zurich:20251117T190000
DTEND;TZID=Europe/Zurich:20251117T230000
DTSTAMP:20260425T150809
CREATED:20250523T152311Z
LAST-MODIFIED:20250523T152311Z
UID:10002664-1763406000-1763420400@swingdanceevents.ch
SUMMARY:Monday Blues
DESCRIPTION:Got the Monday Blues? Wir haben deine Medizin. \nMonday Blues mit traditioneller Bluesmusik. \n\n\nMit der Live-Jamsession wird der Anlass einmal mehr zum Begegnungsort zwischen Musizierenden und Tanzenden. Bring dein Instrument und/oder deine Füsse mit und zelebriere mit uns den Monday Blues.
URL:https://swingdanceevents.ch/event/monday-blues-2/2025-11-17/
LOCATION:Mahogany Hall\, Klosterlistutz 18\, 3000 Bern
CATEGORIES:Crashcourse,Socialdance
ATTACH;FMTTYPE=image/jpeg:https://swingdanceevents.ch/wp-content/uploads/2025/05/Monday-Blues.jpeg
ORGANIZER;CN="Blues Dance Bern":MAILTO:info@be-bluesed.ch
END:VEVENT
BEGIN:VEVENT
DTSTART;VALUE=DATE:20251121
DTEND;VALUE=DATE:20251126
DTSTAMP:20260425T150809
CREATED:20250714T152719Z
LAST-MODIFIED:20250714T153000Z
UID:10002824-1763701200-1764046799@swingdanceevents.ch
SUMMARY:Stir it! 2025
DESCRIPTION:Teachers: \nDaniil & Maria (https://youtu.be/Hd1zlYzPgjc) \nJacek und Konrad (https://youtu.be/LwoREub7k34\, https://youtu.be/SbZUnp9wC94) \nTadas und Pamela (https://youtu.be/Om4LSRhp9Dw) \nKarl (Solo) (https://youtu.be/WXanJoOAvHU) \nBriana (Stepping\, Body Percussion\, Rhythm in Play) (https://youtu.be/d5hKHOMYlL0) \nArnas & Egle (https://youtu.be/vu7r9E3zfJs) \nInes & Dani (Boogie Woogie) (https://youtu.be/ubr4Qi_JCBU) \nBands: \nHot Sugar Band (https://youtu.be/U24WGUmkFHE) \nChicago Swing Collective (https://youtu.be/mp6-8UGH87I) \nThe Sheiks (Workshop Band) (https://youtu.be/h6MtP94u2c4) \nAlle weiteren Infos findet ihr auf unserer Website www.stirit.ch und auf social media Instagram_stirit.
URL:https://swingdanceevents.ch/event/stir-it-2025/
LOCATION:Tanzwerk 101\, Pfingstweidstrasse 101\, Zürich\, Zürich\, 8005\, Switzerland
CATEGORIES:Festival,LiveBand,Party,Workshop
ATTACH;FMTTYPE=image/jpeg:https://swingdanceevents.ch/wp-content/uploads/2025/07/ec82784e-3cbb-4d05-a9d6-4d4d7b6d47ff.jpg
END:VEVENT
END:VCALENDAR