BEGIN:VCALENDAR
VERSION:2.0
PRODID:-//Swing Dance Events Switzerland - ECPv6.15.20//NONSGML v1.0//EN
CALSCALE:GREGORIAN
METHOD:PUBLISH
X-WR-CALNAME:Swing Dance Events Switzerland
X-ORIGINAL-URL:https://swingdanceevents.ch
X-WR-CALDESC:Veranstaltungen für Swing Dance Events Switzerland
REFRESH-INTERVAL;VALUE=DURATION:PT1H
X-Robots-Tag:noindex
X-PUBLISHED-TTL:PT1H
BEGIN:VTIMEZONE
TZID:Europe/Zurich
BEGIN:DAYLIGHT
TZOFFSETFROM:+0100
TZOFFSETTO:+0200
TZNAME:CEST
DTSTART:20250330T010000
END:DAYLIGHT
BEGIN:STANDARD
TZOFFSETFROM:+0200
TZOFFSETTO:+0100
TZNAME:CET
DTSTART:20251026T010000
END:STANDARD
BEGIN:DAYLIGHT
TZOFFSETFROM:+0100
TZOFFSETTO:+0200
TZNAME:CEST
DTSTART:20260329T010000
END:DAYLIGHT
BEGIN:STANDARD
TZOFFSETFROM:+0200
TZOFFSETTO:+0100
TZNAME:CET
DTSTART:20261025T010000
END:STANDARD
BEGIN:DAYLIGHT
TZOFFSETFROM:+0100
TZOFFSETTO:+0200
TZNAME:CEST
DTSTART:20270328T010000
END:DAYLIGHT
BEGIN:STANDARD
TZOFFSETFROM:+0200
TZOFFSETTO:+0100
TZNAME:CET
DTSTART:20271031T010000
END:STANDARD
END:VTIMEZONE
BEGIN:VEVENT
DTSTART;TZID=Europe/Zurich:20260716T200000
DTEND;TZID=Europe/Zurich:20260716T233000
DTSTAMP:20260421T082934
CREATED:20260419T182447Z
LAST-MODIFIED:20260419T182858Z
UID:10003345-1784232000-1784244600@swingdanceevents.ch
SUMMARY:Bürkli-Hop
DESCRIPTION:Don’t miss Zürich’s outdoor Socialdance for LindyHop & SoloJazz etc. more info & community: https://www.facebook.com/groups/buerklihop Free\, it’s a noncomercial szene-meeting run by szene members.
URL:https://swingdanceevents.ch/event/buerkli-hop/2026-07-16/
LOCATION:Bürkliplatz Musikpavillon\, Musikpavillon\, Tram Bürkliplatz\, Zürich\, ZH\, 8001\, Switzerland
CATEGORIES:DJ,Party,Socialdance
ATTACH;FMTTYPE=image/jpeg:https://swingdanceevents.ch/wp-content/uploads/2023/03/Season2023.jpg
ORGANIZER;CN="The B%C3%BCrkliHop Syndicat by Z%C3%BCrich's Lindy Szene":MAILTO:buerklihop@google.com
END:VEVENT
BEGIN:VEVENT
DTSTART;TZID=Europe/Zurich:20260721T190000
DTEND;TZID=Europe/Zurich:20260721T233000
DTSTAMP:20260421T082934
CREATED:20260402T103342Z
LAST-MODIFIED:20260402T103342Z
UID:10003003-1784660400-1784676600@swingdanceevents.ch
SUMMARY:El Boge Swing Social & Classes (beginners welcome)
DESCRIPTION:Der Dienstag El Boge Swing Social. \n\n20.15 – 23:30 Socialdance mit DJ (Fr.10.-\, 5.- für Teilnehmer Klasse)\nLindy Hop Klassen \n\n19:00 – 19:30 free Lindy CrashCourse\n19:30 – 20:15 Lindy 1 walk in class Fr.20.- (just walk in\, kein Partner notwendig).\nTeachers: Marco “Muetze” & Alina\, Julio\, Matej\, Eike\n\n\nSoloJazz / Jazzroots\n\non a break\n\n\n\nAlle Klassen benötigen keine Anmeldung. Kommt einfach vorbei auf den Klassenstart.
URL:https://swingdanceevents.ch/event/el-boge-swing-social-classes-beginners-welcome-6-2-2-3-3-3-2-2-4-3-4-2-5-4-2-2-2-2-2-2-2-5-2-3-2-2-2-2-2-3-4-13-7/2026-07-21/
LOCATION:El Social\, Viaduktstrasse 64\, Zürich\, ZH\, 8005\, Switzerland
CATEGORIES:Class,Crashcourse,DJ,Party,Socialdance
ATTACH;FMTTYPE=image/png:https://swingdanceevents.ch/wp-content/uploads/2025/10/FlyerBogen2025_Tuesday_standard.png
END:VEVENT
BEGIN:VEVENT
DTSTART;TZID=Europe/Zurich:20260723T200000
DTEND;TZID=Europe/Zurich:20260723T233000
DTSTAMP:20260421T082934
CREATED:20260419T182447Z
LAST-MODIFIED:20260419T182858Z
UID:10003346-1784836800-1784849400@swingdanceevents.ch
SUMMARY:Bürkli-Hop
DESCRIPTION:Don’t miss Zürich’s outdoor Socialdance for LindyHop & SoloJazz etc. more info & community: https://www.facebook.com/groups/buerklihop Free\, it’s a noncomercial szene-meeting run by szene members.
URL:https://swingdanceevents.ch/event/buerkli-hop/2026-07-23/
LOCATION:Bürkliplatz Musikpavillon\, Musikpavillon\, Tram Bürkliplatz\, Zürich\, ZH\, 8001\, Switzerland
CATEGORIES:DJ,Party,Socialdance
ATTACH;FMTTYPE=image/jpeg:https://swingdanceevents.ch/wp-content/uploads/2023/03/Season2023.jpg
ORGANIZER;CN="The B%C3%BCrkliHop Syndicat by Z%C3%BCrich's Lindy Szene":MAILTO:buerklihop@google.com
END:VEVENT
BEGIN:VEVENT
DTSTART;TZID=Europe/Zurich:20260728T190000
DTEND;TZID=Europe/Zurich:20260728T233000
DTSTAMP:20260421T082934
CREATED:20260402T103342Z
LAST-MODIFIED:20260402T103342Z
UID:10003004-1785265200-1785281400@swingdanceevents.ch
SUMMARY:El Boge Swing Social & Classes (beginners welcome)
DESCRIPTION:Der Dienstag El Boge Swing Social. \n\n20.15 – 23:30 Socialdance mit DJ (Fr.10.-\, 5.- für Teilnehmer Klasse)\nLindy Hop Klassen \n\n19:00 – 19:30 free Lindy CrashCourse\n19:30 – 20:15 Lindy 1 walk in class Fr.20.- (just walk in\, kein Partner notwendig).\nTeachers: Marco “Muetze” & Alina\, Julio\, Matej\, Eike\n\n\nSoloJazz / Jazzroots\n\non a break\n\n\n\nAlle Klassen benötigen keine Anmeldung. Kommt einfach vorbei auf den Klassenstart.
URL:https://swingdanceevents.ch/event/el-boge-swing-social-classes-beginners-welcome-6-2-2-3-3-3-2-2-4-3-4-2-5-4-2-2-2-2-2-2-2-5-2-3-2-2-2-2-2-3-4-13-7/2026-07-28/
LOCATION:El Social\, Viaduktstrasse 64\, Zürich\, ZH\, 8005\, Switzerland
CATEGORIES:Class,Crashcourse,DJ,Party,Socialdance
ATTACH;FMTTYPE=image/png:https://swingdanceevents.ch/wp-content/uploads/2025/10/FlyerBogen2025_Tuesday_standard.png
END:VEVENT
BEGIN:VEVENT
DTSTART;TZID=Europe/Zurich:20260730T200000
DTEND;TZID=Europe/Zurich:20260730T233000
DTSTAMP:20260421T082934
CREATED:20260419T182447Z
LAST-MODIFIED:20260419T182858Z
UID:10003347-1785441600-1785454200@swingdanceevents.ch
SUMMARY:Bürkli-Hop
DESCRIPTION:Don’t miss Zürich’s outdoor Socialdance for LindyHop & SoloJazz etc. more info & community: https://www.facebook.com/groups/buerklihop Free\, it’s a noncomercial szene-meeting run by szene members.
URL:https://swingdanceevents.ch/event/buerkli-hop/2026-07-30/
LOCATION:Bürkliplatz Musikpavillon\, Musikpavillon\, Tram Bürkliplatz\, Zürich\, ZH\, 8001\, Switzerland
CATEGORIES:DJ,Party,Socialdance
ATTACH;FMTTYPE=image/jpeg:https://swingdanceevents.ch/wp-content/uploads/2023/03/Season2023.jpg
ORGANIZER;CN="The B%C3%BCrkliHop Syndicat by Z%C3%BCrich's Lindy Szene":MAILTO:buerklihop@google.com
END:VEVENT
BEGIN:VEVENT
DTSTART;TZID=Europe/Zurich:20260802T150000
DTEND;TZID=Europe/Zurich:20260802T180000
DTSTAMP:20260421T082934
CREATED:20260419T181318Z
LAST-MODIFIED:20260419T181318Z
UID:10003258-1785682800-1785693600@swingdanceevents.ch
SUMMARY:Cream Tea
DESCRIPTION:Es gibt schöne Swingmusik von unseren grandiosen DJs\, Kuchen (von der Kutmühle)\, Kaffee\, Kaltgetränke und Platz zum Tanzen und Sitzen drinnen und draußen. Ein wunderschönes Sonntagnachmittag Programm. Kein Eintritt\, die Raummiete wird durch eure Spenden finanziert.
URL:https://swingdanceevents.ch/event/cream-tea/2026-08-02/
LOCATION:Madame Moustache\, Obere Laube 55\, Konstanz
CATEGORIES:DJ,Socialdance
ATTACH;FMTTYPE=image/jpeg:https://swingdanceevents.ch/wp-content/uploads/2026/04/CreamTea.jpeg
END:VEVENT
BEGIN:VEVENT
DTSTART;TZID=Europe/Zurich:20260804T190000
DTEND;TZID=Europe/Zurich:20260804T233000
DTSTAMP:20260421T082934
CREATED:20260402T103342Z
LAST-MODIFIED:20260402T103342Z
UID:10003005-1785870000-1785886200@swingdanceevents.ch
SUMMARY:El Boge Swing Social & Classes (beginners welcome)
DESCRIPTION:Der Dienstag El Boge Swing Social. \n\n20.15 – 23:30 Socialdance mit DJ (Fr.10.-\, 5.- für Teilnehmer Klasse)\nLindy Hop Klassen \n\n19:00 – 19:30 free Lindy CrashCourse\n19:30 – 20:15 Lindy 1 walk in class Fr.20.- (just walk in\, kein Partner notwendig).\nTeachers: Marco “Muetze” & Alina\, Julio\, Matej\, Eike\n\n\nSoloJazz / Jazzroots\n\non a break\n\n\n\nAlle Klassen benötigen keine Anmeldung. Kommt einfach vorbei auf den Klassenstart.
URL:https://swingdanceevents.ch/event/el-boge-swing-social-classes-beginners-welcome-6-2-2-3-3-3-2-2-4-3-4-2-5-4-2-2-2-2-2-2-2-5-2-3-2-2-2-2-2-3-4-13-7/2026-08-04/
LOCATION:El Social\, Viaduktstrasse 64\, Zürich\, ZH\, 8005\, Switzerland
CATEGORIES:Class,Crashcourse,DJ,Party,Socialdance
ATTACH;FMTTYPE=image/png:https://swingdanceevents.ch/wp-content/uploads/2025/10/FlyerBogen2025_Tuesday_standard.png
END:VEVENT
BEGIN:VEVENT
DTSTART;TZID=Europe/Zurich:20260806T200000
DTEND;TZID=Europe/Zurich:20260806T233000
DTSTAMP:20260421T082934
CREATED:20260419T182447Z
LAST-MODIFIED:20260419T182858Z
UID:10003348-1786046400-1786059000@swingdanceevents.ch
SUMMARY:Bürkli-Hop
DESCRIPTION:Don’t miss Zürich’s outdoor Socialdance for LindyHop & SoloJazz etc. more info & community: https://www.facebook.com/groups/buerklihop Free\, it’s a noncomercial szene-meeting run by szene members.
URL:https://swingdanceevents.ch/event/buerkli-hop/2026-08-06/
LOCATION:Bürkliplatz Musikpavillon\, Musikpavillon\, Tram Bürkliplatz\, Zürich\, ZH\, 8001\, Switzerland
CATEGORIES:DJ,Party,Socialdance
ATTACH;FMTTYPE=image/jpeg:https://swingdanceevents.ch/wp-content/uploads/2023/03/Season2023.jpg
ORGANIZER;CN="The B%C3%BCrkliHop Syndicat by Z%C3%BCrich's Lindy Szene":MAILTO:buerklihop@google.com
END:VEVENT
BEGIN:VEVENT
DTSTART;TZID=Europe/Zurich:20260811T190000
DTEND;TZID=Europe/Zurich:20260811T233000
DTSTAMP:20260421T082934
CREATED:20260402T103342Z
LAST-MODIFIED:20260402T103342Z
UID:10003006-1786474800-1786491000@swingdanceevents.ch
SUMMARY:El Boge Swing Social & Classes (beginners welcome)
DESCRIPTION:Der Dienstag El Boge Swing Social. \n\n20.15 – 23:30 Socialdance mit DJ (Fr.10.-\, 5.- für Teilnehmer Klasse)\nLindy Hop Klassen \n\n19:00 – 19:30 free Lindy CrashCourse\n19:30 – 20:15 Lindy 1 walk in class Fr.20.- (just walk in\, kein Partner notwendig).\nTeachers: Marco “Muetze” & Alina\, Julio\, Matej\, Eike\n\n\nSoloJazz / Jazzroots\n\non a break\n\n\n\nAlle Klassen benötigen keine Anmeldung. Kommt einfach vorbei auf den Klassenstart.
URL:https://swingdanceevents.ch/event/el-boge-swing-social-classes-beginners-welcome-6-2-2-3-3-3-2-2-4-3-4-2-5-4-2-2-2-2-2-2-2-5-2-3-2-2-2-2-2-3-4-13-7/2026-08-11/
LOCATION:El Social\, Viaduktstrasse 64\, Zürich\, ZH\, 8005\, Switzerland
CATEGORIES:Class,Crashcourse,DJ,Party,Socialdance
ATTACH;FMTTYPE=image/png:https://swingdanceevents.ch/wp-content/uploads/2025/10/FlyerBogen2025_Tuesday_standard.png
END:VEVENT
BEGIN:VEVENT
DTSTART;TZID=Europe/Zurich:20260813T200000
DTEND;TZID=Europe/Zurich:20260813T233000
DTSTAMP:20260421T082934
CREATED:20260419T182447Z
LAST-MODIFIED:20260419T182858Z
UID:10003349-1786651200-1786663800@swingdanceevents.ch
SUMMARY:Bürkli-Hop
DESCRIPTION:Don’t miss Zürich’s outdoor Socialdance for LindyHop & SoloJazz etc. more info & community: https://www.facebook.com/groups/buerklihop Free\, it’s a noncomercial szene-meeting run by szene members.
URL:https://swingdanceevents.ch/event/buerkli-hop/2026-08-13/
LOCATION:Bürkliplatz Musikpavillon\, Musikpavillon\, Tram Bürkliplatz\, Zürich\, ZH\, 8001\, Switzerland
CATEGORIES:DJ,Party,Socialdance
ATTACH;FMTTYPE=image/jpeg:https://swingdanceevents.ch/wp-content/uploads/2023/03/Season2023.jpg
ORGANIZER;CN="The B%C3%BCrkliHop Syndicat by Z%C3%BCrich's Lindy Szene":MAILTO:buerklihop@google.com
END:VEVENT
BEGIN:VEVENT
DTSTART;TZID=Europe/Zurich:20260818T190000
DTEND;TZID=Europe/Zurich:20260818T233000
DTSTAMP:20260421T082934
CREATED:20260402T103342Z
LAST-MODIFIED:20260402T103342Z
UID:10003007-1787079600-1787095800@swingdanceevents.ch
SUMMARY:El Boge Swing Social & Classes (beginners welcome)
DESCRIPTION:Der Dienstag El Boge Swing Social. \n\n20.15 – 23:30 Socialdance mit DJ (Fr.10.-\, 5.- für Teilnehmer Klasse)\nLindy Hop Klassen \n\n19:00 – 19:30 free Lindy CrashCourse\n19:30 – 20:15 Lindy 1 walk in class Fr.20.- (just walk in\, kein Partner notwendig).\nTeachers: Marco “Muetze” & Alina\, Julio\, Matej\, Eike\n\n\nSoloJazz / Jazzroots\n\non a break\n\n\n\nAlle Klassen benötigen keine Anmeldung. Kommt einfach vorbei auf den Klassenstart.
URL:https://swingdanceevents.ch/event/el-boge-swing-social-classes-beginners-welcome-6-2-2-3-3-3-2-2-4-3-4-2-5-4-2-2-2-2-2-2-2-5-2-3-2-2-2-2-2-3-4-13-7/2026-08-18/
LOCATION:El Social\, Viaduktstrasse 64\, Zürich\, ZH\, 8005\, Switzerland
CATEGORIES:Class,Crashcourse,DJ,Party,Socialdance
ATTACH;FMTTYPE=image/png:https://swingdanceevents.ch/wp-content/uploads/2025/10/FlyerBogen2025_Tuesday_standard.png
END:VEVENT
BEGIN:VEVENT
DTSTART;TZID=Europe/Zurich:20260820T200000
DTEND;TZID=Europe/Zurich:20260820T233000
DTSTAMP:20260421T082934
CREATED:20260419T182447Z
LAST-MODIFIED:20260419T182858Z
UID:10003350-1787256000-1787268600@swingdanceevents.ch
SUMMARY:Bürkli-Hop
DESCRIPTION:Don’t miss Zürich’s outdoor Socialdance for LindyHop & SoloJazz etc. more info & community: https://www.facebook.com/groups/buerklihop Free\, it’s a noncomercial szene-meeting run by szene members.
URL:https://swingdanceevents.ch/event/buerkli-hop/2026-08-20/
LOCATION:Bürkliplatz Musikpavillon\, Musikpavillon\, Tram Bürkliplatz\, Zürich\, ZH\, 8001\, Switzerland
CATEGORIES:DJ,Party,Socialdance
ATTACH;FMTTYPE=image/jpeg:https://swingdanceevents.ch/wp-content/uploads/2023/03/Season2023.jpg
ORGANIZER;CN="The B%C3%BCrkliHop Syndicat by Z%C3%BCrich's Lindy Szene":MAILTO:buerklihop@google.com
END:VEVENT
BEGIN:VEVENT
DTSTART;TZID=Europe/Zurich:20260821T193000
DTEND;TZID=Europe/Zurich:20260821T220000
DTSTAMP:20260421T082934
CREATED:20240424T114945Z
LAST-MODIFIED:20260208T102358Z
UID:10003129-1787340600-1787349600@swingdanceevents.ch
SUMMARY:Kieselsteinswing
DESCRIPTION:Kieselsteinswing auf dem Helvetiaplatz in Luzern mit Swing-DJ (bei\nSchlechtwetter ab 20.30 Uhr im Sousol\, Baselstrasse).
URL:https://swingdanceevents.ch/event/kieselsteinswing/2026-08-21/
LOCATION:Helvetiaplatz Luzern\, Waldstätterstrasse 9\, Luzern\, Luzern\, 6005\, Switzerland
CATEGORIES:DJ,Party,Socialdance
ATTACH;FMTTYPE=image/jpeg:https://swingdanceevents.ch/wp-content/uploads/2024/04/Bild_Kieselstein-scaled.jpg
ORGANIZER;CN="Footwork":MAILTO:info@footwork.ch
END:VEVENT
BEGIN:VEVENT
DTSTART;TZID=Europe/Zurich:20260825T190000
DTEND;TZID=Europe/Zurich:20260825T233000
DTSTAMP:20260421T082934
CREATED:20260402T103342Z
LAST-MODIFIED:20260402T103342Z
UID:10003008-1787684400-1787700600@swingdanceevents.ch
SUMMARY:El Boge Swing Social & Classes (beginners welcome)
DESCRIPTION:Der Dienstag El Boge Swing Social. \n\n20.15 – 23:30 Socialdance mit DJ (Fr.10.-\, 5.- für Teilnehmer Klasse)\nLindy Hop Klassen \n\n19:00 – 19:30 free Lindy CrashCourse\n19:30 – 20:15 Lindy 1 walk in class Fr.20.- (just walk in\, kein Partner notwendig).\nTeachers: Marco “Muetze” & Alina\, Julio\, Matej\, Eike\n\n\nSoloJazz / Jazzroots\n\non a break\n\n\n\nAlle Klassen benötigen keine Anmeldung. Kommt einfach vorbei auf den Klassenstart.
URL:https://swingdanceevents.ch/event/el-boge-swing-social-classes-beginners-welcome-6-2-2-3-3-3-2-2-4-3-4-2-5-4-2-2-2-2-2-2-2-5-2-3-2-2-2-2-2-3-4-13-7/2026-08-25/
LOCATION:El Social\, Viaduktstrasse 64\, Zürich\, ZH\, 8005\, Switzerland
CATEGORIES:Class,Crashcourse,DJ,Party,Socialdance
ATTACH;FMTTYPE=image/png:https://swingdanceevents.ch/wp-content/uploads/2025/10/FlyerBogen2025_Tuesday_standard.png
END:VEVENT
BEGIN:VEVENT
DTSTART;TZID=Europe/Zurich:20260827T200000
DTEND;TZID=Europe/Zurich:20260827T233000
DTSTAMP:20260421T082934
CREATED:20260419T182447Z
LAST-MODIFIED:20260419T182858Z
UID:10003351-1787860800-1787873400@swingdanceevents.ch
SUMMARY:Bürkli-Hop
DESCRIPTION:Don’t miss Zürich’s outdoor Socialdance for LindyHop & SoloJazz etc. more info & community: https://www.facebook.com/groups/buerklihop Free\, it’s a noncomercial szene-meeting run by szene members.
URL:https://swingdanceevents.ch/event/buerkli-hop/2026-08-27/
LOCATION:Bürkliplatz Musikpavillon\, Musikpavillon\, Tram Bürkliplatz\, Zürich\, ZH\, 8001\, Switzerland
CATEGORIES:DJ,Party,Socialdance
ATTACH;FMTTYPE=image/jpeg:https://swingdanceevents.ch/wp-content/uploads/2023/03/Season2023.jpg
ORGANIZER;CN="The B%C3%BCrkliHop Syndicat by Z%C3%BCrich's Lindy Szene":MAILTO:buerklihop@google.com
END:VEVENT
BEGIN:VEVENT
DTSTART;TZID=Europe/Zurich:20260901T190000
DTEND;TZID=Europe/Zurich:20260901T233000
DTSTAMP:20260421T082934
CREATED:20260402T103342Z
LAST-MODIFIED:20260402T103342Z
UID:10003009-1788289200-1788305400@swingdanceevents.ch
SUMMARY:El Boge Swing Social & Classes (beginners welcome)
DESCRIPTION:Der Dienstag El Boge Swing Social. \n\n20.15 – 23:30 Socialdance mit DJ (Fr.10.-\, 5.- für Teilnehmer Klasse)\nLindy Hop Klassen \n\n19:00 – 19:30 free Lindy CrashCourse\n19:30 – 20:15 Lindy 1 walk in class Fr.20.- (just walk in\, kein Partner notwendig).\nTeachers: Marco “Muetze” & Alina\, Julio\, Matej\, Eike\n\n\nSoloJazz / Jazzroots\n\non a break\n\n\n\nAlle Klassen benötigen keine Anmeldung. Kommt einfach vorbei auf den Klassenstart.
URL:https://swingdanceevents.ch/event/el-boge-swing-social-classes-beginners-welcome-6-2-2-3-3-3-2-2-4-3-4-2-5-4-2-2-2-2-2-2-2-5-2-3-2-2-2-2-2-3-4-13-7/2026-09-01/
LOCATION:El Social\, Viaduktstrasse 64\, Zürich\, ZH\, 8005\, Switzerland
CATEGORIES:Class,Crashcourse,DJ,Party,Socialdance
ATTACH;FMTTYPE=image/png:https://swingdanceevents.ch/wp-content/uploads/2025/10/FlyerBogen2025_Tuesday_standard.png
END:VEVENT
BEGIN:VEVENT
DTSTART;TZID=Europe/Zurich:20260903T200000
DTEND;TZID=Europe/Zurich:20260903T233000
DTSTAMP:20260421T082934
CREATED:20260419T182447Z
LAST-MODIFIED:20260419T182858Z
UID:10003352-1788465600-1788478200@swingdanceevents.ch
SUMMARY:Bürkli-Hop
DESCRIPTION:Don’t miss Zürich’s outdoor Socialdance for LindyHop & SoloJazz etc. more info & community: https://www.facebook.com/groups/buerklihop Free\, it’s a noncomercial szene-meeting run by szene members.
URL:https://swingdanceevents.ch/event/buerkli-hop/2026-09-03/
LOCATION:Bürkliplatz Musikpavillon\, Musikpavillon\, Tram Bürkliplatz\, Zürich\, ZH\, 8001\, Switzerland
CATEGORIES:DJ,Party,Socialdance
ATTACH;FMTTYPE=image/jpeg:https://swingdanceevents.ch/wp-content/uploads/2023/03/Season2023.jpg
ORGANIZER;CN="The B%C3%BCrkliHop Syndicat by Z%C3%BCrich's Lindy Szene":MAILTO:buerklihop@google.com
END:VEVENT
BEGIN:VEVENT
DTSTART;TZID=Europe/Zurich:20260904T193000
DTEND;TZID=Europe/Zurich:20260904T220000
DTSTAMP:20260421T082934
CREATED:20240424T114945Z
LAST-MODIFIED:20260208T102358Z
UID:10003130-1788550200-1788559200@swingdanceevents.ch
SUMMARY:Kieselsteinswing
DESCRIPTION:Kieselsteinswing auf dem Helvetiaplatz in Luzern mit Swing-DJ (bei\nSchlechtwetter ab 20.30 Uhr im Sousol\, Baselstrasse).
URL:https://swingdanceevents.ch/event/kieselsteinswing/2026-09-04/
LOCATION:Helvetiaplatz Luzern\, Waldstätterstrasse 9\, Luzern\, Luzern\, 6005\, Switzerland
CATEGORIES:DJ,Party,Socialdance
ATTACH;FMTTYPE=image/jpeg:https://swingdanceevents.ch/wp-content/uploads/2024/04/Bild_Kieselstein-scaled.jpg
ORGANIZER;CN="Footwork":MAILTO:info@footwork.ch
END:VEVENT
BEGIN:VEVENT
DTSTART;TZID=Europe/Zurich:20260906T150000
DTEND;TZID=Europe/Zurich:20260906T180000
DTSTAMP:20260421T082934
CREATED:20260419T181318Z
LAST-MODIFIED:20260419T181318Z
UID:10003259-1788706800-1788717600@swingdanceevents.ch
SUMMARY:Cream Tea
DESCRIPTION:Es gibt schöne Swingmusik von unseren grandiosen DJs\, Kuchen (von der Kutmühle)\, Kaffee\, Kaltgetränke und Platz zum Tanzen und Sitzen drinnen und draußen. Ein wunderschönes Sonntagnachmittag Programm. Kein Eintritt\, die Raummiete wird durch eure Spenden finanziert.
URL:https://swingdanceevents.ch/event/cream-tea/2026-09-06/
LOCATION:Madame Moustache\, Obere Laube 55\, Konstanz
CATEGORIES:DJ,Socialdance
ATTACH;FMTTYPE=image/jpeg:https://swingdanceevents.ch/wp-content/uploads/2026/04/CreamTea.jpeg
END:VEVENT
BEGIN:VEVENT
DTSTART;TZID=Europe/Zurich:20260907T200000
DTEND;TZID=Europe/Zurich:20260907T220000
DTSTAMP:20260421T082934
CREATED:20260412T201700Z
LAST-MODIFIED:20260412T201700Z
UID:10003181-1788811200-1788818400@swingdanceevents.ch
SUMMARY:Montags-Social
DESCRIPTION:Wir tanzen im neuen Vereinsheim (Kulturetage). Im Sommer auch mal draußen in der Konzertmuschel. \nKein Eintritt\, das Event wird durch eure Spenden finanziert.
URL:https://swingdanceevents.ch/event/montags-social/2026-09-07/
LOCATION:Konzertmuschel\, Stadtgarten\, Konstanz
CATEGORIES:DJ,Socialdance
ATTACH;FMTTYPE=image/png:https://swingdanceevents.ch/wp-content/uploads/2026/04/cropped-Logo-rund-blau-1024x964-1-768x723-3.png
END:VEVENT
BEGIN:VEVENT
DTSTART;TZID=Europe/Zurich:20260908T190000
DTEND;TZID=Europe/Zurich:20260908T233000
DTSTAMP:20260421T082935
CREATED:20260402T103342Z
LAST-MODIFIED:20260402T103342Z
UID:10003010-1788894000-1788910200@swingdanceevents.ch
SUMMARY:El Boge Swing Social & Classes (beginners welcome)
DESCRIPTION:Der Dienstag El Boge Swing Social. \n\n20.15 – 23:30 Socialdance mit DJ (Fr.10.-\, 5.- für Teilnehmer Klasse)\nLindy Hop Klassen \n\n19:00 – 19:30 free Lindy CrashCourse\n19:30 – 20:15 Lindy 1 walk in class Fr.20.- (just walk in\, kein Partner notwendig).\nTeachers: Marco “Muetze” & Alina\, Julio\, Matej\, Eike\n\n\nSoloJazz / Jazzroots\n\non a break\n\n\n\nAlle Klassen benötigen keine Anmeldung. Kommt einfach vorbei auf den Klassenstart.
URL:https://swingdanceevents.ch/event/el-boge-swing-social-classes-beginners-welcome-6-2-2-3-3-3-2-2-4-3-4-2-5-4-2-2-2-2-2-2-2-5-2-3-2-2-2-2-2-3-4-13-7/2026-09-08/
LOCATION:El Social\, Viaduktstrasse 64\, Zürich\, ZH\, 8005\, Switzerland
CATEGORIES:Class,Crashcourse,DJ,Party,Socialdance
ATTACH;FMTTYPE=image/png:https://swingdanceevents.ch/wp-content/uploads/2025/10/FlyerBogen2025_Tuesday_standard.png
END:VEVENT
BEGIN:VEVENT
DTSTART;TZID=Europe/Zurich:20260910T200000
DTEND;TZID=Europe/Zurich:20260910T233000
DTSTAMP:20260421T082935
CREATED:20260419T182447Z
LAST-MODIFIED:20260419T182858Z
UID:10003353-1789070400-1789083000@swingdanceevents.ch
SUMMARY:Bürkli-Hop
DESCRIPTION:Don’t miss Zürich’s outdoor Socialdance for LindyHop & SoloJazz etc. more info & community: https://www.facebook.com/groups/buerklihop Free\, it’s a noncomercial szene-meeting run by szene members.
URL:https://swingdanceevents.ch/event/buerkli-hop/2026-09-10/
LOCATION:Bürkliplatz Musikpavillon\, Musikpavillon\, Tram Bürkliplatz\, Zürich\, ZH\, 8001\, Switzerland
CATEGORIES:DJ,Party,Socialdance
ATTACH;FMTTYPE=image/jpeg:https://swingdanceevents.ch/wp-content/uploads/2023/03/Season2023.jpg
ORGANIZER;CN="The B%C3%BCrkliHop Syndicat by Z%C3%BCrich's Lindy Szene":MAILTO:buerklihop@google.com
END:VEVENT
BEGIN:VEVENT
DTSTART;TZID=Europe/Zurich:20260914T200000
DTEND;TZID=Europe/Zurich:20260914T220000
DTSTAMP:20260421T082935
CREATED:20260412T201700Z
LAST-MODIFIED:20260412T201700Z
UID:10003182-1789416000-1789423200@swingdanceevents.ch
SUMMARY:Montags-Social
DESCRIPTION:Wir tanzen im neuen Vereinsheim (Kulturetage). Im Sommer auch mal draußen in der Konzertmuschel. \nKein Eintritt\, das Event wird durch eure Spenden finanziert.
URL:https://swingdanceevents.ch/event/montags-social/2026-09-14/
LOCATION:Konzertmuschel\, Stadtgarten\, Konstanz
CATEGORIES:DJ,Socialdance
ATTACH;FMTTYPE=image/png:https://swingdanceevents.ch/wp-content/uploads/2026/04/cropped-Logo-rund-blau-1024x964-1-768x723-3.png
END:VEVENT
BEGIN:VEVENT
DTSTART;TZID=Europe/Zurich:20260915T190000
DTEND;TZID=Europe/Zurich:20260915T233000
DTSTAMP:20260421T082935
CREATED:20260402T103342Z
LAST-MODIFIED:20260402T103342Z
UID:10003011-1789498800-1789515000@swingdanceevents.ch
SUMMARY:El Boge Swing Social & Classes (beginners welcome)
DESCRIPTION:Der Dienstag El Boge Swing Social. \n\n20.15 – 23:30 Socialdance mit DJ (Fr.10.-\, 5.- für Teilnehmer Klasse)\nLindy Hop Klassen \n\n19:00 – 19:30 free Lindy CrashCourse\n19:30 – 20:15 Lindy 1 walk in class Fr.20.- (just walk in\, kein Partner notwendig).\nTeachers: Marco “Muetze” & Alina\, Julio\, Matej\, Eike\n\n\nSoloJazz / Jazzroots\n\non a break\n\n\n\nAlle Klassen benötigen keine Anmeldung. Kommt einfach vorbei auf den Klassenstart.
URL:https://swingdanceevents.ch/event/el-boge-swing-social-classes-beginners-welcome-6-2-2-3-3-3-2-2-4-3-4-2-5-4-2-2-2-2-2-2-2-5-2-3-2-2-2-2-2-3-4-13-7/2026-09-15/
LOCATION:El Social\, Viaduktstrasse 64\, Zürich\, ZH\, 8005\, Switzerland
CATEGORIES:Class,Crashcourse,DJ,Party,Socialdance
ATTACH;FMTTYPE=image/png:https://swingdanceevents.ch/wp-content/uploads/2025/10/FlyerBogen2025_Tuesday_standard.png
END:VEVENT
BEGIN:VEVENT
DTSTART;TZID=Europe/Zurich:20260917T200000
DTEND;TZID=Europe/Zurich:20260917T233000
DTSTAMP:20260421T082935
CREATED:20260419T182447Z
LAST-MODIFIED:20260419T182858Z
UID:10003354-1789675200-1789687800@swingdanceevents.ch
SUMMARY:Bürkli-Hop
DESCRIPTION:Don’t miss Zürich’s outdoor Socialdance for LindyHop & SoloJazz etc. more info & community: https://www.facebook.com/groups/buerklihop Free\, it’s a noncomercial szene-meeting run by szene members.
URL:https://swingdanceevents.ch/event/buerkli-hop/2026-09-17/
LOCATION:Bürkliplatz Musikpavillon\, Musikpavillon\, Tram Bürkliplatz\, Zürich\, ZH\, 8001\, Switzerland
CATEGORIES:DJ,Party,Socialdance
ATTACH;FMTTYPE=image/jpeg:https://swingdanceevents.ch/wp-content/uploads/2023/03/Season2023.jpg
ORGANIZER;CN="The B%C3%BCrkliHop Syndicat by Z%C3%BCrich's Lindy Szene":MAILTO:buerklihop@google.com
END:VEVENT
BEGIN:VEVENT
DTSTART;TZID=Europe/Zurich:20260921T200000
DTEND;TZID=Europe/Zurich:20260921T220000
DTSTAMP:20260421T082935
CREATED:20260412T201700Z
LAST-MODIFIED:20260412T201700Z
UID:10003183-1790020800-1790028000@swingdanceevents.ch
SUMMARY:Montags-Social
DESCRIPTION:Wir tanzen im neuen Vereinsheim (Kulturetage). Im Sommer auch mal draußen in der Konzertmuschel. \nKein Eintritt\, das Event wird durch eure Spenden finanziert.
URL:https://swingdanceevents.ch/event/montags-social/2026-09-21/
LOCATION:Konzertmuschel\, Stadtgarten\, Konstanz
CATEGORIES:DJ,Socialdance
ATTACH;FMTTYPE=image/png:https://swingdanceevents.ch/wp-content/uploads/2026/04/cropped-Logo-rund-blau-1024x964-1-768x723-3.png
END:VEVENT
BEGIN:VEVENT
DTSTART;TZID=Europe/Zurich:20260922T190000
DTEND;TZID=Europe/Zurich:20260922T233000
DTSTAMP:20260421T082935
CREATED:20260402T103342Z
LAST-MODIFIED:20260402T103342Z
UID:10003012-1790103600-1790119800@swingdanceevents.ch
SUMMARY:El Boge Swing Social & Classes (beginners welcome)
DESCRIPTION:Der Dienstag El Boge Swing Social. \n\n20.15 – 23:30 Socialdance mit DJ (Fr.10.-\, 5.- für Teilnehmer Klasse)\nLindy Hop Klassen \n\n19:00 – 19:30 free Lindy CrashCourse\n19:30 – 20:15 Lindy 1 walk in class Fr.20.- (just walk in\, kein Partner notwendig).\nTeachers: Marco “Muetze” & Alina\, Julio\, Matej\, Eike\n\n\nSoloJazz / Jazzroots\n\non a break\n\n\n\nAlle Klassen benötigen keine Anmeldung. Kommt einfach vorbei auf den Klassenstart.
URL:https://swingdanceevents.ch/event/el-boge-swing-social-classes-beginners-welcome-6-2-2-3-3-3-2-2-4-3-4-2-5-4-2-2-2-2-2-2-2-5-2-3-2-2-2-2-2-3-4-13-7/2026-09-22/
LOCATION:El Social\, Viaduktstrasse 64\, Zürich\, ZH\, 8005\, Switzerland
CATEGORIES:Class,Crashcourse,DJ,Party,Socialdance
ATTACH;FMTTYPE=image/png:https://swingdanceevents.ch/wp-content/uploads/2025/10/FlyerBogen2025_Tuesday_standard.png
END:VEVENT
BEGIN:VEVENT
DTSTART;TZID=Europe/Zurich:20260924T200000
DTEND;TZID=Europe/Zurich:20260924T233000
DTSTAMP:20260421T082935
CREATED:20260419T182447Z
LAST-MODIFIED:20260419T182858Z
UID:10003355-1790280000-1790292600@swingdanceevents.ch
SUMMARY:Bürkli-Hop
DESCRIPTION:Don’t miss Zürich’s outdoor Socialdance for LindyHop & SoloJazz etc. more info & community: https://www.facebook.com/groups/buerklihop Free\, it’s a noncomercial szene-meeting run by szene members.
URL:https://swingdanceevents.ch/event/buerkli-hop/2026-09-24/
LOCATION:Bürkliplatz Musikpavillon\, Musikpavillon\, Tram Bürkliplatz\, Zürich\, ZH\, 8001\, Switzerland
CATEGORIES:DJ,Party,Socialdance
ATTACH;FMTTYPE=image/jpeg:https://swingdanceevents.ch/wp-content/uploads/2023/03/Season2023.jpg
ORGANIZER;CN="The B%C3%BCrkliHop Syndicat by Z%C3%BCrich's Lindy Szene":MAILTO:buerklihop@google.com
END:VEVENT
BEGIN:VEVENT
DTSTART;TZID=Europe/Zurich:20260928T200000
DTEND;TZID=Europe/Zurich:20260928T220000
DTSTAMP:20260421T082935
CREATED:20260412T201700Z
LAST-MODIFIED:20260412T201700Z
UID:10003184-1790625600-1790632800@swingdanceevents.ch
SUMMARY:Montags-Social
DESCRIPTION:Wir tanzen im neuen Vereinsheim (Kulturetage). Im Sommer auch mal draußen in der Konzertmuschel. \nKein Eintritt\, das Event wird durch eure Spenden finanziert.
URL:https://swingdanceevents.ch/event/montags-social/2026-09-28/
LOCATION:Konzertmuschel\, Stadtgarten\, Konstanz
CATEGORIES:DJ,Socialdance
ATTACH;FMTTYPE=image/png:https://swingdanceevents.ch/wp-content/uploads/2026/04/cropped-Logo-rund-blau-1024x964-1-768x723-3.png
END:VEVENT
BEGIN:VEVENT
DTSTART;TZID=Europe/Zurich:20260929T190000
DTEND;TZID=Europe/Zurich:20260929T233000
DTSTAMP:20260421T082935
CREATED:20260402T103342Z
LAST-MODIFIED:20260402T103342Z
UID:10003013-1790708400-1790724600@swingdanceevents.ch
SUMMARY:El Boge Swing Social & Classes (beginners welcome)
DESCRIPTION:Der Dienstag El Boge Swing Social. \n\n20.15 – 23:30 Socialdance mit DJ (Fr.10.-\, 5.- für Teilnehmer Klasse)\nLindy Hop Klassen \n\n19:00 – 19:30 free Lindy CrashCourse\n19:30 – 20:15 Lindy 1 walk in class Fr.20.- (just walk in\, kein Partner notwendig).\nTeachers: Marco “Muetze” & Alina\, Julio\, Matej\, Eike\n\n\nSoloJazz / Jazzroots\n\non a break\n\n\n\nAlle Klassen benötigen keine Anmeldung. Kommt einfach vorbei auf den Klassenstart.
URL:https://swingdanceevents.ch/event/el-boge-swing-social-classes-beginners-welcome-6-2-2-3-3-3-2-2-4-3-4-2-5-4-2-2-2-2-2-2-2-5-2-3-2-2-2-2-2-3-4-13-7/2026-09-29/
LOCATION:El Social\, Viaduktstrasse 64\, Zürich\, ZH\, 8005\, Switzerland
CATEGORIES:Class,Crashcourse,DJ,Party,Socialdance
ATTACH;FMTTYPE=image/png:https://swingdanceevents.ch/wp-content/uploads/2025/10/FlyerBogen2025_Tuesday_standard.png
END:VEVENT
END:VCALENDAR