BEGIN:VCALENDAR
VERSION:2.0
PRODID:-//Swing Dance Events Switzerland - ECPv6.15.20//NONSGML v1.0//EN
CALSCALE:GREGORIAN
METHOD:PUBLISH
X-ORIGINAL-URL:https://swingdanceevents.ch
X-WR-CALDESC:Veranstaltungen für Swing Dance Events Switzerland
REFRESH-INTERVAL;VALUE=DURATION:PT1H
X-Robots-Tag:noindex
X-PUBLISHED-TTL:PT1H
BEGIN:VTIMEZONE
TZID:Europe/Zurich
BEGIN:DAYLIGHT
TZOFFSETFROM:+0100
TZOFFSETTO:+0200
TZNAME:CEST
DTSTART:20250330T010000
END:DAYLIGHT
BEGIN:STANDARD
TZOFFSETFROM:+0200
TZOFFSETTO:+0100
TZNAME:CET
DTSTART:20251026T010000
END:STANDARD
BEGIN:DAYLIGHT
TZOFFSETFROM:+0100
TZOFFSETTO:+0200
TZNAME:CEST
DTSTART:20260329T010000
END:DAYLIGHT
BEGIN:STANDARD
TZOFFSETFROM:+0200
TZOFFSETTO:+0100
TZNAME:CET
DTSTART:20261025T010000
END:STANDARD
BEGIN:DAYLIGHT
TZOFFSETFROM:+0100
TZOFFSETTO:+0200
TZNAME:CEST
DTSTART:20270328T010000
END:DAYLIGHT
BEGIN:STANDARD
TZOFFSETFROM:+0200
TZOFFSETTO:+0100
TZNAME:CET
DTSTART:20271031T010000
END:STANDARD
END:VTIMEZONE
BEGIN:VEVENT
DTSTART;TZID=Europe/Zurich:20260120T190000
DTEND;TZID=Europe/Zurich:20260120T233000
DTSTAMP:20260421T230934
CREATED:20260113T055435Z
LAST-MODIFIED:20260120T143217Z
UID:10002977-1768935600-1768951800@swingdanceevents.ch
SUMMARY:El Boge Swing Live THE MONDAY SWING Social & Classes (beginners welcome)
DESCRIPTION:Der Dienstag El Boge Swing Social. Diese Woche mit Live Band! \nTHE MONDAY SWING feat Bastian at the trumpet will swinging the floor. Band Breaks get filled by DJ Muetze. \nNeal Sugarman on tenor saxophone\, Fulvio Granata on piano\, Michel Münch on bass and vocals\, Ueli Spoerri on drums\, Bastian at the Trumpet. \n\n20.15 – 23:30 Socialdance mit DJ (Fr.25.-\, 20.- für Legi & Teilnehmer Klasse)\nLindy Hop Klassen \n\n19:00 – 19:30 free Lindy CrashCourse\n19:30 – 20:15 Lindy 1 walk in class mit Eike Fr.20.- (just walk in\, kein Partner notwendig).\n\n\nSoloJazz / Jazzroots\n\non break\n\n\n\nAlle Klassen benötigen keine Anmeldung. Kommt einfach vorbei auf den Klassenstart.
URL:https://swingdanceevents.ch/event/el-boge-swing-social-classes-beginners-welcome-6-2-2-3-3-3-2-2-4-3-4-2-5-4-2-2-2-2-2-2-2-5-2-3-2-2-2-2-2-3-4-10/
LOCATION:El Social\, Viaduktstrasse 64\, Zürich\, ZH\, 8005\, Switzerland
CATEGORIES:Class,Crashcourse,DJ,LiveBand,Party,Socialdance
ATTACH;FMTTYPE=image/png:https://swingdanceevents.ch/wp-content/uploads/2025/11/FlyerBogen2025_Tuesday_20260120.png
END:VEVENT
BEGIN:VEVENT
DTSTART;TZID=Europe/Zurich:20260121T201500
DTEND;TZID=Europe/Zurich:20260121T233000
DTSTAMP:20260421T230934
CREATED:20250706T163345Z
LAST-MODIFIED:20251125T153125Z
UID:10002706-1769026500-1769038200@swingdanceevents.ch
SUMMARY:Swing Cocktail
DESCRIPTION:Deine wöchentliche Portion Tanzglück \nAm Swing Cocktail verwöhnen wir Dich mit der besten Swing-Musik unserer grossartigen DJs\, laden regelmässig fabelhafte Bands ein und tanzen\, was das Zeug hält. Komm und swing mit uns\, probier neugelernte Moves aus\, plaudere mit Deinen Freund:innen und geniess die entspannte Atmosphäre – jeden Mittwoch in der schmucken Archbar direkt am Hauptbahnhof Winterthur. \nSocial Dance 20:15–23:30\nEintritt CHF 10.- / 5.- (Legi) // bei Liveband Hutkollekte (Empfehlung CHF 15-20.-) \nÜber DJs\, Bands und weitere Specials informieren wir Dich auf Instagram\, Facebook und WhatsApp.
URL:https://swingdanceevents.ch/event/swing-cocktail-21/2026-01-21/
LOCATION:Archbar\, Archstrasse 2\, Winterthur\, 8400\, Switzerland
CATEGORIES:DJ,Socialdance
ATTACH;FMTTYPE=image/jpeg:https://swingdanceevents.ch/wp-content/uploads/2025/07/SC_Quadrat_klein.jpg
ORGANIZER;CN="Swingscouts%2C Winterthur":MAILTO:info@swingscouts.ch
END:VEVENT
BEGIN:VEVENT
DTSTART;TZID=Europe/Zurich:20260124T150000
DTEND;TZID=Europe/Zurich:20260124T170000
DTSTAMP:20260421T230934
CREATED:20260122T142149Z
LAST-MODIFIED:20260122T142252Z
UID:10003080-1769266800-1769274000@swingdanceevents.ch
SUMMARY:Swing Practice Session
DESCRIPTION:Willkommen zur Swing Practice Session 🤩! \nDu getraust dich (noch 😅 ) nicht\, auf dem Social Dance Floor das Tanzbein zu schwingen – oder möchtest bereits erlernte Steps & Moves aus deinen Tanzlektionen trainieren? \n\nDann triff dich mit Tanzpartner*in und/oder Tanzgspänli und festige deine Swing- und Social-Dancing Skills an unseren Swing Practice Sessions: \n🔥 Pack deine Trainingskleider ein\n🔥 Socialise mit anderen Kursteilnehmer*innen\n🔥 Bring deine Tanzskills aufs nächste Level \nDies ist kein geführter Kurs. \nWir bieten Tanzfläche\, Musik und Geselligkeit\, mit dem Ziel\, sich zwischen den Kurs-Lektionen auf dem Parkett zu treffen und sich gegenseitig beim Üben zu unterstützen. \nDie Sessions finden hier statt: \nDowntownswing Studio\, Hohlstrasse 86a\, 8004 Zürich \n• Keine verbindliche Anmeldung erforderlich\n• idealerweise mit Tanzpartner*in oder in einer kleinen Gruppe\n• Unkostenbeitrag für den Raum: CHF 5.00 pro Person \nHier findest du alle weiteren Daten. \nViel Spass beim Üben und Socializing 💃🕺!
URL:https://swingdanceevents.ch/event/swing-practice-session-6/2026-01-24/
LOCATION:Tanzstudio DOWNTOWNSWING\, Hohlstrasse 86a\, Zürich\, ZH\, 8004\, Switzerland
CATEGORIES:practica/opentraning
ATTACH;FMTTYPE=image/jpeg:https://swingdanceevents.ch/wp-content/uploads/2026/01/swing-practice-session-.jpg
ORGANIZER;CN="Downtownswing":MAILTO:info@downtownswing.ch
END:VEVENT
BEGIN:VEVENT
DTSTART;TZID=Europe/Zurich:20260125T190000
DTEND;TZID=Europe/Zurich:20260125T220000
DTSTAMP:20260421T230934
CREATED:20240424T120331Z
LAST-MODIFIED:20250218T085423Z
UID:10002567-1769367600-1769378400@swingdanceevents.ch
SUMMARY:Swingin’around@Bourbaki
DESCRIPTION:Swing-Party im Bourbaki in Luzern.
URL:https://swingdanceevents.ch/event/swinginaroundbourbaki/2026-01-25/
LOCATION:Bourbaki Luzern\, Löwenplatz 1\, Luzern\, Luzern\, 6004\, Switzerland
CATEGORIES:DJ,Party,Socialdance
ATTACH;FMTTYPE=image/jpeg:https://swingdanceevents.ch/wp-content/uploads/2024/04/Bourbaki.jpg
ORGANIZER;CN="Footwork":MAILTO:info@footwork.ch
END:VEVENT
END:VCALENDAR