BEGIN:VCALENDAR
VERSION:2.0
PRODID:-//Swing Dance Events Switzerland - ECPv6.15.20//NONSGML v1.0//EN
CALSCALE:GREGORIAN
METHOD:PUBLISH
X-ORIGINAL-URL:https://swingdanceevents.ch
X-WR-CALDESC:Veranstaltungen für Swing Dance Events Switzerland
REFRESH-INTERVAL;VALUE=DURATION:PT1H
X-Robots-Tag:noindex
X-PUBLISHED-TTL:PT1H
BEGIN:VTIMEZONE
TZID:Europe/Zurich
BEGIN:DAYLIGHT
TZOFFSETFROM:+0100
TZOFFSETTO:+0200
TZNAME:CEST
DTSTART:20260329T010000
END:DAYLIGHT
BEGIN:STANDARD
TZOFFSETFROM:+0200
TZOFFSETTO:+0100
TZNAME:CET
DTSTART:20261025T010000
END:STANDARD
BEGIN:DAYLIGHT
TZOFFSETFROM:+0100
TZOFFSETTO:+0200
TZNAME:CEST
DTSTART:20270328T010000
END:DAYLIGHT
BEGIN:STANDARD
TZOFFSETFROM:+0200
TZOFFSETTO:+0100
TZNAME:CET
DTSTART:20271031T010000
END:STANDARD
BEGIN:DAYLIGHT
TZOFFSETFROM:+0100
TZOFFSETTO:+0200
TZNAME:CEST
DTSTART:20280326T010000
END:DAYLIGHT
BEGIN:STANDARD
TZOFFSETFROM:+0200
TZOFFSETTO:+0100
TZNAME:CET
DTSTART:20281029T010000
END:STANDARD
END:VTIMEZONE
BEGIN:VEVENT
DTSTART;TZID=Europe/Zurich:20270101T120000
DTEND;TZID=Europe/Zurich:20270101T180000
DTSTAMP:20260422T011010
CREATED:20260421T205742Z
LAST-MODIFIED:20260421T205742Z
UID:10003366-1798804800-1798826400@swingdanceevents.ch
SUMMARY:Swing im Apollo - Neujahresparty
DESCRIPTION:Auf der Suche nach einem guten Start in 2027? Nicht müde von unsere Silvesterparty? Oder du bekommst nicht genug von den Big Five?\nWunderbar – denn wir machen zusammen mit den Big Five eine Neujahresparty.
URL:https://swingdanceevents.ch/event/swing-im-apollo-neujahresparty/
LOCATION:Apollo\, Konstanzerstrasse 32\, Kreuzlingen\, 8280\, Switzerland
CATEGORIES:LiveBand,Party
ATTACH;FMTTYPE=image/jpeg:https://swingdanceevents.ch/wp-content/uploads/2026/04/Appollo-2.jpg
END:VEVENT
BEGIN:VEVENT
DTSTART;TZID=Europe/Zurich:20270103T150000
DTEND;TZID=Europe/Zurich:20270103T180000
DTSTAMP:20260422T011010
CREATED:20260419T181318Z
LAST-MODIFIED:20260419T181318Z
UID:10003263-1798988400-1798999200@swingdanceevents.ch
SUMMARY:Cream Tea
DESCRIPTION:Es gibt schöne Swingmusik von unseren grandiosen DJs\, Kuchen (von der Kutmühle)\, Kaffee\, Kaltgetränke und Platz zum Tanzen und Sitzen drinnen und draußen. Ein wunderschönes Sonntagnachmittag Programm. Kein Eintritt\, die Raummiete wird durch eure Spenden finanziert.
URL:https://swingdanceevents.ch/event/cream-tea/2027-01-03/
LOCATION:Madame Moustache\, Obere Laube 55\, Konstanz
CATEGORIES:DJ,Socialdance
ATTACH;FMTTYPE=image/jpeg:https://swingdanceevents.ch/wp-content/uploads/2026/04/CreamTea.jpeg
END:VEVENT
BEGIN:VEVENT
DTSTART;TZID=Europe/Zurich:20270104T200000
DTEND;TZID=Europe/Zurich:20270104T220000
DTSTAMP:20260422T011010
CREATED:20260412T201700Z
LAST-MODIFIED:20260412T201700Z
UID:10003198-1799092800-1799100000@swingdanceevents.ch
SUMMARY:Montags-Social
DESCRIPTION:Wir tanzen im neuen Vereinsheim (Kulturetage). Im Sommer auch mal draußen in der Konzertmuschel. \nKein Eintritt\, das Event wird durch eure Spenden finanziert.
URL:https://swingdanceevents.ch/event/montags-social/2027-01-04/
LOCATION:Konzertmuschel\, Stadtgarten\, Konstanz
CATEGORIES:DJ,Socialdance
ATTACH;FMTTYPE=image/png:https://swingdanceevents.ch/wp-content/uploads/2026/04/cropped-Logo-rund-blau-1024x964-1-768x723-3.png
END:VEVENT
BEGIN:VEVENT
DTSTART;TZID=Europe/Zurich:20270109T200000
DTEND;TZID=Europe/Zurich:20270110T003000
DTSTAMP:20260422T011010
CREATED:20250603T114713Z
LAST-MODIFIED:20260421T121117Z
UID:10003363-1799524800-1799541000@swingdanceevents.ch
SUMMARY:Fast Feet Floor
DESCRIPTION:Ab 180 bpm fängt der Spass erst richtig an! Bei herrlich flotter Musik kannst Du Deiner Vorliebe für flinke Füsse frönen und den ganzen Abend ausgelassen Balboa\, Shag\, Fast Lindy und Charleston tanzen. Schweissperlen und Glücksgefühle sind garantiert! \nDas schmucke Kellertheater in der Altstadt Winterthurs ist 5 Minuten zu Fuss vom Bahnhof entfernt\, sodass Du nach Partyende entspannt jede Nachtverbindung nach Zürich oder St. Gallen erreichst. \n20:00–20:45 Taster (kostenlos)\n20:45–00:30 Party mit DJ\nEintritt CHF 20.- / 15.- (Legi)
URL:https://swingdanceevents.ch/event/fast-feet-floor-10/2027-01-09/
LOCATION:Kellertheater Winterthur\, Marktgasse 53\, Winterthur\, ZH\, 8400\, Switzerland
CATEGORIES:DJ,Party,Socialdance
ATTACH;FMTTYPE=image/jpeg:https://swingdanceevents.ch/wp-content/uploads/2025/06/FFF_Banner-3-scaled.jpg
ORGANIZER;CN="Swingscouts%2C Winterthur":MAILTO:info@swingscouts.ch
END:VEVENT
BEGIN:VEVENT
DTSTART;TZID=Europe/Zurich:20270111T200000
DTEND;TZID=Europe/Zurich:20270111T220000
DTSTAMP:20260422T011010
CREATED:20260412T201700Z
LAST-MODIFIED:20260412T201700Z
UID:10003199-1799697600-1799704800@swingdanceevents.ch
SUMMARY:Montags-Social
DESCRIPTION:Wir tanzen im neuen Vereinsheim (Kulturetage). Im Sommer auch mal draußen in der Konzertmuschel. \nKein Eintritt\, das Event wird durch eure Spenden finanziert.
URL:https://swingdanceevents.ch/event/montags-social/2027-01-11/
LOCATION:Konzertmuschel\, Stadtgarten\, Konstanz
CATEGORIES:DJ,Socialdance
ATTACH;FMTTYPE=image/png:https://swingdanceevents.ch/wp-content/uploads/2026/04/cropped-Logo-rund-blau-1024x964-1-768x723-3.png
END:VEVENT
BEGIN:VEVENT
DTSTART;TZID=Europe/Zurich:20270118T200000
DTEND;TZID=Europe/Zurich:20270118T220000
DTSTAMP:20260422T011010
CREATED:20260412T201700Z
LAST-MODIFIED:20260412T201700Z
UID:10003200-1800302400-1800309600@swingdanceevents.ch
SUMMARY:Montags-Social
DESCRIPTION:Wir tanzen im neuen Vereinsheim (Kulturetage). Im Sommer auch mal draußen in der Konzertmuschel. \nKein Eintritt\, das Event wird durch eure Spenden finanziert.
URL:https://swingdanceevents.ch/event/montags-social/2027-01-18/
LOCATION:Konzertmuschel\, Stadtgarten\, Konstanz
CATEGORIES:DJ,Socialdance
ATTACH;FMTTYPE=image/png:https://swingdanceevents.ch/wp-content/uploads/2026/04/cropped-Logo-rund-blau-1024x964-1-768x723-3.png
END:VEVENT
BEGIN:VEVENT
DTSTART;TZID=Europe/Zurich:20270122T193000
DTEND;TZID=Europe/Zurich:20270123T020000
DTSTAMP:20260422T011010
CREATED:20260204T083311Z
LAST-MODIFIED:20260204T083311Z
UID:10003123-1800646200-1800669600@swingdanceevents.ch
SUMMARY:Altstadt Swing
DESCRIPTION:tbd
URL:https://swingdanceevents.ch/event/altstadt-swing-15/
LOCATION:Alte Kaserne Winterthur\, Technikumstrasse 8\, Winterthur\, Switzerland
ORGANIZER;CN="Swingscouts%2C Winterthur":MAILTO:info@swingscouts.ch
END:VEVENT
BEGIN:VEVENT
DTSTART;TZID=Europe/Zurich:20270125T200000
DTEND;TZID=Europe/Zurich:20270125T220000
DTSTAMP:20260422T011010
CREATED:20260412T201700Z
LAST-MODIFIED:20260412T201700Z
UID:10003201-1800907200-1800914400@swingdanceevents.ch
SUMMARY:Montags-Social
DESCRIPTION:Wir tanzen im neuen Vereinsheim (Kulturetage). Im Sommer auch mal draußen in der Konzertmuschel. \nKein Eintritt\, das Event wird durch eure Spenden finanziert.
URL:https://swingdanceevents.ch/event/montags-social/2027-01-25/
LOCATION:Konzertmuschel\, Stadtgarten\, Konstanz
CATEGORIES:DJ,Socialdance
ATTACH;FMTTYPE=image/png:https://swingdanceevents.ch/wp-content/uploads/2026/04/cropped-Logo-rund-blau-1024x964-1-768x723-3.png
END:VEVENT
BEGIN:VEVENT
DTSTART;TZID=Europe/Zurich:20270201T200000
DTEND;TZID=Europe/Zurich:20270201T220000
DTSTAMP:20260422T011010
CREATED:20260412T201700Z
LAST-MODIFIED:20260412T201700Z
UID:10003202-1801512000-1801519200@swingdanceevents.ch
SUMMARY:Montags-Social
DESCRIPTION:Wir tanzen im neuen Vereinsheim (Kulturetage). Im Sommer auch mal draußen in der Konzertmuschel. \nKein Eintritt\, das Event wird durch eure Spenden finanziert.
URL:https://swingdanceevents.ch/event/montags-social/2027-02-01/
LOCATION:Konzertmuschel\, Stadtgarten\, Konstanz
CATEGORIES:DJ,Socialdance
ATTACH;FMTTYPE=image/png:https://swingdanceevents.ch/wp-content/uploads/2026/04/cropped-Logo-rund-blau-1024x964-1-768x723-3.png
END:VEVENT
BEGIN:VEVENT
DTSTART;TZID=Europe/Zurich:20270207T150000
DTEND;TZID=Europe/Zurich:20270207T180000
DTSTAMP:20260422T011010
CREATED:20260419T181318Z
LAST-MODIFIED:20260419T181318Z
UID:10003264-1802012400-1802023200@swingdanceevents.ch
SUMMARY:Cream Tea
DESCRIPTION:Es gibt schöne Swingmusik von unseren grandiosen DJs\, Kuchen (von der Kutmühle)\, Kaffee\, Kaltgetränke und Platz zum Tanzen und Sitzen drinnen und draußen. Ein wunderschönes Sonntagnachmittag Programm. Kein Eintritt\, die Raummiete wird durch eure Spenden finanziert.
URL:https://swingdanceevents.ch/event/cream-tea/2027-02-07/
LOCATION:Madame Moustache\, Obere Laube 55\, Konstanz
CATEGORIES:DJ,Socialdance
ATTACH;FMTTYPE=image/jpeg:https://swingdanceevents.ch/wp-content/uploads/2026/04/CreamTea.jpeg
END:VEVENT
BEGIN:VEVENT
DTSTART;TZID=Europe/Zurich:20270208T200000
DTEND;TZID=Europe/Zurich:20270208T220000
DTSTAMP:20260422T011010
CREATED:20260412T201700Z
LAST-MODIFIED:20260412T201700Z
UID:10003203-1802116800-1802124000@swingdanceevents.ch
SUMMARY:Montags-Social
DESCRIPTION:Wir tanzen im neuen Vereinsheim (Kulturetage). Im Sommer auch mal draußen in der Konzertmuschel. \nKein Eintritt\, das Event wird durch eure Spenden finanziert.
URL:https://swingdanceevents.ch/event/montags-social/2027-02-08/
LOCATION:Konzertmuschel\, Stadtgarten\, Konstanz
CATEGORIES:DJ,Socialdance
ATTACH;FMTTYPE=image/png:https://swingdanceevents.ch/wp-content/uploads/2026/04/cropped-Logo-rund-blau-1024x964-1-768x723-3.png
END:VEVENT
BEGIN:VEVENT
DTSTART;TZID=Europe/Zurich:20270213T190000
DTEND;TZID=Europe/Zurich:20270214T010000
DTSTAMP:20260422T011010
CREATED:20260421T210846Z
LAST-MODIFIED:20260421T210846Z
UID:10003367-1802545200-1802566800@swingdanceevents.ch
SUMMARY:Swing im Apollo
DESCRIPTION:Was würde besser passen\, als den Tanz der 1930er und 40er Jahre\, entstanden in Harlem / New York in dem vermutlich schönsten Tanzsaal am Bodensee zu live Musik zu tanzen? Glitzer garantiert. \n19:00 Uhr Special oder Taster TBA\n20:00 Uhr Party mit Live-Musik TBA
URL:https://swingdanceevents.ch/event/swing-im-apollo-2/
LOCATION:Apollo\, Konstanzerstrasse 32\, Kreuzlingen\, 8280\, Switzerland
CATEGORIES:LiveBand,Party
ATTACH;FMTTYPE=image/jpeg:https://swingdanceevents.ch/wp-content/uploads/2026/04/Appollo-3.jpg
END:VEVENT
BEGIN:VEVENT
DTSTART;TZID=Europe/Zurich:20270215T200000
DTEND;TZID=Europe/Zurich:20270215T220000
DTSTAMP:20260422T011010
CREATED:20260412T201700Z
LAST-MODIFIED:20260412T201700Z
UID:10003204-1802721600-1802728800@swingdanceevents.ch
SUMMARY:Montags-Social
DESCRIPTION:Wir tanzen im neuen Vereinsheim (Kulturetage). Im Sommer auch mal draußen in der Konzertmuschel. \nKein Eintritt\, das Event wird durch eure Spenden finanziert.
URL:https://swingdanceevents.ch/event/montags-social/2027-02-15/
LOCATION:Konzertmuschel\, Stadtgarten\, Konstanz
CATEGORIES:DJ,Socialdance
ATTACH;FMTTYPE=image/png:https://swingdanceevents.ch/wp-content/uploads/2026/04/cropped-Logo-rund-blau-1024x964-1-768x723-3.png
END:VEVENT
BEGIN:VEVENT
DTSTART;TZID=Europe/Zurich:20270222T200000
DTEND;TZID=Europe/Zurich:20270222T220000
DTSTAMP:20260422T011010
CREATED:20260412T201700Z
LAST-MODIFIED:20260412T201700Z
UID:10003205-1803326400-1803333600@swingdanceevents.ch
SUMMARY:Montags-Social
DESCRIPTION:Wir tanzen im neuen Vereinsheim (Kulturetage). Im Sommer auch mal draußen in der Konzertmuschel. \nKein Eintritt\, das Event wird durch eure Spenden finanziert.
URL:https://swingdanceevents.ch/event/montags-social/2027-02-22/
LOCATION:Konzertmuschel\, Stadtgarten\, Konstanz
CATEGORIES:DJ,Socialdance
ATTACH;FMTTYPE=image/png:https://swingdanceevents.ch/wp-content/uploads/2026/04/cropped-Logo-rund-blau-1024x964-1-768x723-3.png
END:VEVENT
BEGIN:VEVENT
DTSTART;TZID=Europe/Zurich:20270301T200000
DTEND;TZID=Europe/Zurich:20270301T220000
DTSTAMP:20260422T011010
CREATED:20260412T201700Z
LAST-MODIFIED:20260412T201700Z
UID:10003206-1803931200-1803938400@swingdanceevents.ch
SUMMARY:Montags-Social
DESCRIPTION:Wir tanzen im neuen Vereinsheim (Kulturetage). Im Sommer auch mal draußen in der Konzertmuschel. \nKein Eintritt\, das Event wird durch eure Spenden finanziert.
URL:https://swingdanceevents.ch/event/montags-social/2027-03-01/
LOCATION:Konzertmuschel\, Stadtgarten\, Konstanz
CATEGORIES:DJ,Socialdance
ATTACH;FMTTYPE=image/png:https://swingdanceevents.ch/wp-content/uploads/2026/04/cropped-Logo-rund-blau-1024x964-1-768x723-3.png
END:VEVENT
BEGIN:VEVENT
DTSTART;TZID=Europe/Zurich:20270305T193000
DTEND;TZID=Europe/Zurich:20270306T020000
DTSTAMP:20260422T011010
CREATED:20251207T151252Z
LAST-MODIFIED:20260309T120235Z
UID:10003040-1804275000-1804298400@swingdanceevents.ch
SUMMARY:Altstadt Swing
DESCRIPTION:tbd
URL:https://swingdanceevents.ch/event/altstadt-swing-16/
LOCATION:Alte Kaserne Winterthur\, Technikumstrasse 8\, Winterthur\, Switzerland
ORGANIZER;CN="Swingscouts%2C Winterthur":MAILTO:info@swingscouts.ch
END:VEVENT
BEGIN:VEVENT
DTSTART;TZID=Europe/Zurich:20270307T150000
DTEND;TZID=Europe/Zurich:20270307T180000
DTSTAMP:20260422T011010
CREATED:20260419T181318Z
LAST-MODIFIED:20260419T181318Z
UID:10003265-1804431600-1804442400@swingdanceevents.ch
SUMMARY:Cream Tea
DESCRIPTION:Es gibt schöne Swingmusik von unseren grandiosen DJs\, Kuchen (von der Kutmühle)\, Kaffee\, Kaltgetränke und Platz zum Tanzen und Sitzen drinnen und draußen. Ein wunderschönes Sonntagnachmittag Programm. Kein Eintritt\, die Raummiete wird durch eure Spenden finanziert.
URL:https://swingdanceevents.ch/event/cream-tea/2027-03-07/
LOCATION:Madame Moustache\, Obere Laube 55\, Konstanz
CATEGORIES:DJ,Socialdance
ATTACH;FMTTYPE=image/jpeg:https://swingdanceevents.ch/wp-content/uploads/2026/04/CreamTea.jpeg
END:VEVENT
BEGIN:VEVENT
DTSTART;TZID=Europe/Zurich:20270308T200000
DTEND;TZID=Europe/Zurich:20270308T220000
DTSTAMP:20260422T011010
CREATED:20260412T201700Z
LAST-MODIFIED:20260412T201700Z
UID:10003207-1804536000-1804543200@swingdanceevents.ch
SUMMARY:Montags-Social
DESCRIPTION:Wir tanzen im neuen Vereinsheim (Kulturetage). Im Sommer auch mal draußen in der Konzertmuschel. \nKein Eintritt\, das Event wird durch eure Spenden finanziert.
URL:https://swingdanceevents.ch/event/montags-social/2027-03-08/
LOCATION:Konzertmuschel\, Stadtgarten\, Konstanz
CATEGORIES:DJ,Socialdance
ATTACH;FMTTYPE=image/png:https://swingdanceevents.ch/wp-content/uploads/2026/04/cropped-Logo-rund-blau-1024x964-1-768x723-3.png
END:VEVENT
BEGIN:VEVENT
DTSTART;TZID=Europe/Zurich:20270315T200000
DTEND;TZID=Europe/Zurich:20270315T220000
DTSTAMP:20260422T011010
CREATED:20260412T201700Z
LAST-MODIFIED:20260412T201700Z
UID:10003208-1805140800-1805148000@swingdanceevents.ch
SUMMARY:Montags-Social
DESCRIPTION:Wir tanzen im neuen Vereinsheim (Kulturetage). Im Sommer auch mal draußen in der Konzertmuschel. \nKein Eintritt\, das Event wird durch eure Spenden finanziert.
URL:https://swingdanceevents.ch/event/montags-social/2027-03-15/
LOCATION:Konzertmuschel\, Stadtgarten\, Konstanz
CATEGORIES:DJ,Socialdance
ATTACH;FMTTYPE=image/png:https://swingdanceevents.ch/wp-content/uploads/2026/04/cropped-Logo-rund-blau-1024x964-1-768x723-3.png
END:VEVENT
BEGIN:VEVENT
DTSTART;TZID=Europe/Zurich:20270319T190000
DTEND;TZID=Europe/Zurich:20270320T010000
DTSTAMP:20260422T011010
CREATED:20260421T212240Z
LAST-MODIFIED:20260421T212240Z
UID:10003368-1805482800-1805504400@swingdanceevents.ch
SUMMARY:Swing im Apollo - SwingIt Freitagsparty
DESCRIPTION:Was würde besser passen\, als den Tanz der 1930er und 40er Jahre\, entstanden in Harlem / New York in dem vermutlich schönsten Tanzsaal am Bodensee zu live Musik zu tanzen? Glitzer garantiert. \n19:00 Uhr Special oder Taster TBA\n20:00 Uhr Party mit Live-Musik TBA
URL:https://swingdanceevents.ch/event/swing-im-apollo-swingit-freitagsparty/
LOCATION:Apollo\, Konstanzerstrasse 32\, Kreuzlingen\, 8280\, Switzerland
CATEGORIES:LiveBand,Party
ATTACH;FMTTYPE=image/jpeg:https://swingdanceevents.ch/wp-content/uploads/2026/04/Appollo-4.jpg
END:VEVENT
BEGIN:VEVENT
DTSTART;TZID=Europe/Zurich:20270320T190000
DTEND;TZID=Europe/Zurich:20270321T010000
DTSTAMP:20260422T011010
CREATED:20260421T212448Z
LAST-MODIFIED:20260421T212448Z
UID:10003369-1805569200-1805590800@swingdanceevents.ch
SUMMARY:Swing im Apollo - SwingIt Samstagsparty
DESCRIPTION:Was würde besser passen\, als den Tanz der 1930er und 40er Jahre\, entstanden in Harlem / New York in dem vermutlich schönsten Tanzsaal am Bodensee zu live Musik zu tanzen? Glitzer garantiert. \n19:00 Uhr Special oder Taster TBA\n20:00 Uhr Party mit Live-Musik TBA
URL:https://swingdanceevents.ch/event/swing-im-apollo-swingit-samstagsparty/
LOCATION:Apollo\, Konstanzerstrasse 32\, Kreuzlingen\, 8280\, Switzerland
CATEGORIES:LiveBand,Party
ATTACH;FMTTYPE=image/jpeg:https://swingdanceevents.ch/wp-content/uploads/2026/04/Appollo-5.jpg
END:VEVENT
BEGIN:VEVENT
DTSTART;TZID=Europe/Zurich:20270322T200000
DTEND;TZID=Europe/Zurich:20270322T220000
DTSTAMP:20260422T011010
CREATED:20260412T201700Z
LAST-MODIFIED:20260412T201700Z
UID:10003209-1805745600-1805752800@swingdanceevents.ch
SUMMARY:Montags-Social
DESCRIPTION:Wir tanzen im neuen Vereinsheim (Kulturetage). Im Sommer auch mal draußen in der Konzertmuschel. \nKein Eintritt\, das Event wird durch eure Spenden finanziert.
URL:https://swingdanceevents.ch/event/montags-social/2027-03-22/
LOCATION:Konzertmuschel\, Stadtgarten\, Konstanz
CATEGORIES:DJ,Socialdance
ATTACH;FMTTYPE=image/png:https://swingdanceevents.ch/wp-content/uploads/2026/04/cropped-Logo-rund-blau-1024x964-1-768x723-3.png
END:VEVENT
BEGIN:VEVENT
DTSTART;TZID=Europe/Zurich:20270326T100000
DTEND;TZID=Europe/Zurich:20270329T170000
DTSTAMP:20260422T011010
CREATED:20260224T113647Z
LAST-MODIFIED:20260224T113647Z
UID:10003148-1806055200-1806339600@swingdanceevents.ch
SUMMARY:IsThereHop? 2027 SAVE THE DATE
DESCRIPTION:SAVE THE DATE!\nCheck www.istherehop.ch for a little taster how 2027 will be like
URL:https://swingdanceevents.ch/event/istherehop-2027-save-the-date/
LOCATION:Volkshaus Zürich\, Stauffacherstrasse 60\,\, Zürich\, 8004\, Switzerland
CATEGORIES:Festival
ATTACH;FMTTYPE=image/png:https://swingdanceevents.ch/wp-content/uploads/2026/02/2027.png
ORGANIZER;CN="IsThereHop":MAILTO:help@istherehop.ch
END:VEVENT
BEGIN:VEVENT
DTSTART;TZID=Europe/Zurich:20270329T200000
DTEND;TZID=Europe/Zurich:20270329T220000
DTSTAMP:20260422T011010
CREATED:20260412T201700Z
LAST-MODIFIED:20260412T201700Z
UID:10003210-1806350400-1806357600@swingdanceevents.ch
SUMMARY:Montags-Social
DESCRIPTION:Wir tanzen im neuen Vereinsheim (Kulturetage). Im Sommer auch mal draußen in der Konzertmuschel. \nKein Eintritt\, das Event wird durch eure Spenden finanziert.
URL:https://swingdanceevents.ch/event/montags-social/2027-03-29/
LOCATION:Konzertmuschel\, Stadtgarten\, Konstanz
CATEGORIES:DJ,Socialdance
ATTACH;FMTTYPE=image/png:https://swingdanceevents.ch/wp-content/uploads/2026/04/cropped-Logo-rund-blau-1024x964-1-768x723-3.png
END:VEVENT
BEGIN:VEVENT
DTSTART;TZID=Europe/Zurich:20270404T150000
DTEND;TZID=Europe/Zurich:20270404T180000
DTSTAMP:20260422T011010
CREATED:20260419T181318Z
LAST-MODIFIED:20260419T181318Z
UID:10003266-1806850800-1806861600@swingdanceevents.ch
SUMMARY:Cream Tea
DESCRIPTION:Es gibt schöne Swingmusik von unseren grandiosen DJs\, Kuchen (von der Kutmühle)\, Kaffee\, Kaltgetränke und Platz zum Tanzen und Sitzen drinnen und draußen. Ein wunderschönes Sonntagnachmittag Programm. Kein Eintritt\, die Raummiete wird durch eure Spenden finanziert.
URL:https://swingdanceevents.ch/event/cream-tea/2027-04-04/
LOCATION:Madame Moustache\, Obere Laube 55\, Konstanz
CATEGORIES:DJ,Socialdance
ATTACH;FMTTYPE=image/jpeg:https://swingdanceevents.ch/wp-content/uploads/2026/04/CreamTea.jpeg
END:VEVENT
BEGIN:VEVENT
DTSTART;TZID=Europe/Zurich:20270405T200000
DTEND;TZID=Europe/Zurich:20270405T220000
DTSTAMP:20260422T011010
CREATED:20260412T201700Z
LAST-MODIFIED:20260412T201700Z
UID:10003211-1806955200-1806962400@swingdanceevents.ch
SUMMARY:Montags-Social
DESCRIPTION:Wir tanzen im neuen Vereinsheim (Kulturetage). Im Sommer auch mal draußen in der Konzertmuschel. \nKein Eintritt\, das Event wird durch eure Spenden finanziert.
URL:https://swingdanceevents.ch/event/montags-social/2027-04-05/
LOCATION:Konzertmuschel\, Stadtgarten\, Konstanz
CATEGORIES:DJ,Socialdance
ATTACH;FMTTYPE=image/png:https://swingdanceevents.ch/wp-content/uploads/2026/04/cropped-Logo-rund-blau-1024x964-1-768x723-3.png
END:VEVENT
BEGIN:VEVENT
DTSTART;TZID=Europe/Zurich:20270412T200000
DTEND;TZID=Europe/Zurich:20270412T220000
DTSTAMP:20260422T011010
CREATED:20260412T201700Z
LAST-MODIFIED:20260412T201700Z
UID:10003212-1807560000-1807567200@swingdanceevents.ch
SUMMARY:Montags-Social
DESCRIPTION:Wir tanzen im neuen Vereinsheim (Kulturetage). Im Sommer auch mal draußen in der Konzertmuschel. \nKein Eintritt\, das Event wird durch eure Spenden finanziert.
URL:https://swingdanceevents.ch/event/montags-social/2027-04-12/
LOCATION:Konzertmuschel\, Stadtgarten\, Konstanz
CATEGORIES:DJ,Socialdance
ATTACH;FMTTYPE=image/png:https://swingdanceevents.ch/wp-content/uploads/2026/04/cropped-Logo-rund-blau-1024x964-1-768x723-3.png
END:VEVENT
BEGIN:VEVENT
DTSTART;TZID=Europe/Zurich:20270419T200000
DTEND;TZID=Europe/Zurich:20270419T220000
DTSTAMP:20260422T011010
CREATED:20260412T201700Z
LAST-MODIFIED:20260412T201700Z
UID:10003213-1808164800-1808172000@swingdanceevents.ch
SUMMARY:Montags-Social
DESCRIPTION:Wir tanzen im neuen Vereinsheim (Kulturetage). Im Sommer auch mal draußen in der Konzertmuschel. \nKein Eintritt\, das Event wird durch eure Spenden finanziert.
URL:https://swingdanceevents.ch/event/montags-social/2027-04-19/
LOCATION:Konzertmuschel\, Stadtgarten\, Konstanz
CATEGORIES:DJ,Socialdance
ATTACH;FMTTYPE=image/png:https://swingdanceevents.ch/wp-content/uploads/2026/04/cropped-Logo-rund-blau-1024x964-1-768x723-3.png
END:VEVENT
BEGIN:VEVENT
DTSTART;TZID=Europe/Zurich:20270426T200000
DTEND;TZID=Europe/Zurich:20270426T220000
DTSTAMP:20260422T011010
CREATED:20260412T201700Z
LAST-MODIFIED:20260412T201700Z
UID:10003214-1808769600-1808776800@swingdanceevents.ch
SUMMARY:Montags-Social
DESCRIPTION:Wir tanzen im neuen Vereinsheim (Kulturetage). Im Sommer auch mal draußen in der Konzertmuschel. \nKein Eintritt\, das Event wird durch eure Spenden finanziert.
URL:https://swingdanceevents.ch/event/montags-social/2027-04-26/
LOCATION:Konzertmuschel\, Stadtgarten\, Konstanz
CATEGORIES:DJ,Socialdance
ATTACH;FMTTYPE=image/png:https://swingdanceevents.ch/wp-content/uploads/2026/04/cropped-Logo-rund-blau-1024x964-1-768x723-3.png
END:VEVENT
BEGIN:VEVENT
DTSTART;TZID=Europe/Zurich:20270502T150000
DTEND;TZID=Europe/Zurich:20270502T180000
DTSTAMP:20260422T011010
CREATED:20260419T181318Z
LAST-MODIFIED:20260419T181318Z
UID:10003267-1809270000-1809280800@swingdanceevents.ch
SUMMARY:Cream Tea
DESCRIPTION:Es gibt schöne Swingmusik von unseren grandiosen DJs\, Kuchen (von der Kutmühle)\, Kaffee\, Kaltgetränke und Platz zum Tanzen und Sitzen drinnen und draußen. Ein wunderschönes Sonntagnachmittag Programm. Kein Eintritt\, die Raummiete wird durch eure Spenden finanziert.
URL:https://swingdanceevents.ch/event/cream-tea/2027-05-02/
LOCATION:Madame Moustache\, Obere Laube 55\, Konstanz
CATEGORIES:DJ,Socialdance
ATTACH;FMTTYPE=image/jpeg:https://swingdanceevents.ch/wp-content/uploads/2026/04/CreamTea.jpeg
END:VEVENT
END:VCALENDAR