BEGIN:VCALENDAR
VERSION:2.0
PRODID:-//Swing Dance Events Switzerland - ECPv6.15.20//NONSGML v1.0//EN
CALSCALE:GREGORIAN
METHOD:PUBLISH
X-WR-CALNAME:Swing Dance Events Switzerland
X-ORIGINAL-URL:https://swingdanceevents.ch
X-WR-CALDESC:Veranstaltungen für Swing Dance Events Switzerland
REFRESH-INTERVAL;VALUE=DURATION:PT1H
X-Robots-Tag:noindex
X-PUBLISHED-TTL:PT1H
BEGIN:VTIMEZONE
TZID:Europe/Zurich
BEGIN:DAYLIGHT
TZOFFSETFROM:+0100
TZOFFSETTO:+0200
TZNAME:CEST
DTSTART:20240331T010000
END:DAYLIGHT
BEGIN:STANDARD
TZOFFSETFROM:+0200
TZOFFSETTO:+0100
TZNAME:CET
DTSTART:20241027T010000
END:STANDARD
BEGIN:DAYLIGHT
TZOFFSETFROM:+0100
TZOFFSETTO:+0200
TZNAME:CEST
DTSTART:20250330T010000
END:DAYLIGHT
BEGIN:STANDARD
TZOFFSETFROM:+0200
TZOFFSETTO:+0100
TZNAME:CET
DTSTART:20251026T010000
END:STANDARD
BEGIN:DAYLIGHT
TZOFFSETFROM:+0100
TZOFFSETTO:+0200
TZNAME:CEST
DTSTART:20260329T010000
END:DAYLIGHT
BEGIN:STANDARD
TZOFFSETFROM:+0200
TZOFFSETTO:+0100
TZNAME:CET
DTSTART:20261025T010000
END:STANDARD
END:VTIMEZONE
BEGIN:VEVENT
DTSTART;TZID=Europe/Zurich:20250429T190000
DTEND;TZID=Europe/Zurich:20250429T223000
DTSTAMP:20260425T184257
CREATED:20241025T133514Z
LAST-MODIFIED:20241231T115903Z
UID:10002408-1745953200-1745965800@swingdanceevents.ch
SUMMARY:Lindy Circle
DESCRIPTION:Am letzten Dienstag im Monat treffen wir uns im Keller vom Kaffe und Club Øya. Lindy Hop Crashkurs von 19:00 – 20:00 Uhr (Unkostenbeitrag 10.-) anschliessend Open Dance Floor (Kollekte). \nFür den Crashkurs braucht es keine Anmeldung\, aber kommt frühzeitig\, denn die Plätze sind begrenzt.
URL:https://swingdanceevents.ch/event/lindy-circle-5/2025-04-29/
LOCATION:ØYA BAR\, Schwertgasse 27\, St.Gallen\, SG\, 9000\, Switzerland
CATEGORIES:Crashcourse,DJ,Socialdance
ATTACH;FMTTYPE=image/jpeg:https://swingdanceevents.ch/wp-content/uploads/2024/10/20230131_lindy-circle_oya_01_A6-1.jpg
END:VEVENT
BEGIN:VEVENT
DTSTART;TZID=Europe/Zurich:20250429T190000
DTEND;TZID=Europe/Zurich:20250429T233000
DTSTAMP:20260425T184257
CREATED:20250429T153412Z
LAST-MODIFIED:20250429T153414Z
UID:10002494-1745953200-1745969400@swingdanceevents.ch
SUMMARY:El Boge Swing Social & Classes (beginners welcome)
DESCRIPTION:Der Dienstag El Boge Swing Social. \n\n20.15 – 23:30 Socialdance mit DJ (Fr.10.-\, 5.- für Teilnehmer Klasse)\n\n19:00 – 19:30 free Lindy CrashCourse\n19:30 – 20:15 Lindy 1 walk in class mit Julio or Muetze Fr.20.- (just walk in\, kein Partner notwendig)
URL:https://swingdanceevents.ch/event/el-boge-swing-social-classes-beginners-welcome-6-2-2-3-3-3-2-2-4-3-4-2-5-4-2-2-2/
LOCATION:El Social\, Viaduktstrasse 64\, Zürich\, ZH\, 8005\, Switzerland
CATEGORIES:Class,Crashcourse,DJ,Party,Socialdance
ATTACH;FMTTYPE=image/png:https://swingdanceevents.ch/wp-content/uploads/2025/04/FlyerBogen2025_Tuesday_April4.png
END:VEVENT
BEGIN:VEVENT
DTSTART;TZID=Europe/Zurich:20250501T200000
DTEND;TZID=Europe/Zurich:20250501T223000
DTSTAMP:20260425T184257
CREATED:20241002T161735Z
LAST-MODIFIED:20250415T163124Z
UID:10002286-1746129600-1746138600@swingdanceevents.ch
SUMMARY:Bürkli-Hop @ Platzspitz
DESCRIPTION:Don’t miss Zürich’s outdoor Socialdance for LindyHop Balboa Shag SoloJazz etc. more info & community: https://www.facebook.com/groups/buerklihop Free\, it’s a noncomercial szene-meeting run by szene members.
URL:https://swingdanceevents.ch/event/buerkli-hop-ersatzstandort/2025-05-01/
LOCATION:Platzspitz Musikpavilion\, Platzpromenade 5\, Zürich\, ZH\, 8001\, Switzerland
CATEGORIES:DJ,Party,Socialdance
ATTACH;FMTTYPE=image/jpeg:https://swingdanceevents.ch/wp-content/uploads/2024/10/Season2025.jpg
ORGANIZER;CN="The B%C3%BCrkliHop Syndicat by Z%C3%BCrich's Lindy Szene":MAILTO:buerklihop@google.com
END:VEVENT
BEGIN:VEVENT
DTSTART;TZID=Europe/Zurich:20250503T193000
DTEND;TZID=Europe/Zurich:20250503T233000
DTSTAMP:20260425T184257
CREATED:20250107T220127Z
LAST-MODIFIED:20250415T231157Z
UID:10002448-1746300600-1746315000@swingdanceevents.ch
SUMMARY:NEW DATE / VERSCHOBEN DOWN TOWN SOCIAL
DESCRIPTION:Leider muss der Event um 2 Wochen verschoben werden. Sniff. \nNeues Datum: \nSamstag\, 17. Mai 2025
URL:https://swingdanceevents.ch/event/down-town-social-9/2025-05-03/
LOCATION:Tanzstudio DOWNTOWNSWING\, Hohlstrasse 86a\, Zürich\, ZH\, 8004\, Switzerland
CATEGORIES:DJ,Party,Socialdance
ATTACH;FMTTYPE=image/jpeg:https://swingdanceevents.ch/wp-content/uploads/2025/01/20250503-NEW-DATE-VERSCHOBEN.jpg
ORGANIZER;CN="Downtownswing":MAILTO:info@downtownswing.ch
END:VEVENT
BEGIN:VEVENT
DTSTART;TZID=Europe/Zurich:20250504T190000
DTEND;TZID=Europe/Zurich:20250504T220000
DTSTAMP:20260425T184257
CREATED:20250202T094213Z
LAST-MODIFIED:20250204T214142Z
UID:10002539-1746385200-1746396000@swingdanceevents.ch
SUMMARY:BLUES SOCIAL DANCE
DESCRIPTION:Blues Party on first Sunday on the month.\nWelcome to the Blues Social Dance at el Social (el Boge)\nwww.elsocial.ch
URL:https://swingdanceevents.ch/event/blues-social-dance-7/2025-05-04/
LOCATION:El Social\, Viaduktstrasse 64\, Zürich\, ZH\, 8005\, Switzerland
CATEGORIES:DJ,Party,Socialdance
ATTACH;FMTTYPE=image/jpeg:https://swingdanceevents.ch/wp-content/uploads/2025/02/2025Feb.jpg
ORGANIZER;CN="El Social":MAILTO:info@elsocial.ch
END:VEVENT
END:VCALENDAR