BEGIN:VCALENDAR
VERSION:2.0
PRODID:-//Swing Dance Events Switzerland - ECPv6.15.20//NONSGML v1.0//EN
CALSCALE:GREGORIAN
METHOD:PUBLISH
X-ORIGINAL-URL:https://swingdanceevents.ch
X-WR-CALDESC:Veranstaltungen für Swing Dance Events Switzerland
REFRESH-INTERVAL;VALUE=DURATION:PT1H
X-Robots-Tag:noindex
X-PUBLISHED-TTL:PT1H
BEGIN:VTIMEZONE
TZID:Europe/Zurich
BEGIN:DAYLIGHT
TZOFFSETFROM:+0100
TZOFFSETTO:+0200
TZNAME:CEST
DTSTART:20240331T010000
END:DAYLIGHT
BEGIN:STANDARD
TZOFFSETFROM:+0200
TZOFFSETTO:+0100
TZNAME:CET
DTSTART:20241027T010000
END:STANDARD
BEGIN:DAYLIGHT
TZOFFSETFROM:+0100
TZOFFSETTO:+0200
TZNAME:CEST
DTSTART:20250330T010000
END:DAYLIGHT
BEGIN:STANDARD
TZOFFSETFROM:+0200
TZOFFSETTO:+0100
TZNAME:CET
DTSTART:20251026T010000
END:STANDARD
BEGIN:DAYLIGHT
TZOFFSETFROM:+0100
TZOFFSETTO:+0200
TZNAME:CEST
DTSTART:20260329T010000
END:DAYLIGHT
BEGIN:STANDARD
TZOFFSETFROM:+0200
TZOFFSETTO:+0100
TZNAME:CET
DTSTART:20261025T010000
END:STANDARD
END:VTIMEZONE
BEGIN:VEVENT
DTSTART;TZID=Europe/Zurich:20250506T190000
DTEND;TZID=Europe/Zurich:20250506T233000
DTSTAMP:20260425T123342
CREATED:20250504T181329Z
LAST-MODIFIED:20250504T181332Z
UID:10002495-1746558000-1746574200@swingdanceevents.ch
SUMMARY:El Boge Swing Social & Classes (beginners welcome)
DESCRIPTION:Der Dienstag El Boge Swing Social. \n\n20.15 – 23:30 Socialdance mit DJ (Fr.10.-\, 5.- für Teilnehmer Klasse)\n\n19:00 – 19:30 free Lindy CrashCourse\n19:30 – 20:15 Lindy 1 walk in class mit Julio or Muetze Fr.20.- (just walk in\, kein Partner notwendig)
URL:https://swingdanceevents.ch/event/el-boge-swing-social-classes-beginners-welcome-6-2-2-3-3-3-2-2-4-3-4-2-5-4-2-2-2-2/2025-05-06/
LOCATION:El Social\, Viaduktstrasse 64\, Zürich\, ZH\, 8005\, Switzerland
CATEGORIES:Class,Crashcourse,DJ,Party,Socialdance
ATTACH;FMTTYPE=image/png:https://swingdanceevents.ch/wp-content/uploads/2025/04/FlyerBogen2025_Tuesday_April4-1.png
END:VEVENT
BEGIN:VEVENT
DTSTART;TZID=Europe/Zurich:20250507T080000
DTEND;TZID=Europe/Zurich:20250507T170000
DTSTAMP:20260425T123342
CREATED:20250507T153629Z
LAST-MODIFIED:20250507T153629Z
UID:10002645-1746604800-1746637200@swingdanceevents.ch
SUMMARY:Fast Feet im Sousol
DESCRIPTION:Der Tanzabend für unsere schnellen Swingtänze Balboa & Shag\n20.30 – 24.00 mit DJs Ingrid und Karl Rappl \nNachdem sich das ‘Balboa im Stübli’ schon sehr etabliert hat\, gibt es nun auch ab und zu grössere Fast Feet Anlässe in Luzern.\nKommt ihr schnellen Füsse und besucht uns in Luzern! \n  \n  \n 
URL:https://swingdanceevents.ch/event/fast-feet-im-sousol-2/
LOCATION:Sousol Luzern\, Baselstrasse 13\, Luzern\, Luzern\, 6003
CATEGORIES:DJ,Party,Socialdance
ATTACH;FMTTYPE=image/jpeg:https://swingdanceevents.ch/wp-content/uploads/2025/05/swingimsousol-gross-scaled.jpg
ORGANIZER;CN="Triplestep":MAILTO:kontakt@triplestep.ch
END:VEVENT
BEGIN:VEVENT
DTSTART;TZID=Europe/Zurich:20250508T200000
DTEND;TZID=Europe/Zurich:20250508T223000
DTSTAMP:20260425T123342
CREATED:20241002T161735Z
LAST-MODIFIED:20250415T163124Z
UID:10002287-1746734400-1746743400@swingdanceevents.ch
SUMMARY:Bürkli-Hop @ Platzspitz
DESCRIPTION:Don’t miss Zürich’s outdoor Socialdance for LindyHop Balboa Shag SoloJazz etc. more info & community: https://www.facebook.com/groups/buerklihop Free\, it’s a noncomercial szene-meeting run by szene members.
URL:https://swingdanceevents.ch/event/buerkli-hop-ersatzstandort/2025-05-08/
LOCATION:Platzspitz Musikpavilion\, Platzpromenade 5\, Zürich\, ZH\, 8001\, Switzerland
CATEGORIES:DJ,Party,Socialdance
ATTACH;FMTTYPE=image/jpeg:https://swingdanceevents.ch/wp-content/uploads/2024/10/Season2025.jpg
ORGANIZER;CN="The B%C3%BCrkliHop Syndicat by Z%C3%BCrich's Lindy Szene":MAILTO:buerklihop@google.com
END:VEVENT
BEGIN:VEVENT
DTSTART;TZID=Europe/Zurich:20250509T201500
DTEND;TZID=Europe/Zurich:20250509T201500
DTSTAMP:20260425T123342
CREATED:20241219T134741Z
LAST-MODIFIED:20241220T024703Z
UID:10002390-1746821700-1746821700@swingdanceevents.ch
SUMMARY:Social Dance – Live Band – Free Crash Course – 9.5
DESCRIPTION:Social Dance with a live band and a free crash course by Ella’s Fellas \nIt doesn’t matter if you’ve been dancing for a month or have never tried Lindy Hop before – everyone is welcome! Social dance is a space where you can try new things\, meet people\, dance comfortably or wildly\, watch\, listen\, or simply spend time with your friends. We’re excited to have you with us! \nEvent Details \n\nFree Crash Course: 20:15 – 20:45\nDoors Open: 20:45\nEntrance with Live Band: 20.- / 10.- (reduced)\n\nImportant \n\nIf it’s your first time with us\, please register as an association member. Registration is one-time\, free of charge\, and without obligations.\nTo ensure everyone feels comfortable\, please follow our Code of Conduct\, which can be found on our website.\n\nWe look forward to dancing with you!
URL:https://swingdanceevents.ch/event/social-dance-live-band-free-crash-course-9-5/
LOCATION:Ella’s Fellas Dance School\, Militärstrasse 84\, Zürich\, ZH\, 8004\, Switzerland
ATTACH;FMTTYPE=image/jpeg:https://swingdanceevents.ch/wp-content/uploads/2024/12/8.jpg
ORGANIZER;CN="Ella's Fellas%2C Milit%C3%A4rstrasse 84%2C 8004 Z%C3%BCrich":MAILTO:info@ellasfellas.ch
END:VEVENT
BEGIN:VEVENT
DTSTART;TZID=Europe/Zurich:20250510T130000
DTEND;TZID=Europe/Zurich:20250510T200000
DTSTAMP:20260425T123342
CREATED:20250507T151455Z
LAST-MODIFIED:20250507T151455Z
UID:10002643-1746882000-1746907200@swingdanceevents.ch
SUMMARY:Luzern tanzt: Tanzparcours
DESCRIPTION:Luzern tanzt 25!\nTanzparcours SA\, 10. Mai 2025 \nHier der Triplestep Zeitplan:\n13.00 Begrüssung Europaplatz / KKL\, Shows & Flashmob\n14.15 Triplestep auf Mühlenplatz\n15.00 Triplestep auf Jesuitenplatz\n15.50 Triplestep beim KKL\, anschl. Crashkurs Northern Soul\n16.45 Flashmob & Schluss\n17.00 Afterparty mit DJ JC im Universum (Inseli) \nWir freuen uns auf viele Zuschauer*innen und Fans und Leute\, die mittanzen!\nGeniesst mit uns einen tollen Tanztag in Luzern! \nDas ganze Programm gibt’s auf:\nwww.luzerntanzt.ch
URL:https://swingdanceevents.ch/event/luzern-tanzt-tanzparcours/
LOCATION:Europaplatz\, Luzern\, Europaplatz 1\, Luzern\, Luzern\, 6003
CATEGORIES:Choreo,Crashcourse,DJ
ATTACH;FMTTYPE=image/jpeg:https://swingdanceevents.ch/wp-content/uploads/2025/05/LT25-triplestep.jpg
ORGANIZER;CN="Triplestep":MAILTO:kontakt@triplestep.ch
END:VEVENT
BEGIN:VEVENT
DTSTART;TZID=Europe/Zurich:20250510T190000
DTEND;TZID=Europe/Zurich:20250510T233000
DTSTAMP:20260425T123342
CREATED:20250501T124216Z
LAST-MODIFIED:20250501T124216Z
UID:10002632-1746903600-1746919800@swingdanceevents.ch
SUMMARY:Swing Express
DESCRIPTION:Wir tanzen wieder in der Lokremise in St.Gallen! \nWir starten mit einem Balboa Crashkurs. Balboa ist ein Paartanz\, welcher mehrheitlich in der geschlossenen Tanzposition getanzt wird. Der Tanzstil eignet sich besonders gut für schnellere Musik! \nIm Anschluss gibt es einen Social Dance mit DJ Musik. Es gibt Musik für Lindy Hop\, Balboa\, Charleston… für Alle ist also etwas dabei! \n19:00-20:30 Balboa Crashkurs\nab 20:30 Social Dance mit DJ
URL:https://swingdanceevents.ch/event/swing-express-5/
LOCATION:Lokremise St.Gallen\, Grünbergstrasse 7\, St.Gallen\, SG\, 9000\, Switzerland
CATEGORIES:Class,Crashcourse,Party,Teaster
ATTACH;FMTTYPE=image/jpeg:https://swingdanceevents.ch/wp-content/uploads/2025/05/4336c7_10d2cc4de5314ef08a738ff6c5c0e61dmv2.jpeg
END:VEVENT
BEGIN:VEVENT
DTSTART;TZID=Europe/Zurich:20250510T193000
DTEND;TZID=Europe/Zurich:20250511T010000
DTSTAMP:20260425T123342
CREATED:20250403T120641Z
LAST-MODIFIED:20250506T180853Z
UID:10002621-1746905400-1746925200@swingdanceevents.ch
SUMMARY:Let’s Swing Lindy Hop Party Vol.35
DESCRIPTION:Don‘t miss❗ \nSamstag 10. Mai 2025\nLet‘s Swing Nr. 35 mit neuer Location:\nAula KV Zürich\, Limmatstrasse 310\, 8004 Zürich\nAchtung: mit riesiger Tanzfläche‼ \n19 Uhr Crashkurs\n20.30 Uhr Party \nAll Night Long DJ Roadjack mit einem abendfüllenden Set 🔥 \nLasst uns die neue Location mit Swing betanzen und Lindy feiern 🕺🏼🕺🏼🕺🏼 \nGarage des KV ist für Einfahrt bis 22 Uhr geöffnet. Ausfahrt ist mit Parkticket immer möglich. \nGerne kriegen wir von euch ein Feedback zur neuen Location. Dies bildet die Basis für weitere Party‘s. Also helft uns mit die Entscheidung zu treffen. \nWir freuen uns❗ \nThe spotted Cats\n(Veranstalter einer der längsten Partyreihen in Zürich. Let‘s Swing Vol. 35) \nhttps://www.instagram.com/share/BAHVxIC1O8
URL:https://swingdanceevents.ch/event/lets-swing-lindy-hop-party-vol-35/
LOCATION:AULA KV Zürich\, Limmatstrasse 310\, Zürich\, Zürich\, 8005\, Switzerland
CATEGORIES:Class,Crashcourse,DJ,Party,Socialdance,Teaster
ATTACH;FMTTYPE=image/jpeg:https://swingdanceevents.ch/wp-content/uploads/2025/04/10-Mai-1.jpg
END:VEVENT
BEGIN:VEVENT
DTSTART;TZID=Europe/Zurich:20250510T210000
DTEND;TZID=Europe/Zurich:20250511T030000
DTSTAMP:20260425T123342
CREATED:20250226T184042Z
LAST-MODIFIED:20250226T184042Z
UID:10002575-1746910800-1746932400@swingdanceevents.ch
SUMMARY:SwingFLOOR Party- Swing into Spring
DESCRIPTION:Join us on May 10th for the SwingFLOOR Partyan electrifying Lindy Hop Social to celebrate\, featuring resident DJs Waldvogel & FryHigh. \n Date: Saturday\, May 10th\, 2025\, starting 21:00 Crash course: 20:00 (Free Trial) Location: Swing Productions\, Röschibachstrasse 22\, 8037Zürich Normal CHF 15.- / mit Legi CHF 10.- Tickets: at the entry box office
URL:https://swingdanceevents.ch/event/swingfloor-party-swing-into-spring/
LOCATION:SwingFLOOR Tanzstudio\, Röschibachstrasse 22\, Zürich\, Switzerland\, 8037\, Switzerland
CATEGORIES:Party
ATTACH;FMTTYPE=image/png:https://swingdanceevents.ch/wp-content/uploads/2025/02/SwingFLoor-1200-x-675-mm.png
ORGANIZER;CN="Swing Productions":MAILTO:help@swing.ch
END:VEVENT
END:VCALENDAR