BEGIN:VCALENDAR
VERSION:2.0
PRODID:-//Swing Dance Events Switzerland - ECPv6.15.20//NONSGML v1.0//EN
CALSCALE:GREGORIAN
METHOD:PUBLISH
X-ORIGINAL-URL:https://swingdanceevents.ch
X-WR-CALDESC:Veranstaltungen für Swing Dance Events Switzerland
REFRESH-INTERVAL;VALUE=DURATION:PT1H
X-Robots-Tag:noindex
X-PUBLISHED-TTL:PT1H
BEGIN:VTIMEZONE
TZID:Europe/Zurich
BEGIN:DAYLIGHT
TZOFFSETFROM:+0100
TZOFFSETTO:+0200
TZNAME:CEST
DTSTART:20240331T010000
END:DAYLIGHT
BEGIN:STANDARD
TZOFFSETFROM:+0200
TZOFFSETTO:+0100
TZNAME:CET
DTSTART:20241027T010000
END:STANDARD
BEGIN:DAYLIGHT
TZOFFSETFROM:+0100
TZOFFSETTO:+0200
TZNAME:CEST
DTSTART:20250330T010000
END:DAYLIGHT
BEGIN:STANDARD
TZOFFSETFROM:+0200
TZOFFSETTO:+0100
TZNAME:CET
DTSTART:20251026T010000
END:STANDARD
BEGIN:DAYLIGHT
TZOFFSETFROM:+0100
TZOFFSETTO:+0200
TZNAME:CEST
DTSTART:20260329T010000
END:DAYLIGHT
BEGIN:STANDARD
TZOFFSETFROM:+0200
TZOFFSETTO:+0100
TZNAME:CET
DTSTART:20261025T010000
END:STANDARD
END:VTIMEZONE
BEGIN:VEVENT
DTSTART;VALUE=DATE:20250606
DTEND;VALUE=DATE:20250611
DTSTAMP:20260424T115426
CREATED:20250118T095549Z
LAST-MODIFIED:20250118T095549Z
UID:10002470-1749186000-1749531599@swingdanceevents.ch
SUMMARY:Swing ohne Senf
DESCRIPTION:An Pfingsten wird wieder Swing getanzt und gelernt – drei Tage Workshop und drei rauschende Parties mit live Musik erwarten Euch!\n\n\n\nOrt Parties: Aula GBS St. Gallen\, Riethüsli\nOrt Workshops: Schönenwegen/Schönau Schulhaus St. Gallen\nmehr informationen auf der Webseite: https://swingohnesenf.ch/ \nFacebook: https://www.facebook.com/swingohnesenf/\nInstagram: https://www.instagram.com/swingohnesenf/
URL:https://swingdanceevents.ch/event/swing-ohne-senf-3/
CATEGORIES:Festival,LiveBand,Party,Workshop
ATTACH;FMTTYPE=image/jpeg:https://swingdanceevents.ch/wp-content/uploads/2025/01/flyer-2025.jpg
ORGANIZER;CN="Swing ohne Senf":MAILTO:info@swingohnesenf.ch
END:VEVENT
BEGIN:VEVENT
DTSTART;TZID=Europe/Zurich:20250610T190000
DTEND;TZID=Europe/Zurich:20250610T233000
DTSTAMP:20260424T115426
CREATED:20250523T062556Z
LAST-MODIFIED:20250609T112353Z
UID:10002500-1749582000-1749598200@swingdanceevents.ch
SUMMARY:El Boge Swing Social & Classes (beginners welcome)
DESCRIPTION:Der Dienstag El Boge Swing Social. \n\n20.15 – 23:30 Socialdance mit DJ (Fr.10.-\, 5.- für Teilnehmer Klasse)\n\n19:00 – 19:30 free Lindy CrashCourse\n19:30 – 20:15 Lindy 1 walk in class mit Julio or Muetze Fr.20.- (just walk in\, kein Partner notwendig)
URL:https://swingdanceevents.ch/event/el-boge-swing-social-classes-beginners-welcome-6-2-2-3-3-3-2-2-4-3-4-2-5-4-2-2-2-2-2/
LOCATION:El Social\, Viaduktstrasse 64\, Zürich\, ZH\, 8005\, Switzerland
CATEGORIES:Class,Crashcourse,DJ,Party,Socialdance
ATTACH;FMTTYPE=image/png:https://swingdanceevents.ch/wp-content/uploads/2025/05/FlyerBogen2025_Tuesday_June-1.png
END:VEVENT
BEGIN:VEVENT
DTSTART;TZID=Europe/Zurich:20250612T190000
DTEND;TZID=Europe/Zurich:20250612T220000
DTSTAMP:20260424T115426
CREATED:20250501T125151Z
LAST-MODIFIED:20250501T125151Z
UID:10002634-1749754800-1749765600@swingdanceevents.ch
SUMMARY:Gustav Swingt
DESCRIPTION:Der kleine\, feine Social Dance in magischer Atmosphäre. Nur bei schönem Wetter! \nWir tanzen in der magischen Atmosphäre von Gustav Gleis unter freiem Himmel! Zieht nicht eure schönsten Tanzschuhe an\, da wir im Kies tanzen. Es wird lustig\, schön\, gesellig und gemütlich.
URL:https://swingdanceevents.ch/event/gustav-swingt-5/
LOCATION:Gustav Gleis\, Bachstrasse 10D\, St.Gallen\, 9008\, Switzerland
CATEGORIES:DJ,Party
ATTACH;FMTTYPE=image/jpeg:https://swingdanceevents.ch/wp-content/uploads/2025/05/GG_Post.jpg
END:VEVENT
BEGIN:VEVENT
DTSTART;TZID=Europe/Zurich:20250612T200000
DTEND;TZID=Europe/Zurich:20250612T223000
DTSTAMP:20260424T115426
CREATED:20241002T161735Z
LAST-MODIFIED:20250415T163124Z
UID:10002292-1749758400-1749767400@swingdanceevents.ch
SUMMARY:Bürkli-Hop @ Platzspitz
DESCRIPTION:Don’t miss Zürich’s outdoor Socialdance for LindyHop Balboa Shag SoloJazz etc. more info & community: https://www.facebook.com/groups/buerklihop Free\, it’s a noncomercial szene-meeting run by szene members.
URL:https://swingdanceevents.ch/event/buerkli-hop-ersatzstandort/2025-06-12/
LOCATION:Platzspitz Musikpavilion\, Platzpromenade 5\, Zürich\, ZH\, 8001\, Switzerland
CATEGORIES:DJ,Party,Socialdance
ATTACH;FMTTYPE=image/jpeg:https://swingdanceevents.ch/wp-content/uploads/2024/10/Season2025.jpg
ORGANIZER;CN="The B%C3%BCrkliHop Syndicat by Z%C3%BCrich's Lindy Szene":MAILTO:buerklihop@google.com
END:VEVENT
BEGIN:VEVENT
DTSTART;TZID=Europe/Zurich:20250614T100000
DTEND;TZID=Europe/Zurich:20250614T170000
DTSTAMP:20260424T115426
CREATED:20250505T110434Z
LAST-MODIFIED:20250505T110434Z
UID:10002639-1749895200-1749920400@swingdanceevents.ch
SUMMARY:Collegiate Shag Workshop
DESCRIPTION:Join us for a weekend of high-energy\, swing dancing in our exclusive Collegiate Shag Workshop!\n\nStep back in time to the swingin’ days of the 1920s and 30s\, where the dance floor was electric and the moves were fast and full of flair. Whether you’re just starting your journey into the world of Collegiate Shag or looking to refine your skills\, we’ve got something for every dancer.\n\n#####\n\nSHAG EXPLORERS\nAre you ready to discover the thrill of this iconic swing dance? In these sessions\, we’ll dive into the basics of Collegiate Shag\, teaching you how to master the rhythm\, footwork\, main figures and connection that make this dance so addictive. Perfect for those who are new to the dance floor or just looking to get a solid foundation of the basics.\n\nSamstag & Sonntag\, 14.6. – 15.6.2025 (2x) | 10:00 – 12:45 \n→ Info & Anmeldung \n\nRequirements\nYou are new to Collegiate Shag or have attended one or a few taster classes\n\nSchedule\nSaturday\, June 14\, 2025\n10:00-12:45 (2.5h with15 min break) \nSocial Dancing\nShag’n’Shuffle Special @ ~20.30 (Social Dance included in Workshop ticket) \nSunday\, June 15\, 2025\n10:00-12:45 (2.5h with15 min break)\n\nWith the completion of this introductory workshop\, you’d be able to directly join the ongoing Thursday Collegiate Shag Basic 1 series (21:00-22:10) that starts on May 15\, 2025\n\nCollegiate Shag Basic 1 für Einsteiger*innen\nDonnerstag\, 15.5. – 10.7.2025 (8x) | 21:00 – 22:10\n→ Info & Anmeldung \n##### \nSHAG ENTHUSIASTS\nReady to take your Collegiate Shag game to the next level? This session is for dancers who have already caught the rhythm and want to refine their technique\, learn exciting variations\, and unlock new ways to shine on the dance floor. Bring your energy\, passion\, and groove\, and let’s kick it up a notch!\n*The content of this workshop will be adapted according to the level of the participants between Intermediate and Intermediate/Advanced.\n\nSamstag & Sonntag\, 14.6. – 15.6.2025 (2x) | 14:00 – 16:45 \n→ Info & Anmeldung \n\nRequirements\nYou have been dancing collegiate Shag for 1-2 (or more) years – either taking weekly classes or attending festivals. You are familiar with the basic figures and footwork variations.\n\nSchedule\nSaturday\, June 14\, 2025\n14:00-16:45 2.5h with15 min break) \nSaturday\, June 14\, 2025\nShag’n’Shuffle Special @ ~20.30 \nSunday\, June 15\, 2025\n14:00-16:45 (2.5h with15 min break)\n\nWith the completion of this workshop\, you will also get an assessment of your level and the ongoing Collegiate Shag course you could potentially join at Downtownswing.
URL:https://swingdanceevents.ch/event/collegiate-shag-workshop/2025-06-14/
LOCATION:Tanzstudio DOWNTOWNSWING\, Hohlstrasse 86a\, Zürich\, ZH\, 8004\, Switzerland
CATEGORIES:Class,DJ,Socialdance,Workshop
ATTACH;FMTTYPE=image/jpeg:https://swingdanceevents.ch/wp-content/uploads/2025/05/20250614_15-Collegiate-Shag-Workshop-Story.jpg
ORGANIZER;CN="Downtownswing":MAILTO:info@downtownswing.ch
END:VEVENT
BEGIN:VEVENT
DTSTART;TZID=Europe/Zurich:20250614T190000
DTEND;TZID=Europe/Zurich:20250614T233000
DTSTAMP:20260424T115426
CREATED:20250501T125528Z
LAST-MODIFIED:20250501T125528Z
UID:10002635-1749927600-1749943800@swingdanceevents.ch
SUMMARY:Swing Express
DESCRIPTION:Wir tanzen wieder in der Lokremise in St.Gallen! \nWir starten mit einem Balboa Crashkurs. Balboa ist ein Paartanz\, welcher mehrheitlich in der geschlossenen Tanzposition getanzt wird. Der Tanzstil eignet sich besonders gut für schnellere Musik! \nIm Anschluss gibt es einen Social Dance mit DJ Musik. Es gibt Musik für Lindy Hop\, Balboa\, Charleston… für Alle ist also etwas dabei! \n19:00-20:30 Balboa Crashkurs\nab 20:30 Social Dance mit DJ
URL:https://swingdanceevents.ch/event/swing-express-4/
LOCATION:Lokremise St.Gallen\, Grünbergstrasse 7\, St.Gallen\, SG\, 9000\, Switzerland
CATEGORIES:Crashcourse,DJ,Party,Socialdance
ATTACH;FMTTYPE=image/jpeg:https://swingdanceevents.ch/wp-content/uploads/2025/05/4336c7_10d2cc4de5314ef08a738ff6c5c0e61dmv2-1.jpeg
END:VEVENT
BEGIN:VEVENT
DTSTART;TZID=Europe/Zurich:20250614T203000
DTEND;TZID=Europe/Zurich:20250615T010000
DTSTAMP:20260424T115426
CREATED:20250602T074430Z
LAST-MODIFIED:20250602T074430Z
UID:10002671-1749933000-1749949200@swingdanceevents.ch
SUMMARY:Shag'n'Shuffle LIVE Special
DESCRIPTION:Are you ready to make your fast feet happy? Put on your Collegiate Shag or Balboa dancing shoes and join us at this SHAG’N’SHUFFLE LIVE SPECIAL!\nHalf-time at our Collegiate Shag Weekend Workshop – practice and apply all new steps\, moves and techniques – or simply have fun social dancing and share a good time with friends. \n🎷 Enjoy the energetic sounds by the The Pavilion Dance Quartet with Elena Pavlova (ts)\, Michel Münch (b/voc)\, Ueli Spoerri (dr) featuring Zarek Silberschmidt (g) and supported by DJ Karl.\n📍 Location: Downtownswing Studio\, Hohlstrasse 86a\, 8004 Zürich\n🎟️ Entry fee: CHF 25.–\nStudents: CHF 20.– \nWant to lend a helping hand 💪? Check out the available volunteer shifts here:\nhttps://portal.helfereinsatz.ch/downtownswing\nVolunteers get free entry + 1 drink! 🥤 THANK YOU for your support! 🌟
URL:https://swingdanceevents.ch/event/shagnshuffle-live-special/
LOCATION:Tanzstudio DOWNTOWNSWING\, Hohlstrasse 86a\, Zürich\, ZH\, 8004\, Switzerland
CATEGORIES:DJ,LiveBand,Party,Socialdance
ATTACH;FMTTYPE=image/jpeg:https://swingdanceevents.ch/wp-content/uploads/2025/06/20250614-ShagnShuffle-Special-A4-.jpg
ORGANIZER;CN="Downtownswing":MAILTO:info@downtownswing.ch
END:VEVENT
BEGIN:VEVENT
DTSTART;TZID=Europe/Zurich:20250615T100000
DTEND;TZID=Europe/Zurich:20250615T170000
DTSTAMP:20260424T115426
CREATED:20250505T110434Z
LAST-MODIFIED:20250505T110434Z
UID:10002640-1749981600-1750006800@swingdanceevents.ch
SUMMARY:Collegiate Shag Workshop
DESCRIPTION:Join us for a weekend of high-energy\, swing dancing in our exclusive Collegiate Shag Workshop!\n\nStep back in time to the swingin’ days of the 1920s and 30s\, where the dance floor was electric and the moves were fast and full of flair. Whether you’re just starting your journey into the world of Collegiate Shag or looking to refine your skills\, we’ve got something for every dancer.\n\n#####\n\nSHAG EXPLORERS\nAre you ready to discover the thrill of this iconic swing dance? In these sessions\, we’ll dive into the basics of Collegiate Shag\, teaching you how to master the rhythm\, footwork\, main figures and connection that make this dance so addictive. Perfect for those who are new to the dance floor or just looking to get a solid foundation of the basics.\n\nSamstag & Sonntag\, 14.6. – 15.6.2025 (2x) | 10:00 – 12:45 \n→ Info & Anmeldung \n\nRequirements\nYou are new to Collegiate Shag or have attended one or a few taster classes\n\nSchedule\nSaturday\, June 14\, 2025\n10:00-12:45 (2.5h with15 min break) \nSocial Dancing\nShag’n’Shuffle Special @ ~20.30 (Social Dance included in Workshop ticket) \nSunday\, June 15\, 2025\n10:00-12:45 (2.5h with15 min break)\n\nWith the completion of this introductory workshop\, you’d be able to directly join the ongoing Thursday Collegiate Shag Basic 1 series (21:00-22:10) that starts on May 15\, 2025\n\nCollegiate Shag Basic 1 für Einsteiger*innen\nDonnerstag\, 15.5. – 10.7.2025 (8x) | 21:00 – 22:10\n→ Info & Anmeldung \n##### \nSHAG ENTHUSIASTS\nReady to take your Collegiate Shag game to the next level? This session is for dancers who have already caught the rhythm and want to refine their technique\, learn exciting variations\, and unlock new ways to shine on the dance floor. Bring your energy\, passion\, and groove\, and let’s kick it up a notch!\n*The content of this workshop will be adapted according to the level of the participants between Intermediate and Intermediate/Advanced.\n\nSamstag & Sonntag\, 14.6. – 15.6.2025 (2x) | 14:00 – 16:45 \n→ Info & Anmeldung \n\nRequirements\nYou have been dancing collegiate Shag for 1-2 (or more) years – either taking weekly classes or attending festivals. You are familiar with the basic figures and footwork variations.\n\nSchedule\nSaturday\, June 14\, 2025\n14:00-16:45 2.5h with15 min break) \nSaturday\, June 14\, 2025\nShag’n’Shuffle Special @ ~20.30 \nSunday\, June 15\, 2025\n14:00-16:45 (2.5h with15 min break)\n\nWith the completion of this workshop\, you will also get an assessment of your level and the ongoing Collegiate Shag course you could potentially join at Downtownswing.
URL:https://swingdanceevents.ch/event/collegiate-shag-workshop/2025-06-15/
LOCATION:Tanzstudio DOWNTOWNSWING\, Hohlstrasse 86a\, Zürich\, ZH\, 8004\, Switzerland
CATEGORIES:Class,DJ,Socialdance,Workshop
ATTACH;FMTTYPE=image/jpeg:https://swingdanceevents.ch/wp-content/uploads/2025/05/20250614_15-Collegiate-Shag-Workshop-Story.jpg
ORGANIZER;CN="Downtownswing":MAILTO:info@downtownswing.ch
END:VEVENT
BEGIN:VEVENT
DTSTART;TZID=Europe/Zurich:20250615T160000
DTEND;TZID=Europe/Zurich:20250615T190000
DTSTAMP:20260424T115426
CREATED:20250529T134123Z
LAST-MODIFIED:20250529T134330Z
UID:10002670-1750003200-1750014000@swingdanceevents.ch
SUMMARY:Tea Time Swing – Special (live)
DESCRIPTION:Ein Spezial Tea Time Swing mit feinem Kuchen und Swing Musik zum Tanzen\, von 16:00 bis 19:00 Uhr. \nAchtung: neue Location! Kommt und testet mit uns diesen Ort! \nMusik:\nBillie’s Buddies (live)\nDJ Crossover \nEintritt:\nCHF 20.- (Legi: 15.-) \nKuchen backen:\nUnterstütze uns mit einem selbstgebackenen Kuchen und erhalte einen Eintritt & Kuchen. \nMitmachen:\nHilf uns beim Kuchenverkauf oder an der Eintrittskasse und erhalten freien Eintritt. Melde dich unter:\nportal.helfereinsatz.ch/teatimeswing
URL:https://swingdanceevents.ch/event/tea-time-swing-special-live/
LOCATION:Fusion Dance Studios\, Albulastrasse 47 (5. Stock)\, Zürich\, ZH\, 8048\, Switzerland
CATEGORIES:DJ,LiveBand,Party,Socialdance
ATTACH;FMTTYPE=image/png:https://swingdanceevents.ch/wp-content/uploads/2025/05/2025_tts_einmal_anders.png
ORGANIZER;CN="Tea Time Swing Z%C3%BCrich":MAILTO:info@www.teatimeswing.ch
END:VEVENT
BEGIN:VEVENT
DTSTART;TZID=Europe/Zurich:20250615T190000
DTEND;TZID=Europe/Zurich:20250615T220000
DTSTAMP:20260424T115426
CREATED:20250523T062405Z
LAST-MODIFIED:20251105T144147Z
UID:10002652-1750014000-1750024800@swingdanceevents.ch
SUMMARY:BLUES SOCIAL DANCE
DESCRIPTION:last Blues Party on Sunday before Summer Break.\nWelcome to the Blues Social Dance at el Social (el Boge)\nwww.elsocial.ch
URL:https://swingdanceevents.ch/event/blues-social-dance-7-2/2025-06-15/
LOCATION:El Social\, Viaduktstrasse 64\, Zürich\, ZH\, 8005\, Switzerland
CATEGORIES:DJ,Party,Socialdance
ATTACH;FMTTYPE=image/jpeg:https://swingdanceevents.ch/wp-content/uploads/2025/02/2025Feb.jpg
ORGANIZER;CN="El Social":MAILTO:info@elsocial.ch
END:VEVENT
END:VCALENDAR