BEGIN:VCALENDAR
VERSION:2.0
PRODID:-//Swing Dance Events Switzerland - ECPv6.15.20//NONSGML v1.0//EN
CALSCALE:GREGORIAN
METHOD:PUBLISH
X-WR-CALNAME:Swing Dance Events Switzerland
X-ORIGINAL-URL:https://swingdanceevents.ch
X-WR-CALDESC:Veranstaltungen für Swing Dance Events Switzerland
REFRESH-INTERVAL;VALUE=DURATION:PT1H
X-Robots-Tag:noindex
X-PUBLISHED-TTL:PT1H
BEGIN:VTIMEZONE
TZID:Europe/Zurich
BEGIN:DAYLIGHT
TZOFFSETFROM:+0100
TZOFFSETTO:+0200
TZNAME:CEST
DTSTART:20240331T010000
END:DAYLIGHT
BEGIN:STANDARD
TZOFFSETFROM:+0200
TZOFFSETTO:+0100
TZNAME:CET
DTSTART:20241027T010000
END:STANDARD
BEGIN:DAYLIGHT
TZOFFSETFROM:+0100
TZOFFSETTO:+0200
TZNAME:CEST
DTSTART:20250330T010000
END:DAYLIGHT
BEGIN:STANDARD
TZOFFSETFROM:+0200
TZOFFSETTO:+0100
TZNAME:CET
DTSTART:20251026T010000
END:STANDARD
BEGIN:DAYLIGHT
TZOFFSETFROM:+0100
TZOFFSETTO:+0200
TZNAME:CEST
DTSTART:20260329T010000
END:DAYLIGHT
BEGIN:STANDARD
TZOFFSETFROM:+0200
TZOFFSETTO:+0100
TZNAME:CET
DTSTART:20261025T010000
END:STANDARD
END:VTIMEZONE
BEGIN:VEVENT
DTSTART;TZID=Europe/Zurich:20250701T190000
DTEND;TZID=Europe/Zurich:20250701T233000
DTSTAMP:20260425T171735
CREATED:20250624T080545Z
LAST-MODIFIED:20250625T074414Z
UID:10002503-1751396400-1751412600@swingdanceevents.ch
SUMMARY:El Boge Swing Live THE MONDAY SWING Social & Classes (beginners welcome)
DESCRIPTION:The Tuesday El Boge Swing Social this week with a live band. With THE MONDAY SWING feat Dave Hasler at the guitar we’re swinging the floor8:15 p.m. – 11:30 p.m. Social dance with THE MONDAY SWING & DJ7:30 p.m. – 8:15 p.m. Lindy 1 walk in class with Beatrice Neagu (Belgium) & Muetze (just walk in\, no partner necessary)7:00 p.m. – 7:30 p.m. free Lindy Crash Course\nParty CHF 25.- \, CHF20.- legi and class participantsClass CHF 20.-
URL:https://swingdanceevents.ch/event/el-boge-swing-social-classes-beginners-welcome-6-2-2-3-3-3-2-2-4-3-4-2-5-4-2-2-2-2-2-2-2-2/
LOCATION:El Social\, Viaduktstrasse 64\, Zürich\, ZH\, 8005\, Switzerland
CATEGORIES:Class,Crashcourse,DJ,LiveBand,Party,Socialdance
ATTACH;FMTTYPE=image/png:https://swingdanceevents.ch/wp-content/uploads/2025/06/Mondayswing20250701.png
END:VEVENT
BEGIN:VEVENT
DTSTART;TZID=Europe/Zurich:20250703T200000
DTEND;TZID=Europe/Zurich:20250703T223000
DTSTAMP:20260425T171735
CREATED:20241002T161735Z
LAST-MODIFIED:20250415T163124Z
UID:10002295-1751572800-1751581800@swingdanceevents.ch
SUMMARY:Bürkli-Hop @ Platzspitz
DESCRIPTION:Don’t miss Zürich’s outdoor Socialdance for LindyHop Balboa Shag SoloJazz etc. more info & community: https://www.facebook.com/groups/buerklihop Free\, it’s a noncomercial szene-meeting run by szene members.
URL:https://swingdanceevents.ch/event/buerkli-hop-ersatzstandort/2025-07-03/
LOCATION:Platzspitz Musikpavilion\, Platzpromenade 5\, Zürich\, ZH\, 8001\, Switzerland
CATEGORIES:DJ,Party,Socialdance
ATTACH;FMTTYPE=image/jpeg:https://swingdanceevents.ch/wp-content/uploads/2024/10/Season2025.jpg
ORGANIZER;CN="The B%C3%BCrkliHop Syndicat by Z%C3%BCrich's Lindy Szene":MAILTO:buerklihop@google.com
END:VEVENT
BEGIN:VEVENT
DTSTART;TZID=Europe/Zurich:20250704T200000
DTEND;TZID=Europe/Zurich:20250704T235500
DTSTAMP:20260425T171735
CREATED:20250501T130144Z
LAST-MODIFIED:20250501T130144Z
UID:10002636-1751659200-1751673300@swingdanceevents.ch
SUMMARY:Hop\, an Weiher!
DESCRIPTION:Am Freitag\, 4. Juli 2025 öffnen wir von 20 Uhr bis Mitternacht die Tore zur Frauenbadi und laden alle Tänzerinnen und Tänzer herzlich ein zum “Hop\, an Weiher!” mit Livemusik von der “Peter Bischof Jazzband”. \n10.- Eintritt / Getränke & Essen müssen selbst mitgebracht werden \nAuch in diesem Jahr veranstalten wir neben Swing Dance am Wasser ein “Buffet Canadien”: Alle bringen etwas zum Teilen mit. Beginnt dein Nachname mit A-M\, bringst du etwas Salziges (bitte nichts zum Grillen). Ist der erste Buchstabe deines Nachnamens ein N-Z\, freuen wir uns über einen süssen Beitrag. Der Umwelt zuliebe benutzen wir kein Wegwerfgeschirr. Für die nötigen Utensilien (Geschirr\, Besteck\, Gläser und Co) ist jede*r selbst verantwortlich. \nHop\, an Weiher! wird nur bei schönem Wetter veranstaltet. Ob der Event stattfindet\, erfährst du bis Freitag\, 13 Uhr auf sitterbugs.ch. \nWir freuen uns aufs Tanzen\, Geniessen und gemütliche Beisammensein mit euch!
URL:https://swingdanceevents.ch/event/hop-an-weiher/
LOCATION:Familienbad Dreilinden\, Dreilindenstrasse 50\, St. Gallen\, 9011
CATEGORIES:DJ,LiveBand
ATTACH;FMTTYPE=image/jpeg:https://swingdanceevents.ch/wp-content/uploads/2025/05/20250704_hop-an-Weier-21-2.jpg
END:VEVENT
END:VCALENDAR