BEGIN:VCALENDAR
VERSION:2.0
PRODID:-//Swing Dance Events Switzerland - ECPv6.15.20//NONSGML v1.0//EN
CALSCALE:GREGORIAN
METHOD:PUBLISH
X-ORIGINAL-URL:https://swingdanceevents.ch
X-WR-CALDESC:Veranstaltungen für Swing Dance Events Switzerland
REFRESH-INTERVAL;VALUE=DURATION:PT1H
X-Robots-Tag:noindex
X-PUBLISHED-TTL:PT1H
BEGIN:VTIMEZONE
TZID:Europe/Zurich
BEGIN:DAYLIGHT
TZOFFSETFROM:+0100
TZOFFSETTO:+0200
TZNAME:CEST
DTSTART:20240331T010000
END:DAYLIGHT
BEGIN:STANDARD
TZOFFSETFROM:+0200
TZOFFSETTO:+0100
TZNAME:CET
DTSTART:20241027T010000
END:STANDARD
BEGIN:DAYLIGHT
TZOFFSETFROM:+0100
TZOFFSETTO:+0200
TZNAME:CEST
DTSTART:20250330T010000
END:DAYLIGHT
BEGIN:STANDARD
TZOFFSETFROM:+0200
TZOFFSETTO:+0100
TZNAME:CET
DTSTART:20251026T010000
END:STANDARD
BEGIN:DAYLIGHT
TZOFFSETFROM:+0100
TZOFFSETTO:+0200
TZNAME:CEST
DTSTART:20260329T010000
END:DAYLIGHT
BEGIN:STANDARD
TZOFFSETFROM:+0200
TZOFFSETTO:+0100
TZNAME:CET
DTSTART:20261025T010000
END:STANDARD
END:VTIMEZONE
BEGIN:VEVENT
DTSTART;TZID=Europe/Zurich:20250714T183000
DTEND;TZID=Europe/Zurich:20250718T220000
DTSTAMP:20260425T172645
CREATED:20250623T200113Z
LAST-MODIFIED:20250623T200113Z
UID:10002688-1752517800-1752876000@swingdanceevents.ch
SUMMARY:Triplestep Sommerwoche
DESCRIPTION:Triplestep Sommerkurse\n14. – 18. Juli & 4. – 8. August 2025 \nIn diesem Sommer bieten wir während zwei Wochen ein ganz gemischtes Programm an Sommerworkshops an. Das ist eine super Gelegenheit neue Tänze\, Teachers und Techniken kennenzulernen!\nIm Angebot sind bewährte Klassiker und auch (für Triplestep) neuere Tänze:\nWest Coast Swing\, Lindy Hop\, Soft Shoe Tap\, Spiraldynamik & Tanz\, Slow Bal & Laminu\nDie Kurse füllen sich\, also go go go… \nDie beiden Kurswochen schliessen wir ab mit einem Kieselsteinswing am Freitag\, 18.7. und Freitag\, 8.8.2025\nSchönwetter: 19.30 – 22.00 Helvetiaplatz\, Luzern\nSchlechtewetter: 20.15 – 24.00 Sousol\, Luzern \nwww.triplestep.ch \nStundenplan:\nhttps://www.triplestep.ch/angebot-1/sommerkurse-stundenplan/
URL:https://swingdanceevents.ch/event/triplestep-sommerwoche-2/
LOCATION:Sousol Luzern\, Baselstrasse 13\, Luzern\, Luzern\, 6003
CATEGORIES:Class,DJ,Party,Socialdance,Workshop
ATTACH;FMTTYPE=image/jpeg:https://swingdanceevents.ch/wp-content/uploads/2025/06/SK25-titel.jpg
ORGANIZER;CN="Triplestep":MAILTO:kontakt@triplestep.ch
END:VEVENT
BEGIN:VEVENT
DTSTART;TZID=Europe/Zurich:20250715T190000
DTEND;TZID=Europe/Zurich:20250715T233000
DTSTAMP:20260425T172645
CREATED:20250624T074751Z
LAST-MODIFIED:20250714T174937Z
UID:10002505-1752606000-1752622200@swingdanceevents.ch
SUMMARY:El Boge Swing Social & Classes (beginners welcome)
DESCRIPTION:Der Dienstag El Boge Swing Social. \n\n20.15 – 23:30 Socialdance mit DJ (Fr.10.-\, 5.- für Teilnehmer Klasse)\n\n19:00 – 19:30 free Lindy CrashCourse\n19:30 – 20:15 Lindy 1 walk in class mit Julio or Muetze Fr.20.- (just walk in\, kein Partner notwendig)
URL:https://swingdanceevents.ch/event/el-boge-swing-social-classes-beginners-welcome-6-2-2-3-3-3-2-2-4-3-4-2-5-4-2-2-2-2-2-2-2/
LOCATION:El Social\, Viaduktstrasse 64\, Zürich\, ZH\, 8005\, Switzerland
CATEGORIES:Class,Crashcourse,DJ,Party,Socialdance
ATTACH;FMTTYPE=image/png:https://swingdanceevents.ch/wp-content/uploads/2025/06/FlyerBogen2025_Tuesday_July-6.png
END:VEVENT
BEGIN:VEVENT
DTSTART;TZID=Europe/Zurich:20250717T200000
DTEND;TZID=Europe/Zurich:20250717T223000
DTSTAMP:20260425T172645
CREATED:20241002T161735Z
LAST-MODIFIED:20250415T163124Z
UID:10002297-1752782400-1752791400@swingdanceevents.ch
SUMMARY:Bürkli-Hop @ Platzspitz
DESCRIPTION:Don’t miss Zürich’s outdoor Socialdance for LindyHop Balboa Shag SoloJazz etc. more info & community: https://www.facebook.com/groups/buerklihop Free\, it’s a noncomercial szene-meeting run by szene members.
URL:https://swingdanceevents.ch/event/buerkli-hop-ersatzstandort/2025-07-17/
LOCATION:Platzspitz Musikpavilion\, Platzpromenade 5\, Zürich\, ZH\, 8001\, Switzerland
CATEGORIES:DJ,Party,Socialdance
ATTACH;FMTTYPE=image/jpeg:https://swingdanceevents.ch/wp-content/uploads/2024/10/Season2025.jpg
ORGANIZER;CN="The B%C3%BCrkliHop Syndicat by Z%C3%BCrich's Lindy Szene":MAILTO:buerklihop@google.com
END:VEVENT
BEGIN:VEVENT
DTSTART;TZID=Europe/Zurich:20250720T190000
DTEND;TZID=Europe/Zurich:20250720T220000
DTSTAMP:20260425T172645
CREATED:20250523T062405Z
LAST-MODIFIED:20251105T144147Z
UID:10002653-1753038000-1753048800@swingdanceevents.ch
SUMMARY:BLUES SOCIAL DANCE
DESCRIPTION:last Blues Party on Sunday before Summer Break.\nWelcome to the Blues Social Dance at el Social (el Boge)\nwww.elsocial.ch
URL:https://swingdanceevents.ch/event/blues-social-dance-7-2/2025-07-20/
LOCATION:El Social\, Viaduktstrasse 64\, Zürich\, ZH\, 8005\, Switzerland
CATEGORIES:DJ,Party,Socialdance
ATTACH;FMTTYPE=image/jpeg:https://swingdanceevents.ch/wp-content/uploads/2025/02/2025Feb.jpg
ORGANIZER;CN="El Social":MAILTO:info@elsocial.ch
END:VEVENT
END:VCALENDAR