BEGIN:VCALENDAR
VERSION:2.0
PRODID:-//Swing Dance Events Switzerland - ECPv6.15.20//NONSGML v1.0//EN
CALSCALE:GREGORIAN
METHOD:PUBLISH
X-WR-CALNAME:Swing Dance Events Switzerland
X-ORIGINAL-URL:https://swingdanceevents.ch
X-WR-CALDESC:Veranstaltungen für Swing Dance Events Switzerland
REFRESH-INTERVAL;VALUE=DURATION:PT1H
X-Robots-Tag:noindex
X-PUBLISHED-TTL:PT1H
BEGIN:VTIMEZONE
TZID:Europe/Zurich
BEGIN:DAYLIGHT
TZOFFSETFROM:+0100
TZOFFSETTO:+0200
TZNAME:CEST
DTSTART:20240331T010000
END:DAYLIGHT
BEGIN:STANDARD
TZOFFSETFROM:+0200
TZOFFSETTO:+0100
TZNAME:CET
DTSTART:20241027T010000
END:STANDARD
BEGIN:DAYLIGHT
TZOFFSETFROM:+0100
TZOFFSETTO:+0200
TZNAME:CEST
DTSTART:20250330T010000
END:DAYLIGHT
BEGIN:STANDARD
TZOFFSETFROM:+0200
TZOFFSETTO:+0100
TZNAME:CET
DTSTART:20251026T010000
END:STANDARD
BEGIN:DAYLIGHT
TZOFFSETFROM:+0100
TZOFFSETTO:+0200
TZNAME:CEST
DTSTART:20260329T010000
END:DAYLIGHT
BEGIN:STANDARD
TZOFFSETFROM:+0200
TZOFFSETTO:+0100
TZNAME:CET
DTSTART:20261025T010000
END:STANDARD
END:VTIMEZONE
BEGIN:VEVENT
DTSTART;TZID=Europe/Zurich:20250826T190000
DTEND;TZID=Europe/Zurich:20250826T233000
DTSTAMP:20260425T184254
CREATED:20250825T125822Z
LAST-MODIFIED:20250825T125823Z
UID:10002511-1756234800-1756251000@swingdanceevents.ch
SUMMARY:El Boge Swing Social & Classes (beginners welcome)
DESCRIPTION:Der Dienstag El Boge Swing Social. \n\n20.15 – 23:30 Socialdance mit DJ (Fr.10.-\, 5.- für Teilnehmer Klasse)\n\n19:00 – 19:30 free Lindy CrashCourse\n19:30 – 20:15 Lindy 1 walk in class mit Julio or Muetze Fr.20.- (just walk in\, kein Partner notwendig)
URL:https://swingdanceevents.ch/event/el-boge-swing-social-classes-beginners-welcome-6-2-2-3-3-3-2-2-4-3-4-2-5-4-2-2-2-2-2-2-2-5-2-3/
LOCATION:El Social\, Viaduktstrasse 64\, Zürich\, ZH\, 8005\, Switzerland
CATEGORIES:Class,Crashcourse,DJ,Party,Socialdance
ATTACH;FMTTYPE=image/png:https://swingdanceevents.ch/wp-content/uploads/2025/08/FlyerBogen2025_Tuesday_Augustl-1.png
END:VEVENT
BEGIN:VEVENT
DTSTART;TZID=Europe/Zurich:20250828T200000
DTEND;TZID=Europe/Zurich:20250828T230000
DTSTAMP:20260425T184254
CREATED:20250824T203332Z
LAST-MODIFIED:20250824T203334Z
UID:10002303-1756411200-1756422000@swingdanceevents.ch
SUMMARY:Bürkli-Hop BACK@BÜRKLIPLATZ
DESCRIPTION:WIR SIND ZURÜCK AUF DEM BÜRKLIPLATZ \nDon’t miss Zürich’s outdoor Socialdance for LindyHop Balboa Shag SoloJazz etc. more info & community: https://www.facebook.com/groups/buerklihop Free\, it’s a noncomercial szene-meeting run by szene members.
URL:https://swingdanceevents.ch/event/buerkli-hop-ersatzstandort-5-2/2025-08-28/
LOCATION:Bürkliplatz Musikpavillon\, Musikpavillon\, Tram Bürkliplatz\, Zürich\, ZH\, 8001\, Switzerland
CATEGORIES:DJ,Party,Socialdance
ATTACH;FMTTYPE=image/jpeg:https://swingdanceevents.ch/wp-content/uploads/2025/08/Season2023.jpg
ORGANIZER;CN="The B%C3%BCrkliHop Syndicat by Z%C3%BCrich's Lindy Szene":MAILTO:buerklihop@google.com
END:VEVENT
BEGIN:VEVENT
DTSTART;TZID=Europe/Zurich:20250829T193000
DTEND;TZID=Europe/Zurich:20250829T230000
DTSTAMP:20260425T184254
CREATED:20250827T210005Z
LAST-MODIFIED:20250827T210005Z
UID:10002892-1756495800-1756508400@swingdanceevents.ch
SUMMARY:Hermlin's Swing Dance Orchestra: Swing Dancers goes Meilen Jazz Tage
DESCRIPTION:Meilen Jazz Tage hat mit dem Hermlin Swing Dance Orchestra eines der besten Orchester zum LindyHop und Swing Tanzen! Der Organisator bietet nun Platz zum Tanzen in einem schönen Ballsaal und Rabatt für angemeldete Tänzer (Freitag Ticket 25.- anstelle 39.-). Anmeldung goingmeilen@swingdanceevents.ch bis Donnerstag Abend\nSWING DANCE ORCHESTRA\nDirekt aus Berlin kommen Andrej Hermlin und sein 18köpfiges Orchester nach Meilen und bringen den Originalsound aus den 30er Jahren mit. Unplugged und schlicht grossartig! \nWeitere Informationen zur Band https://swingdanceorchestra.de/#music \nBühne: Jürg Wille Saal – 19.30 Uhr \n\n\n\n\n  \nUnd The Sheiks sind auch da!!!!!\n\n\n\n\nTHE SHEIKS\nSie sind bewegt von der Liebe für die Musik der «good old days»! 6 Köpfe\, 12 Hände und 6 Herzen – man muss einfach mittanzen. \nYoutube-Video «The Sheiks – I’ve found a new baby (Live)» \nBühne: Zelt – 18.00 / 20.00 /22.00 Uhr
URL:https://swingdanceevents.ch/event/hermlins-swing-dance-orchestra-swing-dancers-goes-meilen-jazz-tage/
LOCATION:Jürg Wille Saal Meilen\, Seestrasse 595\, Meilen\, ZH\, 8706\, Switzerland
CATEGORIES:LiveBand,Party
ATTACH;FMTTYPE=image/jpeg:https://swingdanceevents.ch/wp-content/uploads/2025/08/bandbild-orchestra.jpg
END:VEVENT
BEGIN:VEVENT
DTSTART;TZID=Europe/Zurich:20250830T110000
DTEND;TZID=Europe/Zurich:20250830T133000
DTSTAMP:20260425T184254
CREATED:20250603T100446Z
LAST-MODIFIED:20250707T143732Z
UID:10002674-1756551600-1756560600@swingdanceevents.ch
SUMMARY:Chorus Line Workshop
DESCRIPTION:Date: 30.08.2025     Time: 11:00-13:30     Price: 70/45 (reduced) \nIf you’re curious about the tradition of chorus line girls\, this workshop is for you! Together with Ori you will explore the contribution of these female dancers to the entertainment scene during the Harlem renaissance and learn a chorus line inspired routine. Get ready to work on synchronized movements\, percussive footwork and performative elements ! \nThis workshop is meant for intermediate/advanced dancers. All genders welcome.
URL:https://swingdanceevents.ch/event/chorus-line-workshop/
LOCATION:Ella’s Fellas\, Hohsltrasse\, Hohlstrasse 192\, Zürich\, zürich\, 8004\, Switzerland
ATTACH;FMTTYPE=image/png:https://swingdanceevents.ch/wp-content/uploads/2025/06/Workshops-5.png
ORGANIZER;CN="Ella's Fellas":MAILTO:info@ellasfellas.ch
END:VEVENT
BEGIN:VEVENT
DTSTART;TZID=Europe/Zurich:20250830T193000
DTEND;TZID=Europe/Zurich:20250830T233000
DTSTAMP:20260425T184254
CREATED:20250812T143611Z
LAST-MODIFIED:20251028T221451Z
UID:10002862-1756582200-1756596600@swingdanceevents.ch
SUMMARY:DOWN TOWN SOCIAL - Hello Balboa! Mit kostenlosem Balboa Schnupperkurs
DESCRIPTION:Ein DOWN TOWN SPECIAL im November: HELLO BALBOA! \nFreu dich auf 🎧 DJBKey & DJ Stefan und Songs\, die deine Balboa Füssen aufwecken lassen. \nAlle Tänzer*innen sind selbstverständlich willkommen – das Tempo der Musik wird lediglich leicht schneller als bei einem “normalen” DOWN TOWN SOCIAL sein 😍 \nSamstag\, 29. November 2025 ab 19:30 \nhttps://app.downtownswing.ch/de/events/down-town-social \n🎟️ CHF 15.00 / mit Legi CHF 10.00 \n*** \nDu suchst nach einer Möglichkeit und Inspiration\, zu schneller Musik zu tanzen? Besuche uns am kostenlosen Balboa Schnupperkurs und starte an der Party gleich durch: \nKostenloser Balboa Schnupperkurs \nSamstag\, 29.11.2025 | 18:30 – 19:15 \n→ Info & Anmeldung \nAnmeldung empfohlen\, dir die Teilnahme zu sichern \nDieser Schnupperkurs ist super geeignet\, für Interessent*innen\, die planen im Beginner-Improver Track am Bal-Inspiration 2026 teilzunehmen 💪 und noch keine oder wenig Balboa Erfahrung sammeln konnten. \n\n🙌 Helfer*innen gesucht!\nKomm mit ins Team und hilf beim Aufbau\, der Eintrittskontrolle oder beim Abbau! 🙏 Als Dankeschön gibt’s freien Eintritt und 1 Getränk 🍻 – merci vielmals für deinen Support! 💖 \n💥 Link zu den Helfereinsätzen \nVielen Dank für deinen Support! 🙌❤️
URL:https://swingdanceevents.ch/event/down-town-social-10/2025-08-30/
LOCATION:Tanzstudio DOWNTOWNSWING\, Hohlstrasse 86a\, Zürich\, ZH\, 8004\, Switzerland
CATEGORIES:DJ,LiveBand,Party,Socialdance
ATTACH;FMTTYPE=image/jpeg:https://swingdanceevents.ch/wp-content/uploads/2025/08/20250707-down-town-social-flyer-dates-2025-sep-dez.jpg
ORGANIZER;CN="Downtownswing":MAILTO:info@downtownswing.ch
END:VEVENT
END:VCALENDAR