BEGIN:VCALENDAR
VERSION:2.0
PRODID:-//Swing Dance Events Switzerland - ECPv6.15.20//NONSGML v1.0//EN
CALSCALE:GREGORIAN
METHOD:PUBLISH
X-ORIGINAL-URL:https://swingdanceevents.ch
X-WR-CALDESC:Veranstaltungen für Swing Dance Events Switzerland
REFRESH-INTERVAL;VALUE=DURATION:PT1H
X-Robots-Tag:noindex
X-PUBLISHED-TTL:PT1H
BEGIN:VTIMEZONE
TZID:Europe/Zurich
BEGIN:DAYLIGHT
TZOFFSETFROM:+0100
TZOFFSETTO:+0200
TZNAME:CEST
DTSTART:20240331T010000
END:DAYLIGHT
BEGIN:STANDARD
TZOFFSETFROM:+0200
TZOFFSETTO:+0100
TZNAME:CET
DTSTART:20241027T010000
END:STANDARD
BEGIN:DAYLIGHT
TZOFFSETFROM:+0100
TZOFFSETTO:+0200
TZNAME:CEST
DTSTART:20250330T010000
END:DAYLIGHT
BEGIN:STANDARD
TZOFFSETFROM:+0200
TZOFFSETTO:+0100
TZNAME:CET
DTSTART:20251026T010000
END:STANDARD
BEGIN:DAYLIGHT
TZOFFSETFROM:+0100
TZOFFSETTO:+0200
TZNAME:CEST
DTSTART:20260329T010000
END:DAYLIGHT
BEGIN:STANDARD
TZOFFSETFROM:+0200
TZOFFSETTO:+0100
TZNAME:CET
DTSTART:20261025T010000
END:STANDARD
END:VTIMEZONE
BEGIN:VEVENT
DTSTART;TZID=Europe/Zurich:20250901T200000
DTEND;TZID=Europe/Zurich:20250901T223000
DTSTAMP:20260424T115515
CREATED:20250723T121817Z
LAST-MODIFIED:20250723T121817Z
UID:10002827-1756756800-1756765800@swingdanceevents.ch
SUMMARY:Fast Feet Hop Platzspitz
DESCRIPTION:We created this new social for all fans of fast feet\, especially Balboa and Shag dancers! Come around and shag out! \n  \nLocation: Pavillon at Platzspitz
URL:https://swingdanceevents.ch/event/fast-feet-hop-platzspitz/2025-09-01/
LOCATION:platzspitz zürich
ATTACH;FMTTYPE=image/jpeg:https://swingdanceevents.ch/wp-content/uploads/2025/07/FunPic_20250512_191134010.jpg
END:VEVENT
BEGIN:VEVENT
DTSTART;TZID=Europe/Zurich:20250902T190000
DTEND;TZID=Europe/Zurich:20250902T233000
DTSTAMP:20260424T115515
CREATED:20250827T201639Z
LAST-MODIFIED:20250901T050302Z
UID:10002512-1756839600-1756855800@swingdanceevents.ch
SUMMARY:El Boge Swing Social & Classes (beginners welcome)
DESCRIPTION:Der Dienstag El Boge Swing Social. \n\n20.15 – 23:30 Socialdance mit DJ (Fr.10.-\, 5.- für Teilnehmer Klasse)\nLindy Hop Klassen \n\n19:00 – 19:30 free Lindy CrashCourse\n19:30 – 20:15 Lindy 1 walk in class Fr.20.- (just walk in\, kein Partner notwendig).\nTeachers: Marco & Alina\, Julio & Simone\, Matej\, Eike\n\n\nSoloJazz / Jazzroots\n\n18:00 – 18:45 SoloJazz open level walk in Class\, beginners welcome\nTeacher Marco Muetze\n\n\n\nAlle Klassen benötigen keine Anmeldung. Kommt einfach vorbei auf den Klassenstart.
URL:https://swingdanceevents.ch/event/el-boge-swing-social-classes-beginners-welcome-6-2-2-3-3-3-2-2-4-3-4-2-5-4-2-2-2-2-2-2-2-5-2-3-2/
LOCATION:El Social\, Viaduktstrasse 64\, Zürich\, ZH\, 8005\, Switzerland
CATEGORIES:Class,Crashcourse,DJ,Party,Socialdance
ATTACH;FMTTYPE=image/png:https://swingdanceevents.ch/wp-content/uploads/2025/08/FlyerBogen2025_Tuesday_September-1.png
END:VEVENT
BEGIN:VEVENT
DTSTART;TZID=Europe/Zurich:20250903T194500
DTEND;TZID=Europe/Zurich:20250903T204500
DTSTAMP:20260424T115515
CREATED:20250822T163757Z
LAST-MODIFIED:20250822T163757Z
UID:10002877-1756928700-1756932300@swingdanceevents.ch
SUMMARY:Blues Intro to Jookin’
DESCRIPTION:Learn to dance blues! Blues dances are a family of dances originated in Afro-American communities at the beginning of the 20th century. Like the music\, the dances are diverse and soulful. \nClasses will be taught in English (German translation available).
URL:https://swingdanceevents.ch/event/blues-intro-to-jookin/
LOCATION:Backstage Studio\, Hardstrasse 81\, Zürich\, Zürich\, 8004\, Switzerland
ATTACH;FMTTYPE=image/jpeg:https://swingdanceevents.ch/wp-content/uploads/2025/08/ClassParty_BlossomBlues2019-1200x801-1.jpg
ORGANIZER;CN="Blues and more":MAILTO:registerbluesli@gmail.com
END:VEVENT
BEGIN:VEVENT
DTSTART;TZID=Europe/Zurich:20250904T200000
DTEND;TZID=Europe/Zurich:20250904T230000
DTSTAMP:20260424T115515
CREATED:20250824T203332Z
LAST-MODIFIED:20250824T203334Z
UID:10002304-1757016000-1757026800@swingdanceevents.ch
SUMMARY:Bürkli-Hop BACK@BÜRKLIPLATZ
DESCRIPTION:WIR SIND ZURÜCK AUF DEM BÜRKLIPLATZ \nDon’t miss Zürich’s outdoor Socialdance for LindyHop Balboa Shag SoloJazz etc. more info & community: https://www.facebook.com/groups/buerklihop Free\, it’s a noncomercial szene-meeting run by szene members.
URL:https://swingdanceevents.ch/event/buerkli-hop-ersatzstandort-5-2/2025-09-04/
LOCATION:Bürkliplatz Musikpavillon\, Musikpavillon\, Tram Bürkliplatz\, Zürich\, ZH\, 8001\, Switzerland
CATEGORIES:DJ,Party,Socialdance
ATTACH;FMTTYPE=image/jpeg:https://swingdanceevents.ch/wp-content/uploads/2025/08/Season2023.jpg
ORGANIZER;CN="The B%C3%BCrkliHop Syndicat by Z%C3%BCrich's Lindy Szene":MAILTO:buerklihop@google.com
END:VEVENT
BEGIN:VEVENT
DTSTART;TZID=Europe/Zurich:20250906T193000
DTEND;TZID=Europe/Zurich:20250907T010000
DTSTAMP:20260424T115515
CREATED:20250827T145933Z
LAST-MODIFIED:20250827T150039Z
UID:10002886-1757187000-1757206800@swingdanceevents.ch
SUMMARY:Lost in Swing im Feuerwehrmuseum DEPOT 61
DESCRIPTION:Lost in Swing aus Lausanne bei und in St.Gallen! Das Besondere an diesem Social Dance ist unsere Lociation\, die wir erstmalig austesten. Die Band heitzt dem Feuerwehrmuseum DEPOT 61 bestimmt richtig ein und falls der Funke zu sehr überspringt\, sind wir auch direkt am richtigen Ort. \nTaster «Charleston Tandem Fun!»: 19.30 – 20.30 Uhr\nFür Tänzer:innen\, die bereits Lindy tanzen und Charleston Basics beherrschen. \nEintritt: 25 Fr. Nichtmitglieder / 20 Fr. Mitglieder\, Kulturlegi \nOrt: Feuerwehrmuseum DEPOT 61\, Burgstrasse 61\, 9000 St. Gallen\, Schweiz
URL:https://swingdanceevents.ch/event/lost-in-swing-im-feuerwehrmuseum-depot-61-2/
LOCATION:Feuerwehrmuseum DEPOT 61\, Burgstrasse 61\, St. Gallen\, St. Gallen\, 9000\, Switzerland
CATEGORIES:Crashcourse,LiveBand,Party,Teaster
ATTACH;FMTTYPE=image/jpeg:https://swingdanceevents.ch/wp-content/uploads/2025/08/4336c7_b0cc7f28f9a54d66ab8672c2a43bc5c5mv2.jpg
END:VEVENT
BEGIN:VEVENT
DTSTART;TZID=Europe/Zurich:20250907T160000
DTEND;TZID=Europe/Zurich:20250907T190000
DTSTAMP:20260424T115515
CREATED:20250812T145128Z
LAST-MODIFIED:20250812T150449Z
UID:10002866-1757260800-1757271600@swingdanceevents.ch
SUMMARY:Sunday Shag’n’Shuffle
DESCRIPTION:🎉 Social Dancing für Balboa & Collegiate Shag 🌟 \n\nKomm vorbei und schwing die Tanzbeine beim Shag’n’Shuffle Social Dance! 💃🕺 Egal ob Anfänger oder Profi – hier ist für alle etwas dabei\, die schnelle Schuhsohlen lieben und Lust auf einen gemütlichen Tanzevent haben! ✨\n\n📍 Location: Downtownswing Studio\, Hohlstrasse 86a\, 8004 Zürich\n🔗 Mehr Infos: https://shagnshuffle.ch\n\n🎶 Mit DJ:\n      Eintritt: CHF 15.00\n      Mit Legi: CHF 10.00\n\n🎶 Mit Live Band & DJ:\n      Eintritt: CHF 25.00\n      Mit Legi: CHF 20.00\n\nHelfer*innen gesucht! 🙋‍♂️🙋‍♀️\nDu möchtest uns unterstützen und hinter den Kulissen mit anpacken? Dann melde dich als Helfer*in! 💪\nFür Helfende gibt’s den Eintritt + 1 Getränk! 🥤\n\nEinsatzmöglichkeiten:\n⏰ Aufbau (15:00-16:00)\n⏰ Kasse/Eintrittskontrolle 1 (15:45-16:45)\n⏰ Kasse/Eintrittskontrolle 2 (16:45-17:45)\n⏰ Kasse/Eintrittskontrolle 3 (17:45-18:45)\n⏰ Abbau (19:00-20:00)\n\nhttps://portal.helfereinsatz.ch/downtownswing\nDANKE für deine Unterstützung! 🌟\n\nVerpasse nicht den Spass – wir freuen uns auf dich! 🎶💃🕺🎉
URL:https://swingdanceevents.ch/event/sunday-shagnshuffle-8/2025-09-07/
LOCATION:Tanzstudio DOWNTOWNSWING\, Hohlstrasse 86a\, Zürich\, ZH\, 8004\, Switzerland
CATEGORIES:DJ,Party,Socialdance
ATTACH;FMTTYPE=image/jpeg:https://swingdanceevents.ch/wp-content/uploads/2025/08/20250707-Sunday-ShagNSuffle-NEW.jpg
ORGANIZER;CN="Downtownswing":MAILTO:info@downtownswing.ch
END:VEVENT
END:VCALENDAR